Workbook
Name _ftn1: 'Ficha Técnica'!#REF!
Name _ftn2: 'Ficha Técnica'!#REF!
Name _ftnref1: 'Ficha Técnica'!$A$45
Name _ftnref2: 'Ficha Técnica'!$A$49

Sheet INDICE
A3: ANUARIO DE ESTADÍSTICAS VITALES: NACIDOS VIVOS Y DEFUNCIONES 2015
B4: Importante: Leer la Nota técnica Registro de Estadísticas Vitales 2015
A5: 1 | B5: SERIES HISTÓRICAS
A6: 1.1 | B6: SERIE DE NACIDOS VIVOS REGISTRADOS (t+n) A NIVEL NACIONAL PERIODO 1990 - 2015
A7: 1.1.1 | B7: Número de nacidos vivos registrados en t, (t+1) y (t+n). Tasa de natalidad por sexo a nivel nacional. Periodo 1990 - 2015
A8: 1.1.2 | B8: Número de nacidos vivos registrados en t, (t+1) y (t+n), por provincia de nacimiento. Periodo 1990 - 2015
A11: 1.2 | B11: SERIE DE NACIDOS VIVOS REGISTRADOS (t+1) A NIVEL NACIONAL PERIODO 1990 - 2015
A12: 1.2.1A | B12: Número de nacidos vivos (t+1), por edades simples de la madre (De 10 a 30 años) a nivel nacional. Periodo 1990 - 2015
A13: 1.2.1B | B13: Número de nacidos vivos (t+1), por edades simples de la madre (De 31 a 50 años) a nivel nacional. Periodo 1990 - 2015
A14: 1.2.2 | B14: Número de nacidos vivos (t+1), por nivel de instrucción de la madre. Periodo 1990 - 2015
A15: 1.2.3 | B15: Número de nacidos vivos (t+1), por producto de embarazo de la madre. Periodo 1990 - 2015
A16: 1.2.4 | B16: Nacidos vivos registrados (t+1), porcentaje de nacimientos según asistencia de personal médico en el parto a nivel nacional Periodo 1990 - 2015
A17: 1.2.5 | B17: Nacidos vivos (t+1), por lugar de ocurrencia a nivel nacional. Periodo 1993 - 2015
A18: 1.2.6 | B18: Número de nacidos vivos registrados (t+1) y tasa específica de madres adolescentes a nivel nacional Periodo 1990 - 2015
A23: 1.3 | B23: SERIE DE NACIDOS VIVOS (t+1) A NIVEL DE PROVINCIA DE RESIDENCIA HABITUAL DE LA MADRE. PERIODO 2008 - 2015
... A70: 1.6.3 | B70: Defunciones fetales, según regiones y provincias de residencia habitual de la madre. Período 2008 - 2015
A74: 2 | B74: GRÁFICOS
A75: 2.1 | B75: NACIDOS VIVOS EN EL AÑO (t+1)
A76: 2.1.1 | B76: Nacidos vivos oportunos en el año ( t+1 ), según regiones de residencia habitual de la madre. Año 2015
A77: 2.1.2 | B77: Nacidos vivos oportunos en el año ( t+1 ), por tipo de asistencia en el parto y áreas, según regiones. Año 2015
A78: 2.1.3 | B78: Nacidos vivos oportunos en el año ( t +1), por grupos de edad de la madre, según regiones de residencia habitual. Año 2015
A79: 2.1.4 | B79: Nacidos vivos oportunos en el año ( t+1 ), según nivel de instrucción de la madre y tipo de asistencia profesional. Año 2015
A84: 2.2 | B84: DEFUNCIONES GENERALES OPORTUNAS EN EL AÑO ( t )
A85: 2.2.1 | B85: Tasas de mortalidad general, masculina, femenina, infantil y razón de mortalidad materna. Período 1990 - 2015
A86: 2.2.2 | B86: Defunciones generales por lugar de ocurrencia del fallecimiento , según tipo de certificación. Año 2015
A87: 2.2.3 | B87: Defunciones generales por tipo de certificación, según regiones. Año 2015
A88: 2.2.4 | B88: Razón de mortalidad materna, según provincias de residencia habitual. Año 2015
A89: 2.2.5 | B89: Principales causas de mortalidad general. Año 2015 (Lista corta de las principales causas de muerte Becker)
A90: 2.2.6 | B90: Principales causas de mortalidad masculina. Año 2015 (Lista corta de las principales causas de muerte Becker)
... A93: 2.2.9 | B93: Principales causas de mortalidad materna. Año 2015 [Lista detallada de la CIE - 10 (Tres dígitos)]
A98: 3 | B98: CUADROS ESTADÍSTICOS
A99: 3.1 | B99: CUADROS ESTADÍSTICOS NACIDOS VIVOS EN EL AÑO ( t +1)
A100: 3.1.1 | B100: Nacidos vivos (t+1), por áreas y sexo, según regiones y provincias de residencia habitual de la madre. Año 2015
A101: 3.1.2 | B101: Nacidos vivos (t+1), por áreas y tipo de asistencia, según regiones y provincias de residencia habitual de la madre. Año 2015
A102: 3.1.3 | B102: Nacidos vivos (t+1), por áreas y tipo de asistencia, según regiones, provincias y cantones de residencia habitual de la madre. Año 2015
A103: 3.1.4 | B103: Nacidos vivos (t+1), por tipo de asistencia, de madre residente y no residente, según regiones, provincias y cantones de acaecimiento. Año 2015
A104: 3.1.5 | B104: Nacidos vivos (t+1), por número de hijos tenidos por la madre, según regiones y provincias de residencia habitual de la madre. Año 2015
A105: 3.1.6 | B105: Nacidos vivos (t+1), por número de hijos tenidos por la madre, según regiones de residencia habitual y grupos de edad de la misma. Año 2015
A106: 3.1.7A | B106: Nacidos vivos (t+1), por grupos de edad de la madre y sexo del nacido vivo, según regiones, provincias y áreas de residencia habitual de la madre. Año 2015
A107: 3.1.7B | B107: Nacidos vivos (t+1), por grupos de edad de la madre y sexo del nacido vivo, según regiones, provincias y áreas de residencia habitual de la madre. Año 2015
...

Sheet Ficha Técnica
A5: FICHA TÉCNICA
A7: OBJETIVOS
A9: El Anuario de estadísticas vitales: Nacido Vivo y defunciones, tiene los siguientes objetivos principales:
A10: - Obtener información sistemática y continúa respecto de la inscripción de nacido vivo y defunciones.
A11: - Dar a conocer a los usuarios, las variables más relevantes en este campo, para la planificación de estrategias socioeconómicas del país.
A12: - Proporcionar a los sectores público y privado, uno de los instrumentos básicos para el análisis demográfico.
A14: UNIDAD DE INVESTIGACIÓN
A15: Constituyen cada uno de los hechos vitales (nacidos vivos, defunciones generales y defunciones fetales) registrados en el país, cada año.
A17: UNIVERSO
A18: El universo en los nacidos vivos y las defunciones fetales comprende el conjunto de cada uno de los hechos vitales mencionados, ocurridos e inscritos en las oficinas de la Dirección General del Registro Civil, Identificación y Cedulación del Ecuador.
A19: El universo de las defunciones generales constituye el conjunto de cada muerte, ocurrida e inscrita en el territorio nacional; incluye las muertes de los ecuatorianos en el exterior que son notificadas a las oficinas de la Dirección General del Registro Civil, Identificación y Cedulación del Ecuador.
A21: FUENTES DE INFORMACIÓN
... A148: Los reportes son sometidos a análisis y revisión para su posterior publicación.

Sheet 1.1.1
B1: Serie 1.1.1
B2: Número de nacidos vivos registrados oportunos (t), registrados (t+1), registrados (t+n) y tasa de natalidad (t+n), por sexo a nivel nacional Periodo 1990 - 2015 | S2: ÍNDICE
B3: Años | C3: Proyecciones de población 1/ | F3: Número de nacidos vivos registrados oportunos (t) 2/ | I3: Número de nacidos vivos registrados (t+1) 3/ | L3: Número de nacidos vivos registrados (t+n) 4/ | O3: Tasa de natalidad 5/
C4: Total | D4: Hombres | E4: Mujeres | F4: Total | G4: Hombres | H4: Mujeres | I4: Total | J4: Hombres | K4: Mujeres | L4: Total | M4: Hombres | N4: Mujeres | O4: Total | P4: Masculina | Q4: Femenina
B5: 1990 | C5: 10149666 | D5: 5098988 | E5: 5050678 | F5: =+SUM(G5,H5) -> 201702 | G5: 103230 | H5: 98472 | I5: 263629 | J5: 134615 | K5: 129014 | L5: 310742 | M5: 157994 | N5: 152748 | O5: =L5/C5*1000 -> 30.615983 | P5: =M5/D5*1000 -> 30.985364 | Q5: =N5/E5*1000 -> 30.243068
B6: 1991 | C6: 10355598 | D6: 5201174 | E6: 5154424 | F6: =+SUM(G6,H6) -> 196562 | G6: 100055 | H6: 96507 | I6: 265581 | J6: 135045 | K6: 130536 | L6: 317700 | M6: 161012 | N6: 156688 | O6: =L6/C6*1000 -> 30.679059 | P6: =M6/D6*1000 -> 30.956857 | Q6: =N6/E6*1000 -> 30.398741
B7: 1992 | C7: 10567946 | D7: 5306547 | E7: 5261399 | F7: =+SUM(G7,H7) -> 198461 | G7: 101046 | H7: 97415 | I7: 269896 | J7: 137135 | K7: 132761 | L7: 324319 | M7: 164180 | N7: 160139 | O7: =L7/C7*1000 -> 30.688934 | P7: =M7/D7*1000 -> 30.93914 | Q7: =N7/E7*1000 -> 30.436582
B8: 1993 | C8: 10786984 | D8: 5415226 | E8: 5371758 | F8: =+SUM(G8,H8) -> 198722 | G8: 101206 | H8: 97516 | I8: 279678 | J8: 142452 | K8: 137226 | L8: 334077 | M8: 169196 | N8: 164881 | O8: =L8/C8*1000 -> 30.970381 | P8: =M8/D8*1000 -> 31.244495 | Q8: =N8/E8*1000 -> 30.694048
B9: 1994 | C9: 11012925 | D9: 5527302 | E9: 5485623 | F9: =+SUM(G9,H9) -> 184526 | G9: 94322 | H9: 90204 | I9: 277625 | J9: 141586 | K9: 136039 | L9: 331179 | M9: 168213 | N9: 162966 | O9: =L9/C9*1000 -> 30.071847 | P9: =M9/D9*1000 -> 30.433112 | Q9: =N9/E9*1000 -> 29.707838
B10: 1995 | C10: 11246107 | D10: 5642924 | E10: 5603183 | F10: =+SUM(G10,H10) -> 181268 | G10: 92096 | H10: 89172 | I10: 271340 | J10: 137920 | K10: 133420 | L10: 329717 | M10: 167205 | N10: 162512 | O10: =L10/C10*1000 -> 29.318323 | P10: =M10/D10*1000 -> 29.630915 | Q10: =N10/E10*1000 -> 29.003515
B11: 1996 | C11: 11486884 | D11: 5762327 | E11: 5724557 | F11: =+SUM(G11,H11) -> 182242 | G11: 93038 | H11: 89204 | I11: 270578 | J11: 138114 | K11: 132464 | L11: 336537 | M11: 170853 | N11: 165684 | O11: =L11/C11*1000 -> 29.297501 | P11: =M11/D11*1000 -> 29.650001 | Q11: =N11/E11*1000 -> 28.942676
B12: 1997 | C12: 11735391 | D12: 5885530 | E12: 5849861 | F12: =+SUM(G12,H12) -> 169869 | G12: 86332 | H12: 83537 | I12: 271758 | J12: 138441 | K12: 133317 | L12: 336619 | M12: 170707 | N12: 165912 | O12: =L12/C12*1000 -> 28.684089 | P12: =M12/D12*1000 -> 29.004525 | Q12: =N12/E12*1000 -> 28.3617
B13: 1998 | C13: 11992073 | D13: 6012789 | E13: 5979284 | F13: =+SUM(G13,H13) -> 199079 | G13: 101862 | H13: 97217 | I13: 275955 | J13: 141217 | K13: 134738 | L13: 321837 | M13: 164061 | N13: 157776 | O13: =L13/C13*1000 -> 26.837478 | P13: =M13/D13*1000 -> 27.285341 | Q13: =N13/E13*1000 -> 26.387106
B14: 1999 | C14: 12257190 | D14: 6144204 | E14: 6112986 | F14: =+SUM(G14,H14) -> 218108 | G14: 111574 | H14: 106534 | I14: 305284 | J14: 155772 | K14: 149512 | L14: 358909 | M14: 182853 | N14: 176056 | O14: =L14/C14*1000 -> 29.281507 | P14: =M14/D14*1000 -> 29.760242 | Q14: =N14/E14*1000 -> 28.800328
B15: 2000 | C15: 12531210 | D15: 6279998 | E15: 6251212 | F15: =+SUM(G15,H15) -> 202257 | G15: 101940 | H15: 100317 | I15: 296149 | J15: 149626 | K15: 146523 | L15: 355326 | M15: 180910 | N15: 174416 | O15: =L15/C15*1000 -> 28.355283 | P15: =M15/D15*1000 -> 28.807334 | Q15: =N15/E15*1000 -> 27.901149
B16: 2001 | C16: 12814503 | D16: 6420387 | E16: 6394116 | F16: =+SUM(G16,H16) -> 192786 | G16: 97516 | H16: 95270 | I16: 278170 | J16: 141058 | K16: 137112 | L16: 344133 | M16: 174865 | N16: 169268 | O16: =L16/C16*1000 -> 26.854963 | P16: =M16/D16*1000 -> 27.235897 | Q16: =N16/E16*1000 -> 26.472463
... B26: 2011 | C26: 15266431 | D26: 7567676 | E26: 7698755 | F26: =+SUM(G26,H26) -> 229780 | G26: 117245 | H26: 112535 | I26: 301106 | J26: 153599 | K26: 147507 | L26: 332642 | M26: 169240 | N26: 163402 | O26: =L26/C26*1000 -> 21.789114 | P26: =M26/D26*1000 -> 22.363537 | Q26: =N26/E26*1000 -> 21.224471
B27: 2012 (sd*) | C27: 15520973 | D27: 7691912 | E27: 7829061 | F27: =+SUM(G27,H27) -> 235237 | G27: 120331 | H27: 114906 | I27: 297309 | J27: 152166 | K27: 145143 | L27: 319227 | M27: 163051 | N27: 156176 | O27: =L27/C27*1000 -> 20.567461 | P27: =M27/D27*1000 -> 21.19772 | Q27: =N27/E27*1000 -> 19.948242
B28: 2013 (sd*) | C28: 15774749 | D28: 7815935 | E28: 7958814 | F28: =+SUM(G28,H28) -> 220896 | G28: 112711 | H28: 108185 | I28: 277620 | J28: 141699 | K28: 135921 | L28: 292659 | M28: 149127 | N28: 143532 | O28: =L28/C28*1000 -> 18.552371 | P28: =M28/D28*1000 -> 19.079867 | Q28: =N28/E28*1000 -> 18.034345
B29: 2014 (sd*) | C29: 16027466 | D29: 7939552 | E29: 8087914 | F29: =+SUM(G29,H29) -> 229476 | G29: 118138 | H29: 111338 | I29: 278460 | J29: 143303 | K29: 135157 | L29: 284203 | M29: 145720 | N29: 138483 | O29: =L29/C29*1000 -> 17.732248 | P29: =M29/D29*1000 -> 18.35368 | Q29: =N29/E29*1000 -> 17.122215
B30: 2015 (p**) | C30: 16278844 | D30: 8062610 | E30: 8216234 | F30: 255.359 | G30: 130.138 | H30: 125.221 | I30: 273280 | J30: 139592 | K30: 133688 | L30: 273280 | M30: 139592 | N30: 133688 | O30: =L30/C30*1000 -> 16.787433 | P30: =M30/D30*1000 -> 17.3135 | Q30: =N30/E30*1000 -> 16.271202
B32: 1/ La proyección de población de los años 1990-2015, corresponde a las estimaciones en base al Censo de Población 2010.
B33: 2/ Nacidos vivos registrados oportunos (t): corresponden a los nacidos vivos ocurridos en el año de estudio e inscritos hasta el 31 de diciembre del mismo año. A excepción del dato 2015 que corresponden a los nacidos vivos ocurridos en el año de estudio e inscritos hasta el 31 de marzo del año siguiente. Fuente Registro estadístico de nacido vivo, años 1990 - 2015
B34: 3/ Nacidos vivos registrados (t+1): corresponden a los nacidos vivos ocurridos en el año de estudio, e inscritos hasta el 31 de diciembre del año siguiente. A excepción del dato 2015 que corresponden a los nacidos vivos ocurridos en el año de estudio e inscritos hasta el 30 de junio del 2016. Fuente: Registro estadístico de nacidos vivos, años 1990 - 2015.
B35: 4/ Nacidos vivos registrados (t+n): corresponden a los nacidos vivos en el periodo de estudio t e inscritos en cualquier periodo posterior hasta el 30 de junio del 2016. Fuente: Dirección General de Registro Civil, Identificación y Cedulación.
B36: 5/ Tasa por 1.000 habitantes.
B37: sd*) cifras semidefinitivas: corresponden a los datos o indicadores que se generan con información de los nacidos vivos ocurridos en el año de estudio e inscritos entre uno y tres años posteriores a la ocurrencia del hecho
B38: p**) cifras provisionales: corresponden a los datos o indicadores que se generan con información de los nacidos vivos ocurridos en el 2015, y que están sujetos a ajustes por registros posteriores.
B39: Importante: Leer la Nota técnica Registro de Estadísticas Vitales 2015 en el siguiente link:
B40: http://www.ecuadorencifras.gob.ec/documentos/web-inec/Poblacion_y_Demografia/Nacimientos_Defunciones/2015/Nota_tecnica_Registro_de_Estadisticas_Vitales_2015.pdf

Sheet 1.1.2
B1: Serie 1.1.2 | P1: Serie 1.1.2
B2: Número de nacidos vivos registrados (t+n) por provincia de nacimiento. Periodo 1990 - 2015 | P2: Número de nacidos vivos ( t+n ) por provincia de nacimiento. Periodo 1990 - 2014
A3: Año | B3: Nacidos vivos (t+n) 1/ | C3: Azuay | D3: Bolívar | E3: Cañar | F3: Carchi | G3: Cotopaxi | H3: Chimborazo | I3: El Oro | J3: Esmeraldas | K3: Guayas | L3: Imbabura | M3: Loja | N3: Los Ríos | O3: Manabí | P3: Morona Santiago | Q3: Napo | R3: Pastaza | S3: Pichincha | T3: Tungurahua | U3: Zamora Chinchipe | V3: Galápagos | W3: Sucumbíos | X3: Orellana | Y3: Santo Domingo de los Tsáchilas | Z3: Santa Elena | AA3: Zonas no delimitadas | AB3: Se ignora | AD3: ÍNDICE
A4: 1990 | B4: =SUM(C4:AB4) -> 310742 | C4: 15860 | D4: 6157 | E4: 5664 | F4: 4665 | G4: 10717 | H4: 12547 | I4: 11891 | J4: 13987 | K4: 69240 | L4: 9185 | M4: 12554 | N4: 17740 | O4: 36587 | P4: 4078 | Q4: 2367 | R4: 1608 | S4: 43969 | T4: 11138 | U4: 2646 | V4: 193 | W4: 3126 | X4: 2042 | Y4: 7375 | Z4: 5336 | AA4: - | AB4: 70
A5: 1991 | B5: =SUM(C5:AB5) -> 317700 | C5: 16521 | D5: 6098 | E5: 5836 | F5: 4517 | G5: 10887 | H5: 12933 | I5: 12671 | J5: 14500 | K5: 71079 | L5: 9322 | M5: 12967 | N5: 18363 | O5: 36133 | P5: 4146 | Q5: 2564 | R5: 1647 | S5: 44964 | T5: 11643 | U5: 2636 | V5: 219 | W5: 3264 | X5: 2098 | Y5: 7404 | Z5: 5220 | AA5: - | AB5: 68
A6: 1992 | B6: =SUM(C6:AB6) -> 324319 | C6: 16666 | D6: 6187 | E6: 5901 | F6: 4564 | G6: 10760 | H6: 12974 | I6: 13349 | J6: 14639 | K6: 73724 | L6: 9773 | M6: 13064 | N6: 18268 | O6: 35939 | P6: 4322 | Q6: 2626 | R6: 1775 | S6: 46219 | T6: 11623 | U6: 2926 | V6: 231 | W6: 3415 | X6: 2277 | Y6: 7858 | Z6: 5165 | AA6: - | AB6: 74
A7: 1993 | B7: =SUM(C7:AB7) -> 334077 | C7: 16586 | D7: 5983 | E7: 5673 | F7: 4548 | G7: 11339 | H7: 12747 | I7: 14321 | J7: 16121 | K7: 76301 | L7: 10384 | M7: 12392 | N7: 18669 | O7: 36992 | P7: 4415 | Q7: 2836 | R7: 1803 | S7: 48471 | T7: 12006 | U7: 2672 | V7: 246 | W7: 3676 | X7: 2441 | Y7: 7867 | Z7: 5541 | AA7: - | AB7: 47
A8: 1994 | B8: =SUM(C8:AB8) -> 331179 | C8: 15977 | D8: 5597 | E8: 5398 | F8: 4226 | G8: 10980 | H8: 12517 | I8: 13995 | J8: 15597 | K8: 76612 | L8: 10723 | M8: 12230 | N8: 18630 | O8: 36450 | P8: 4497 | Q8: 2837 | R8: 1952 | S8: 47944 | T8: 11742 | U8: 2794 | V8: 276 | W8: 3872 | X8: 2675 | Y8: 8081 | Z8: 5531 | AA8: - | AB8: 46
A9: 1995 | B9: =SUM(C9:AB9) -> 329717 | C9: 15945 | D9: 5359 | E9: 5117 | F9: 4085 | G9: 10801 | H9: 12624 | I9: 13934 | J9: 15362 | K9: 76145 | L9: 10719 | M9: 11925 | N9: 18967 | O9: 35668 | P9: 4461 | Q9: 2905 | R9: 1819 | S9: 48878 | T9: 11415 | U9: 2798 | V9: 289 | W9: 4020 | X9: 2871 | Y9: 7991 | Z9: 5585 | AA9: - | AB9: 34
A10: 1996 | B10: =SUM(C10:AB10) -> 336537 | C10: 15594 | D10: 5389 | E10: 4944 | F10: 3991 | G10: 10867 | H10: 12942 | I10: 14629 | J10: 15785 | K10: 79513 | L10: 10737 | M10: 11836 | N10: 19340 | O10: 35490 | P10: 4431 | Q10: 2987 | R10: 2005 | S10: 50304 | T10: 11319 | U10: 2829 | V10: 264 | W10: 4242 | X10: 2879 | Y10: 8332 | Z10: 5854 | AA10: - | AB10: 34
A11: 1997 | B11: =SUM(C11:AB11) -> 336619 | C11: 15955 | D11: 5422 | E11: 5151 | F11: 3991 | G11: 10668 | H11: 11840 | I11: 14712 | J11: 15673 | K11: 80663 | L11: 10959 | M11: 12180 | N11: 19762 | O11: 34706 | P11: 4503 | Q11: 3026 | R11: 1949 | S11: 49629 | T11: 10960 | U11: 3023 | V11: 289 | W11: 4377 | X11: 2926 | Y11: 8410 | Z11: 5804 | AA11: - | AB11: 41
A12: 1998 | B12: =SUM(C12:AB12) -> 321837 | C12: 16360 | D12: 5251 | E12: 5073 | F12: 4093 | G12: 10881 | H12: 12031 | I12: 13467 | J12: 14141 | K12: 72886 | L12: 10811 | M12: 11983 | N12: 17795 | O12: 30604 | P12: 4594 | Q12: 2931 | R12: 2091 | S12: 50992 | T12: 11157 | U12: 2838 | V12: 330 | W12: 4404 | X12: 2905 | Y12: 8630 | Z12: 5528 | AA12: - | AB12: 61
A13: 1999 | B13: =SUM(C13:AB13) -> 358909 | C13: 16848 | D13: 5340 | E13: 5177 | F13: 4045 | G13: 10772 | H13: 11804 | I13: 15894 | J13: 17293 | K13: 87745 | L13: 10781 | M13: 12329 | N13: 22160 | O13: 37261 | P13: 4995 | Q13: 3079 | R13: 2181 | S13: 51374 | T13: 11241 | U13: 3039 | V13: 334 | W13: 4773 | X13: 3178 | Y13: 9805 | Z13: 6961 | AA13: - | AB13: 500
A14: 2000 | B14: =SUM(C14:AB14) -> 355326 | C14: 16192 | D14: 5339 | E14: 4913 | F14: 3926 | G14: 10461 | H14: 12635 | I14: 15760 | J14: 17148 | K14: 85683 | L14: 10725 | M14: 12129 | N14: 22996 | O14: 38496 | P14: 4727 | Q14: 2987 | R14: 2170 | S14: 50172 | T14: 10957 | U14: 2810 | V14: 419 | W14: 4868 | X14: 3303 | Y14: 9633 | Z14: 6773 | AA14: - | AB14: 104
A15: 2001 | B15: =SUM(C15:AB15) -> 344133 | C15: 15461 | D15: 5141 | E15: 4539 | F15: 3816 | G15: 11023 | H15: 12404 | I15: 15013 | J15: 16169 | K15: 80469 | L15: 10806 | M15: 11402 | N15: 21756 | O15: 37795 | P15: 4706 | Q15: 3015 | R15: 2238 | S15: 49719 | T15: 10729 | U15: 2745 | V15: 392 | W15: 4901 | X15: 3314 | Y15: 9364 | Z15: 7082 | AA15: - | AB15: 134
... A25: 2011 | B25: =SUM(C25:AB25) -> 332642 | C25: 15062 | D25: 3687 | E25: 4228 | F25: 2871 | G25: 9206 | H25: 9749 | I25: 13659 | J25: 14044 | K25: 85279 | L25: 9865 | M25: 9900 | N25: 20043 | O25: 30294 | P25: 5461 | Q25: 3311 | R25: 2662 | S25: 51497 | T25: 10308 | U25: 2306 | V25: 390 | W25: 5024 | X25: 4185 | Y25: 11534 | Z25: 8069 | AA25: - | AB25: 8
A26: 2012 (sd*) | B26: =SUM(C26:AB26) -> 319227 | C26: 15255 | D26: 3523 | E26: 4480 | F26: 2820 | G26: 8655 | H26: 9256 | I26: 13225 | J26: 12797 | K26: 80984 | L26: 9059 | M26: 9493 | N26: 18155 | O26: 28098 | P26: 5209 | Q26: 3257 | R26: 2679 | S26: 51409 | T26: 10309 | U26: 2229 | V26: 405 | W26: 5009 | X26: 4416 | Y26: 10935 | Z26: 7561 | AA26: - | AB26: 9
A27: 2013 (sd*) | B27: =SUM(C27:AB27) -> 292659 | C27: 14548 | D27: 3029 | E27: 4140 | F27: 2595 | G27: 8033 | H27: 8609 | I27: 12300 | J27: 10593 | K27: 75017 | L27: 8591 | M27: 8699 | N27: 15440 | O27: 23972 | P27: 4395 | Q27: 2966 | R27: 2344 | S27: 49673 | T27: 9694 | U27: 1827 | V27: 352 | W27: 4642 | X27: 3893 | Y27: 10653 | Z27: 6648 | AA27: - | AB27: 6
A28: 2014 (sd*) | B28: =SUM(C28:AB28) -> 284203 | C28: 14332 | D28: 2783 | E28: 3992 | F28: 2634 | G28: 7486 | H28: 8150 | I28: 12083 | J28: 9509 | K28: 74311 | L28: 8391 | M28: 8453 | N28: 14862 | O28: 22960 | P28: 3945 | Q28: 2756 | R28: 2303 | S28: 48852 | T28: 9453 | U28: 1719 | V28: 286 | W28: 4358 | X28: 3787 | Y28: 10419 | Z28: 6375 | AA28: - | AB28: 4
A29: 2015 (p**) | B29: =SUM(C29:AB29) -> 273280 | C29: 14131 | D29: 2513 | E29: 3974 | F29: 2498 | G29: 6939 | H29: 7829 | I29: 12022 | J29: 8796 | K29: 71659 | L29: 8045 | M29: 7846 | N29: 14472 | O29: 21537 | P29: 3658 | Q29: 2536 | R29: 2169 | S29: 47743 | T29: 9209 | U29: 1481 | V29: 338 | W29: 4042 | X29: 3255 | Y29: 10631 | Z29: 5941 | AA29: 16
A31: 1/ Nacidos vivos registrados (t+n): corresponden a los nacidos vivos en el periodo de estudio t e inscritos en cualquier periodo posterior hasta el 30 de junio del 2016. Fuente: Dirección General de Registro Civil, Identificación y Cedulación.
A32: sd*) cifras semidefinitivas: corresponden a los datos o indicadores que se generan con información de los nacidos vivos ocurridos en el año de estudio e inscritos entre uno y tres años posteriores a la ocurrencia del hecho
A33: p**) cifras provisionales: corresponden a los datos o indicadores que se generan con información de los nacidos vivos ocurridos en el 2015, y que están sujetos a ajustes por registros posteriores.
A34: Importante: Leer la Nota técnica Registro de Estadísticas Vitales 2015 en el siguiente link:
A35: http://www.ecuadorencifras.gob.ec/documentos/web-inec/Poblacion_y_Demografia/Nacimientos_Defunciones/2015/Nota_tecnica_Registro_de_Estadisticas_Vitales_2015.pdf

Sheet 1.2.1A
A1: Serie 1.2.1A
A2: Número de nacidos vivos registrados (t+1) por edades simples de la madre a nivel nacional Periodo 1990 - 2015
A3: Años | B3: Número nacidos vivos (t+1) 1/ | C3: Subtotal | D3: 10 | E3: 11 | F3: 12 | G3: 13 | H3: 14 | I3: 15 | J3: 16 | K3: 17 | L3: 18 | M3: 19 | N3: 20 | O3: 21 | P3: 22 | Q3: 23 | R3: 24 | S3: 25 | T3: 26 | U3: 27 | V3: 28 | W3: 29 | X3: 30 | Z3: ÍNDICE
A4: 1990 | B4: =SUM(C4,'1.2.1B'!B4) -> 263629 | C4: =+SUM(D4:X4) -> 196953 | D4: 0 | E4: 0 | F4: 0 | G4: 0 | H4: 634 | I4: 1746 | J4: 4339 | K4: 7871 | L4: 11717 | M4: 13911 | N4: 16841 | O4: 14666 | P4: 16362 | Q4: 15892 | R4: 15632 | S4: 15021 | T4: 13808 | U4: 12799 | V4: 12576 | W4: 10982 | X4: 12156
A5: 1991 | B5: =SUM(C5,'1.2.1B'!B5) -> 265581 | C5: =+SUM(D5:X5) -> 198803 | D5: 0 | E5: 0 | F5: 0 | G5: 0 | H5: 677 | I5: 1916 | J5: 4661 | K5: 8076 | L5: 11887 | M5: 13455 | N5: 17433 | O5: 15896 | P5: 16192 | Q5: 16392 | R5: 15059 | S5: 14818 | T5: 14158 | U5: 13014 | V5: 12510 | W5: 10491 | X5: 12168
A6: 1992 | B6: =SUM(C6,'1.2.1B'!B6) -> 269896 | C6: =+SUM(D6:X6) -> 201868 | D6: 0 | E6: 0 | F6: 0 | G6: 0 | H6: 741 | I6: 2090 | J6: 4844 | K6: 8742 | L6: 12385 | M6: 13930 | N6: 16920 | O6: 16425 | P6: 17763 | Q6: 16190 | R6: 15251 | S6: 14664 | T6: 13781 | U6: 13258 | V6: 12630 | W6: 10975 | X6: 11279
A7: 1993 | B7: =SUM(C7,'1.2.1B'!B7) -> 279678 | C7: =+SUM(D7:X7) -> 210011 | D7: 0 | E7: 0 | F7: 0 | G7: 0 | H7: 792 | I7: 2312 | J7: 5198 | K7: 9142 | L7: 12709 | M7: 14752 | N7: 17498 | O7: 15944 | P7: 17935 | Q7: 18190 | R7: 15676 | S7: 15203 | T7: 13701 | U7: 13798 | V7: 13357 | W7: 11437 | X7: 12367
A8: 1994 | B8: =SUM(C8,'1.2.1B'!B8) -> 277625 | C8: =+SUM(D8:X8) -> 208729 | D8: 0 | E8: 0 | F8: 0 | G8: 0 | H8: 945 | I8: 2419 | J8: 5502 | K8: 9389 | L8: 13073 | M8: 14601 | N8: 17872 | O8: 15855 | P8: 17212 | Q8: 17602 | R8: 16855 | S8: 14436 | T8: 13708 | U8: 12774 | V8: 13058 | W8: 11396 | X8: 12032
A9: 1995 | B9: =SUM(C9,'1.2.1B'!B9) -> 271340 | C9: =+SUM(D9:X9) -> 203933 | D9: 0 | E9: 0 | F9: 0 | G9: 1 | H9: 886 | I9: 2617 | J9: 5479 | K9: 9450 | L9: 13076 | M9: 14874 | N9: 17093 | O9: 15622 | P9: 16868 | Q9: 16399 | R9: 15582 | S9: 15288 | T9: 13153 | U9: 12266 | V9: 12507 | W9: 11010 | X9: 11762
A10: 1996 | B10: =SUM(C10,'1.2.1B'!B10) -> 270578 | C10: =+SUM(D10:X10) -> 203321 | D10: 0 | E10: 0 | F10: 0 | G10: 0 | H10: 911 | I10: 2551 | J10: 5873 | K10: 9464 | L10: 13350 | M10: 15145 | N10: 17374 | O10: 15204 | P10: 16500 | Q10: 16225 | R10: 15302 | S10: 14793 | T10: 14088 | U10: 11909 | V10: 12242 | W10: 10826 | X10: 11564
A11: 1997 | B11: =SUM(C11,'1.2.1B'!B11) -> 271758 | C11: =+SUM(D11:X11) -> 203978 | D11: 0 | E11: 0 | F11: 0 | G11: 0 | H11: 794 | I11: 2267 | J11: 5377 | K11: 9761 | L11: 13518 | M11: 15416 | N11: 17813 | O11: 15763 | P11: 16412 | Q11: 16395 | R11: 15037 | S11: 14458 | T11: 13650 | U11: 13455 | V11: 11948 | W11: 10726 | X11: 11188
A12: 1998 | B12: =SUM(C12,'1.2.1B'!B12) -> 275955 | C12: =+SUM(D12:X12) -> 209199 | D12: 0 | E12: 0 | F12: 3 | G12: 14 | H12: 929 | I12: 2669 | J12: 5827 | K12: 10421 | L12: 14808 | M12: 15764 | N12: 18658 | O12: 16373 | P12: 17006 | Q12: 16149 | R12: 15345 | S12: 14277 | T12: 13350 | U12: 12926 | V12: 13043 | W12: 10456 | X12: 11181
A13: 1999 | B13: =SUM(C13,'1.2.1B'!B13) -> 305284 | C13: =+SUM(D13:X13) -> 229717 | D13: 0 | E13: 0 | F13: 10 | G13: 63 | H13: 721 | I13: 3267 | J13: 6538 | K13: 11193 | L13: 15645 | M13: 17907 | N13: 20442 | O13: 18008 | P13: 18726 | Q13: 17784 | R13: 16636 | S13: 15977 | T13: 14298 | U13: 13601 | V13: 14137 | W13: 12475 | X13: 12289
A14: 2000 | B14: =SUM(C14,'1.2.1B'!B14) -> 296149 | C14: =+SUM(D14:X14) -> 220274 | D14: 0 | E14: 0 | F14: 25 | G14: 85 | H14: 1002 | I14: 2866 | J14: 6103 | K14: 10486 | L14: 14909 | M14: 16738 | N14: 20064 | O14: 17308 | P14: 18163 | Q14: 17116 | R14: 15923 | S14: 15062 | T14: 14110 | U14: 13066 | V14: 13037 | W14: 11904 | X14: 12307
A15: 2001 | B15: =SUM(C15,'1.2.1B'!B15) -> 278170 | C15: =+SUM(D15:X15) -> 206980 | D15: 0 | E15: 0 | F15: 27 | G15: 150 | H15: 817 | I15: 2742 | J15: 6174 | K15: 9788 | L15: 13733 | M15: 15610 | N15: 18365 | O15: 17472 | P15: 17172 | Q15: 16508 | R15: 14898 | S15: 14072 | T15: 13251 | U15: 12217 | V15: 12101 | W15: 10495 | X15: 11388
... A28: 2014 | B28: =SUM(C28,'1.2.1B'!B28) -> 278460 | C28: =+SUM(D28:X28) -> 206878 | D28: 0 | E28: 13 | F28: 58 | G28: 383 | H28: 1705 | I28: 4324 | J28: 7765 | K28: 11712 | L28: 14287 | M28: 15881 | N28: 16210 | O28: 16130 | P28: 14983 | Q28: 14253 | R28: 13864 | S28: 13664 | T28: 13527 | U28: 12757 | V28: 12228 | W28: 12068 | X28: 11066
A29: 2015 (p**) | B29: =SUM(C29,'1.2.1B'!B29) -> 273280 | C29: =+SUM(D29:X29) -> 203483 | E29: 10 | F29: 74 | G29: 415 | H29: 1788 | I29: 4945 | J29: 8748 | K29: 11485 | L29: 14238 | M29: 15667 | N29: 15507 | O29: 14980 | P29: 14755 | Q29: 13820 | R29: 13403 | S29: 13164 | T29: 12980 | U29: 12499 | V29: 12313 | W29: 11609 | X29: 11083
A31: 1/ Nacidos vivos registrados (t+1): corresponden a los nacidos vivos ocurridos en el año de estudio, e inscritos hasta el 31 de diciembre del año siguiente. A excepción del dato 2015 que corresponden a los nacidos vivos ocurridos en el año de estudio e inscritos hasta el 30 de junio del 2016. Fuente: Registro estadístico de nacidos vivos, años 1990 - 2015.
A32: p**) cifras provisionales: corresponden a los datos o indicadores que se generan con información de los nacidos vivos ocurridos en el 2015, y que están sujetos a ajustes por registros posteriores.
A33: Importante: Leer la Nota técnica Registro de Estadísticas Vitales 2015 en el siguiente link:
A34: http://www.ecuadorencifras.gob.ec/documentos/web-inec/Poblacion_y_Demografia/Nacimientos_Defunciones/2015/Nota_tecnica_Registro_de_Estadisticas_Vitales_2015.pdf

Sheet 1.2.1B
A1: Serie 1.2.1B
A2: Número de nacidos vivos registrdos (t+1) por edades simples de la madre (De 31 a 50 años) a nivel nacional Periodo 1990 - 2015 | Y2: ÍNDICE
A3: Años | B3: Subtotal | C3: 31 | D3: 32 | E3: 33 | F3: 34 | G3: 35 | H3: 36 | I3: 37 | J3: 38 | K3: 39 | L3: 40 | M3: 41 | N3: 42 | O3: 43 | P3: 44 | Q3: 45 | R3: 46 | S3: 47 | T3: 48 | U3: 49 | V3: 50 | W3: Edad ignorada
A4: 1990 | B4: =+SUM(C4:W4) -> 66676 | C4: 8118 | D4: 8420 | E4: 7096 | F4: 6523 | G4: 6440 | H4: 5425 | I4: 4447 | J4: 4194 | K4: 3432 | L4: 3406 | M4: 1921 | N4: 1833 | O4: 1312 | P4: 972 | Q4: 788 | R4: 416 | S4: 258 | T4: 238 | U4: 195 | V4: 370 | W4: 872
A5: 1991 | B5: =+SUM(C5:W5) -> 66778 | C5: 8947 | D5: 8521 | E5: 7019 | F5: 6338 | G5: 6083 | H5: 5592 | I5: 4418 | J5: 4148 | K5: 3203 | L5: 3259 | M5: 2081 | N5: 1843 | O5: 1243 | P5: 825 | Q5: 679 | R5: 385 | S5: 215 | T5: 171 | U5: 152 | V5: 320 | W5: 1336
A6: 1992 | B6: =+SUM(C6:W6) -> 68028 | C6: 8447 | D6: 9812 | E6: 7186 | F6: 6284 | G6: 5967 | H6: 5288 | I6: 4598 | J6: 4278 | K6: 3288 | L6: 2947 | M6: 2064 | N6: 2100 | O6: 1223 | P6: 857 | Q6: 637 | R6: 353 | S6: 204 | T6: 182 | U6: 119 | V6: 307 | W6: 1887
A7: 1993 | B7: =+SUM(C7:W7) -> 69667 | C7: 8422 | D7: 9490 | E7: 8376 | F7: 6744 | G7: 6078 | H7: 5429 | I7: 4601 | J7: 4434 | K7: 3527 | L7: 3025 | M7: 1847 | N7: 1997 | O7: 1423 | P7: 824 | Q7: 654 | R7: 340 | S7: 194 | T7: 181 | U7: 106 | V7: 307 | W7: 1668
A8: 1994 | B8: =+SUM(C8:W8) -> 68896 | C8: 8448 | D8: 9129 | E8: 7792 | F8: 7499 | G8: 5901 | H8: 5266 | I8: 4457 | J8: 4275 | K8: 3495 | L8: 3109 | M8: 1902 | N8: 1652 | O8: 1286 | P8: 921 | Q8: 573 | R8: 319 | S8: 196 | T8: 155 | U8: 134 | V8: 290 | W8: 2097
A9: 1995 | B9: =+SUM(C9:W9) -> 67407 | C9: 8166 | D9: 8900 | E9: 7221 | F9: 6678 | G9: 6468 | H9: 4898 | I9: 4239 | J9: 4177 | K9: 3218 | L9: 3052 | M9: 1801 | N9: 1742 | O9: 1145 | P9: 823 | Q9: 688 | R9: 317 | S9: 172 | T9: 151 | U9: 120 | V9: 210 | W9: 3221
A10: 1996 | B10: =+SUM(C10:W10) -> 67257 | C10: 8303 | D10: 8748 | E10: 7591 | F10: 6539 | G10: 6106 | H10: 5616 | I10: 4191 | J10: 3921 | K10: 3108 | L10: 2898 | M10: 1861 | N10: 1683 | O10: 1232 | P10: 792 | Q10: 561 | R10: 360 | S10: 188 | T10: 152 | U10: 138 | V10: 201 | W10: 3068
A11: 1997 | B11: =+SUM(C11:W11) -> 67780 | C11: 8508 | D11: 8919 | E11: 7599 | F11: 6870 | G11: 5877 | H11: 5481 | I11: 4918 | J11: 4142 | K11: 3250 | L11: 3000 | M11: 1815 | N11: 1709 | O11: 1227 | P11: 781 | Q11: 583 | R11: 309 | S11: 225 | T11: 151 | U11: 106 | V11: 157 | W11: 2153
A12: 1998 | B12: =+SUM(C12:W12) -> 66756 | C12: 7966 | D12: 8751 | E12: 7574 | F12: 6664 | G12: 6082 | H12: 5095 | I12: 4648 | J12: 4542 | K12: 3035 | L12: 2829 | M12: 1692 | N12: 1600 | O12: 1069 | P12: 751 | Q12: 526 | R12: 282 | S12: 184 | T12: 157 | U12: 128 | V12: 167 | W12: 3014
A13: 1999 | B13: =+SUM(C13:W13) -> 75567 | C13: 8931 | D13: 9281 | E13: 8437 | F13: 7445 | G13: 6657 | H13: 5828 | I13: 4692 | J13: 4670 | K13: 3878 | L13: 3094 | M13: 1904 | N13: 1777 | O13: 1208 | P13: 843 | Q13: 590 | R13: 315 | S13: 193 | T13: 162 | U13: 228 | V13: 54 | W13: 5380
A14: 2000 | B14: =+SUM(C14:W14) -> 75875 | C14: 8545 | D14: 9113 | E14: 7738 | F14: 6861 | G14: 6549 | H14: 5694 | I14: 4735 | J14: 4360 | K14: 3594 | L14: 3142 | M14: 1726 | N14: 1592 | O14: 1169 | P14: 715 | Q14: 587 | R14: 327 | S14: 195 | T14: 147 | U14: 250 | V14: - | W14: 8836
A15: 2001 | B15: =+SUM(C15:W15) -> 71190 | C15: 8870 | D15: 8431 | E15: 7329 | F15: 6461 | G15: 5996 | H15: 5450 | I15: 4440 | J15: 4228 | K15: 3123 | L15: 2946 | M15: 1921 | N15: 1600 | O15: 1028 | P15: 670 | Q15: 522 | R15: 302 | S15: 148 | T15: 115 | U15: 187 | V15: - | W15: 7423
A16: 2002 | B16: =+SUM(C16:W16) -> 69386 | C16: 8239 | D16: 8989 | E16: 6982 | F16: 6270 | G16: 5707 | H16: 5187 | I16: 4523 | J16: 4113 | K16: 3182 | L16: 2788 | M16: 1858 | N16: 1750 | O16: 969 | P16: 601 | Q16: 459 | R16: 237 | S16: 163 | T16: 125 | U16: 238 | V16: - | W16: 7006
A17: 2003 | B17: =+SUM(C17:W17) -> 66431 | C17: 7372 | D17: 8252 | E17: 7304 | F17: 5789 | G17: 5297 | H17: 4754 | I17: 4327 | J17: 3983 | K17: 3060 | L17: 2666 | M17: 1616 | N17: 1511 | O17: 1123 | P17: 586 | Q17: 432 | R17: 253 | S17: 161 | T17: 133 | U17: 214 | V17: - | W17: 7598
A18: 2004 | B18: =+SUM(C18:W18) -> 64435 | C18: 7171 | D18: 7428 | E18: 6755 | F18: 6075 | G18: 5029 | H18: 4520 | I18: 3935 | J18: 3687 | K18: 3067 | L18: 2725 | M18: 1551 | N18: 1415 | O18: 986 | P18: 732 | Q18: 420 | R18: 245 | S18: 146 | T18: 100 | U18: 145 | V18: - | W18: 8303
A19: 2005 | B19: =+SUM(C19:W19) -> 62761 | C19: 7215 | D19: 7316 | E19: 6565 | F19: 5974 | G19: 5537 | H19: 4491 | I19: 3878 | J19: 3626 | K19: 3019 | L19: 2495 | M19: 1559 | N19: 1430 | O19: 951 | P19: 651 | Q19: 494 | R19: 224 | S19: 135 | T19: 112 | U19: 188 | V19: - | W19: 6901
A20: 2006 | B20: =+SUM(C20:W20) -> 67607 | C20: 7994 | D20: 8215 | E20: 7180 | F20: 6197 | G20: 5795 | H20: 5261 | I20: 4098 | J20: 3825 | K20: 3028 | L20: 2593 | M20: 1593 | N20: 1473 | O20: 965 | P20: 571 | Q20: 473 | R20: 292 | S20: 141 | T20: 103 | U20: 223 | V20: - | W20: 7587
A21: 2007 | B21: =+SUM(C21:W21) -> 67617 | C21: 8097 | D21: 8277 | E21: 7078 | F21: 6248 | G21: 5628 | H21: 5166 | I21: 4495 | J21: 3672 | K21: 3163 | L21: 2580 | M21: 1637 | N21: 1460 | O21: 931 | P21: 575 | Q21: 389 | R21: 219 | S21: 143 | T21: 111 | U21: 225 | V21: - | W21: 7523
A22: 2008 | B22: =+SUM(C22:W22) -> 69227 | C22: 8626 | D22: 8674 | E22: 7506 | F22: 6559 | G22: 5792 | H22: 4985 | I22: 4423 | J22: 4134 | K22: 2953 | L22: 2622 | M22: 1602 | N22: 1422 | O22: 946 | P22: 614 | Q22: 399 | R22: 190 | S22: 138 | T22: 128 | U22: 154 | V22: - | W22: 7360
A23: 2009 | B23: =+SUM(C23:W23) -> 69349 | C23: 9132 | D23: 9136 | E23: 7541 | F23: 6678 | G23: 6137 | H23: 5017 | I23: 4387 | J23: 4198 | K23: 3395 | L23: 2635 | M23: 1578 | N23: 1399 | O23: 901 | P23: 599 | Q23: 366 | R23: 196 | S23: 116 | T23: 82 | U23: 141 | V23: - | W23: 5715
A24: 2010 | B24: =+SUM(C24:W24) -> 68066 | C24: 9398 | D24: 9067 | E24: 8086 | F24: 6757 | G24: 6181 | H24: 5116 | I24: 4357 | J24: 3953 | K24: 3355 | L24: 2605 | M24: 1567 | N24: 1381 | O24: 790 | P24: 514 | Q24: 349 | R24: 185 | S24: 95 | T24: 94 | U24: 111 | V24: - | W24: 4105
A25: 2011 | B25: =+SUM(C25:W25) -> 71681 | C25: 10357 | D25: 9622 | E25: 8420 | F25: 7069 | G25: 6353 | H25: 5449 | I25: 4698 | J25: 4176 | K25: 3279 | L25: 2592 | M25: 1711 | N25: 1346 | O25: 895 | P25: 555 | Q25: 336 | R25: 178 | S25: 89 | T25: 56 | U25: 90 | V25: - | W25: 4410
A26: 2012 | B26: =+SUM(C26:W26) -> 72081 | C26: 10548 | D26: 9806 | E26: 8558 | F26: 7345 | G26: 6363 | H26: 5521 | I26: 4808 | J26: 4103 | K26: 3307 | L26: 2621 | M26: 1731 | N26: 1303 | O26: 839 | P26: 494 | Q26: 285 | R26: 164 | S26: 89 | T26: 68 | U26: 92 | V26: - | W26: 4036
A27: 2013 | B27: =+SUM(C27:W27) -> 70703 | C27: 10198 | D27: 9568 | E27: 8582 | F27: 7321 | G27: 6595 | H27: 5584 | I27: 4610 | J27: 3985 | K27: 3174 | L27: 2603 | M27: 1923 | N27: 1410 | O27: 950 | P27: 563 | Q27: 303 | R27: 178 | S27: 106 | T27: 82 | U27: 80 | V27: 0 | W27: 2888
A28: 2014 | B28: =+SUM(C28:W28) -> 71582 | C28: 10296 | D28: 9769 | E28: 8776 | F28: 7934 | G28: 7231 | H28: 6234 | I28: 4993 | J28: 4277 | K28: 3408 | L28: 2679 | M28: 2030 | N28: 1435 | O28: 940 | P28: 618 | Q28: 335 | R28: 176 | S28: 85 | T28: 70 | U28: 48 | V28: 0 | W28: 248
A29: 2015 (p**) | B29: =+SUM(C29:W29) -> 69797 | C29: 9823 | D29: 9256 | E29: 8415 | F29: 7547 | G29: 6845 | H29: 5863 | I29: 4784 | J29: 3940 | K29: 3015 | L29: 2435 | M29: 1788 | N29: 1223 | O29: 734 | P29: 465 | Q29: 235 | R29: 130 | S29: 62 | T29: 57 | U29: 30 | W29: 3150
A31: 1/ Nacidos vivos registrados (t+1): corresponden a los nacidos vivos ocurridos en el año de estudio, e inscritos hasta el 31 de diciembre del año siguiente. A excepción del dato 2015 que corresponden a los nacidos vivos ocurridos en el año de estudio e inscritos hasta el 30 de junio del 2016. Fuente: Registro estadístico de nacidos vivos, años 1990 - 2015.
A32: p**) cifras provisionales: corresponden a los datos o indicadores que se generan con información de los nacidos vivos ocurridos en el 2015, y que están sujetos a ajustes por registros posteriores.
A33: Importante: Leer la Nota técnica Registro de Estadísticas Vitales 2015 en el siguiente link:
A34: http://www.ecuadorencifras.gob.ec/documentos/web-inec/Poblacion_y_Demografia/Nacimientos_Defunciones/2015/Nota_tecnica_Registro_de_Estadisticas_Vitales_2015.pdf

Sheet 1.2.2
A1: Serie 1.2.2
A2: Número de nacidos vivos registrados (t+1) por nivel de instrucción de la madre Periodo 1990 - 2015 | N2: ÍNDICE
A3: Año | B3: Nacidos vivos (t+1) 1/ | C3: Nivel de instrucción alcanzado
C4: Ninguno | D4: Centro de Alfabetización | E4: Primaria | F4: Secundaria | G4: Eduacación Básica | H4: Educación Media | I4: Ciclo Post Bachillerato | J4: Superior | K4: Postgrado | L4: Se Ignora
A5: 1990 | B5: =SUM(C5:L5) -> 263629 | C5: 1546 | D5: 2552 | E5: 127114 | F5: 69083 | G5: - | H5: - | I5: - | J5: 20707 | K5: - | L5: 42627
A6: 1991 | B6: =SUM(C6:L6) -> 265581 | C6: 1244 | D6: 2213 | E6: 127269 | F6: 73305 | G6: - | H6: - | I6: - | J6: 20915 | K6: - | L6: 40635
A7: 1992 | B7: =SUM(C7:L7) -> 269896 | C7: 1202 | D7: 1989 | E7: 127698 | F7: 75848 | G7: - | H7: - | I7: - | J7: 22326 | K7: - | L7: 40833
A8: 1993 | B8: =SUM(C8:L8) -> 279678 | C8: 1220 | D8: 2090 | E8: 131263 | F8: 80781 | G8: - | H8: - | I8: - | J8: 23570 | K8: - | L8: 40754
A9: 1994 | B9: =SUM(C9:L9) -> 277625 | C9: 1391 | D9: 2183 | E9: 129407 | F9: 83165 | G9: - | H9: - | I9: - | J9: 23451 | K9: - | L9: 38028
A10: 1995 | B10: =SUM(C10:L10) -> 271340 | C10: 1187 | D10: 2284 | E10: 121506 | F10: 80692 | G10: - | H10: - | I10: - | J10: 22790 | K10: - | L10: 42881
A11: 1996 | B11: =SUM(C11:L11) -> 270578 | C11: 1054 | D11: 2160 | E11: 120684 | F11: 85103 | G11: - | H11: - | I11: - | J11: 23132 | K11: - | L11: 38445
A12: 1997 | B12: =SUM(C12:L12) -> 271758 | C12: 955 | D12: 2224 | E12: 121241 | F12: 88018 | G12: - | H12: - | I12: - | J12: 23768 | K12: - | L12: 35552
A13: 1998 | B13: =SUM(C13:L13) -> 275955 | C13: 1401 | D13: 2659 | E13: 121874 | F13: 90523 | G13: - | H13: - | I13: - | J13: 24246 | K13: - | L13: 35252
A14: 1999 | B14: =SUM(C14:L14) -> 305284 | C14: 2146 | D14: 2764 | E14: 133093 | F14: 101666 | G14: - | H14: - | I14: - | J14: 25488 | K14: - | L14: 40127
A15: 2000 | B15: =SUM(C15:L15) -> 296149 | C15: 2082 | D15: 2475 | E15: 124192 | F15: 98277 | G15: - | H15: - | I15: - | J15: 26774 | K15: - | L15: 42349
A16: 2001 | B16: =SUM(C16:L16) -> 278170 | C16: 1663 | D16: 1914 | E16: 114377 | F16: 93361 | G16: - | H16: - | I16: - | J16: 27048 | K16: - | L16: 39807
... A23: 2008 | B23: =SUM(C23:L23) -> 291055 | C23: 2734 | D23: 86119 | E23: 78988 | F23: 20414 | G23: - | H23: - | I23: - | J23: 17422 | K23: - | L23: 85378
A24: 2009 | B24: =SUM(C24:L24) -> 298337 | C24: 3191 | D24: 64026 | E24: 94710 | F24: 38803 | G24: 5765 | H24: 4422 | I24: 1093 | J24: 21473 | K24: 91 | L24: 64763
A25: 2010 | B25: =SUM(C25:L25) -> 292375 | C25: 5325 | D25: 1392 | E25: 96115 | F25: 100105 | G25: 10901 | H25: 9521 | I25: 4458 | J25: 39077 | K25: 639 | L25: 24842
A26: 2011 | B26: =SUM(C26:L26) -> 301106 | C26: 4899 | D26: 1236 | E26: 98614 | F26: 112214 | G26: 8247 | H26: 4553 | I26: 4881 | J26: 42241 | K26: 782 | L26: 23439
A27: 2012 | B27: =SUM(C27:L27) -> 297309 | C27: 4323 | D27: 1194 | E27: 92969 | F27: 109488 | G27: 9942 | H27: 4515 | I27: 4846 | J27: 43856 | K27: 948 | L27: 25228
A28: 2013 | B28: =SUM(C28:L28) -> 277620 | C28: 2579 | D28: 1143 | E28: 80641 | F28: 104223 | G28: 13582 | H28: 4638 | I28: 6398 | J28: 44267 | K28: 906 | L28: 19243
A29: 2014 | B29: =SUM(C29:L29) -> 278460 | C29: 612 | D29: 898 | E29: 70842 | F29: 84939 | G29: 20518 | H29: 30504 | I29: 4157 | J29: 45439 | K29: 852 | L29: 19699
A30: 2015 (p**) | B30: =SUM(C30:L30) -> 273280 | C30: 1291 | D30: 755 | E30: 57849 | F30: 80224 | G30: 19305 | H30: 45566 | I30: 3403 | J30: 46162 | K30: 775 | L30: 17950
A32: 1/ Nacidos vivos registrados (t+1): corresponden a los nacidos vivos ocurridos en el año de estudio, e inscritos hasta el 31 de diciembre del año siguiente. A excepción del dato 2015 que corresponden a los nacidos vivos ocurridos en el año de estudio e inscritos hasta el 30 de junio del 2016. Fuente: Registro estadístico de nacidos vivos, años 1990 - 2015.
A33: p**) cifras provisionales: corresponden a los datos o indicadores que se generan con información de los nacidos vivos ocurridos en el 2015, y que están sujetos a ajustes por registros posteriores.
A34: Importante: Leer la Nota técnica Registro de Estadísticas Vitales 2015 en el siguiente link:
A35: http://www.ecuadorencifras.gob.ec/documentos/web-inec/Poblacion_y_Demografia/Nacimientos_Defunciones/2015/Nota_tecnica_Registro_de_Estadisticas_Vitales_2015.pdf

Sheet 1.2.3
A1: Serie 1.2.3
A2: Número de nacidos vivos registrados (t+1) por producto de embarazo de la madre Periodo 1990 - 2015 | I2: INDICE
A3: Año | B3: Nacidos vivos (t+1) 1/ | C3: Producto de embarazo
C4: Simple | D4: Doble | E4: Triple | F4: Cuadruple o más | G4: Ignorado
A5: 1990 | B5: =SUM(C5:G5) -> 263629 | C5: 260674 | D5: 2916 | E5: 38 | F5: - | G5: 1
A6: 1991 | B6: =SUM(C6:G6) -> 265581 | C6: 262929 | D6: 2592 | E6: 56 | F6: 4 | G6: -
A7: 1992 | B7: =SUM(C7:G7) -> 269896 | C7: 267154 | D7: 2683 | E7: 54 | F7: 5 | G7: -
A8: 1993 | B8: =SUM(C8:G8) -> 279678 | C8: 276811 | D8: 2772 | E8: 62 | F8: 33 | G8: -
A9: 1994 | B9: =SUM(C9:G9) -> 277625 | C9: 275098 | D9: 2412 | E9: 74 | F9: 41 | G9: -
A10: 1995 | B10: =SUM(C10:G10) -> 271340 | C10: 268767 | D10: 2448 | E10: 60 | F10: 65 | G10: -
A11: 1996 | B11: =SUM(C11:G11) -> 270578 | C11: 267979 | D11: 2493 | E11: 71 | F11: 35 | G11: -
A12: 1997 | B12: =SUM(C12:G12) -> 271758 | C12: 269280 | D12: 2371 | E12: 55 | F12: 52 | G12: -
A13: 1998 | B13: =SUM(C13:G13) -> 275955 | C13: 273631 | D13: 2221 | E13: 66 | F13: 37 | G13: -
A14: 1999 | B14: =SUM(C14:G14) -> 305284 | C14: 302532 | D14: 2637 | E14: 66 | F14: 49 | G14: -
A15: 2000 | B15: =SUM(C15:G15) -> 296149 | C15: 293534 | D15: 2445 | E15: 91 | F15: 79 | G15: -
A16: 2001 | B16: =SUM(C16:G16) -> 278170 | C16: 275591 | D16: 2428 | E16: 76 | F16: 75 | G16: -
A17: 2002 | B17: =SUM(C17:G17) -> 275300 | C17: 272743 | D17: 2372 | E17: 76 | F17: 109 | G17: -
A18: 2003 | B18: =SUM(C18:G18) -> 262004 | C18: 259673 | D18: 2226 | E18: 75 | F18: 30 | G18: -
A19: 2004 | B19: =SUM(C19:G19) -> 254362 | C19: 252150 | D19: 2104 | E19: 52 | F19: 55 | G19: 1
A20: 2005 | B20: =SUM(C20:G20) -> 252725 | C20: 250608 | D20: 1975 | E20: 68 | F20: 65 | G20: 9
A21: 2006 | B21: =SUM(C21:G21) -> 278591 | C21: 276317 | D21: 2064 | E21: 79 | F21: 98 | G21: 33
A22: 2007 | B22: =SUM(C22:G22) -> 283984 | C22: 281780 | D22: 2033 | E22: 87 | F22: 80 | G22: 4
A23: 2008 | B23: =SUM(C23:G23) -> 291055 | C23: 288381 | D23: 2576 | E23: 68 | F23: 30 | G23: -
A24: 2009 | B24: =SUM(C24:G24) -> 298337 | C24: 295468 | D24: 2747 | E24: 67 | F24: 55 | G24: -
A25: 2010 | B25: =SUM(C25:G25) -> 292375 | C25: 289350 | D25: 2772 | E25: 93 | F25: 160 | G25: -
A26: 2011 | B26: =SUM(C26:G26) -> 301106 | C26: 297633 | D26: 2902 | E26: 176 | F26: 395 | G26: -
A27: 2012 | B27: =SUM(C27:G27) -> 297309 | C27: 293211 | D27: 3780 | E27: 217 | F27: 101 | G27: -
A28: 2013 | B28: =SUM(C28:G28) -> 277620 | C28: 273853 | D28: 3657 | E28: 106 | F28: 4 | G28: -
A29: 2014 | B29: =SUM(C29:G29) -> 278460 | C29: 274497 | D29: 3839 | E29: 114 | F29: 10 | G29: -
A30: 2015 (p**) | B30: =SUM(C30:G30) -> 273280 | C30: 266299 | D30: 3830 | E30: 77 | F30: 19 | G30: 3055
A32: 1/ Nacidos vivos registrados (t+1): corresponden a los nacidos vivos ocurridos en el año de estudio, e inscritos hasta el 31 de diciembre del año siguiente. A excepción del dato 2015 que corresponden a los nacidos vivos ocurridos en el año de estudio e inscritos hasta el 30 de junio del 2016. Fuente: Registro estadístico de nacidos vivos, años 1990 - 2015.
A33: p**) cifras provisionales: corresponden a los datos o indicadores que se generan con información de los nacidos vivos ocurridos en el 2015, y que están sujetos a ajustes por registros posteriores.
A34: Importante: Leer la Nota técnica Registro de Estadísticas Vitales 2015 en el siguiente link:
A35: http://www.ecuadorencifras.gob.ec/documentos/web-inec/Poblacion_y_Demografia/Nacimientos_Defunciones/2015/Nota_tecnica_Registro_de_Estadisticas_Vitales_2015.pdf

Sheet 1.2.4
A1: Serie 1.2.4
A2: Nacidos vivos registrados (t+1), porcentaje de nacimientos según asistencia de personal médico en el parto a nivel nacional Periodo 1990 - 2015 | AT2: INDICE
A3: Años | B3: Nacidos vivos asistidos por personal médico, según edad de la madre (Grupos quinquenales) 2/ | M3: Nacidos vivos asistidos por personal no médico, según edad de la madre (Grupos quinquenales) 3/ | X3: Nacimientos según edad de la madre Grupos quinquenales 4/ | AJ3: Porcentaje de nacimientos, según asistencia de personal médico en el parto (Grupos quinquenales) 5/
B4: Total | C4: 10 -14 años | D4: 15 -19 años | E4: 20 -24 años | F4: 25 -29 años | G4: 30 -34 años | H4: 35 -39 años | I4: 40 -44 años | J4: 45 -49 años | K4: >= 50 años | L4: Edad ignorada | M4: Total | N4: 10 -14 años | O4: 15 -19 años | P4: 20 -24 años | Q4: 25 -29 años | R4: 30 -34 años | S4: 35 -39 años | T4: 40 -44 años | U4: 45 -49 años | V4: >= 50 años | W4: Edad ignorada | X4: Total | Y4: 10 -14 años | Z4: 15 -19 años | AA4: 20 -24 años | AB4: 25 -29 años | AC4: 30 -34 años | AD4: 35 -39 años | AE4: 40 -44 años | AF4: 45 -49 años | AG4: >= 50 años | AH4: Edad ignorada | AI4: Total nacional | AJ4: 10 -14 años | AK4: 15 -19 años | AL4: 20 -24 años | AM4: 25 -29 años | AN4: 30 -34 años | AO4: 35 -39 años | AP4: 40 -44 años | AQ4: 45 -49 años | AR4: >= 50 años | AS4: Edad ignorada
A5: 1990 | B5: =+SUM(C5:L5) -> 153361 | C5: 354 | D5: 23116 | E5: 47992 | F5: 40529 | G5: 24742 | H5: 11869 | I5: 3656 | J5: 613 | K5: 100 | L5: 390 | M5: =+SUM(N5:W5) -> 110268 | N5: 280 | O5: 16468 | P5: 31401 | Q5: 24657 | R5: 17571 | S5: 12069 | T5: 5788 | U5: 1282 | V5: 270 | W5: 482 | X5: =SUM(Y5:AH5) -> 263629 | Y5: =+N5+C5 -> 634 | Z5: =+O5+D5 -> 39584 | AA5: =+P5+E5 -> 79393 | AB5: =+Q5+F5 -> 65186 | AC5: =+R5+G5 -> 42313 | AD5: =+S5+H5 -> 23938 | AE5: =+T5+I5 -> 9444 | AF5: =+U5+J5 -> 1895 | ... AH5: =+W5+L5 -> 872 | AI5: =+B5/X5*100 -> 58.173039 | AJ5: =+C5/Y5*100 -> 55.835962 | AK5: =+D5/Z5*100 -> 58.397332 | AL5: =+E5/AA5*100 -> 60.448654 | AM5: =+F5/AB5*100 -> 62.174393 | AN5: =+G5/AC5*100 -> 58.473755 | AO5: =+H5/AD5*100 -> 49.582254 | AP5: =+I5/AE5*100 -> 38.71241 | ... AS5: =+L5/AH5*100 -> 44.724771
A6: 1991 | B6: =+SUM(C6:L6) -> 156562 | C6: 386 | D6: 23644 | E6: 49411 | F6: 41140 | G6: 25319 | H6: 11802 | I6: 3626 | J6: 500 | K6: 92 | L6: 642 | M6: =+SUM(N6:W6) -> 109019 | N6: 291 | O6: 16351 | P6: 31561 | Q6: 23851 | R6: 17674 | S6: 11642 | T6: 5625 | U6: 1102 | V6: 228 | W6: 694 | X6: =SUM(Y6:AH6) -> 265581 | Y6: =+N6+C6 -> 677 | Z6: =+O6+D6 -> 39995 | AA6: =+P6+E6 -> 80972 | AB6: =+Q6+F6 -> 64991 | AC6: =+R6+G6 -> 42993 | AD6: =+S6+H6 -> 23444 | AE6: =+T6+I6 -> 9251 | AF6: =+U6+J6 -> 1602 | ... AH6: =+W6+L6 -> 1336 | AI6: =+B6/X6*100 -> 58.950753 | AJ6: =+C6/Y6*100 -> 57.016248 | AK6: =+D6/Z6*100 -> 59.11739 | AL6: =+E6/AA6*100 -> 61.022329 | AM6: =+F6/AB6*100 -> 63.301072 | AN6: =+G6/AC6*100 -> 58.890982 | AO6: =+H6/AD6*100 -> 50.341239 | AP6: =+I6/AE6*100 -> 39.195763 | ... AS6: =+L6/AH6*100 -> 48.053892
A7: 1992 | B7: =+SUM(C7:L7) -> 162935 | C7: 444 | D7: 25411 | E7: 51394 | F7: 41994 | G7: 26172 | H7: 12385 | I7: 3777 | J7: 471 | K7: 79 | L7: 808 | M7: =+SUM(N7:W7) -> 106961 | N7: 297 | O7: 16580 | P7: 31155 | Q7: 23314 | R7: 16836 | S7: 11034 | T7: 5414 | U7: 1024 | V7: 228 | W7: 1079 | X7: =SUM(Y7:AH7) -> 269896 | Y7: =+N7+C7 -> 741 | Z7: =+O7+D7 -> 41991 | AA7: =+P7+E7 -> 82549 | AB7: =+Q7+F7 -> 65308 | AC7: =+R7+G7 -> 43008 | AD7: =+S7+H7 -> 23419 | AE7: =+T7+I7 -> 9191 | AF7: =+U7+J7 -> 1495 | ... AH7: =+W7+L7 -> 1887 | AI7: =+B7/X7*100 -> 60.36955 | AJ7: =+C7/Y7*100 -> 59.919028 | AK7: =+D7/Z7*100 -> 60.515349 | AL7: =+E7/AA7*100 -> 62.25878 | AM7: =+F7/AB7*100 -> 64.301464 | AN7: =+G7/AC7*100 -> 60.853795 | AO7: =+H7/AD7*100 -> 52.88441 | AP7: =+I7/AE7*100 -> 41.094549 | ... AS7: =+L7/AH7*100 -> 42.81929
A8: 1993 | B8: =+SUM(C8:L8) -> 173499 | C8: 492 | D8: 27274 | E8: 54327 | F8: 44450 | G8: 28550 | H8: 13028 | I8: 3899 | J8: 524 | K8: 95 | L8: 860 | M8: =+SUM(N8:W8) -> 106179 | N8: 300 | O8: 16839 | P8: 30916 | Q8: 23046 | R8: 16849 | S8: 11041 | T8: 5217 | U8: 951 | V8: 212 | W8: 808 | X8: =SUM(Y8:AH8) -> 279678 | Y8: =+N8+C8 -> 792 | Z8: =+O8+D8 -> 44113 | AA8: =+P8+E8 -> 85243 | AB8: =+Q8+F8 -> 67496 | AC8: =+R8+G8 -> 45399 | AD8: =+S8+H8 -> 24069 | AE8: =+T8+I8 -> 9116 | AF8: =+U8+J8 -> 1475 | ... AH8: =+W8+L8 -> 1668 | AI8: =+B8/X8*100 -> 62.035269 | AJ8: =+C8/Y8*100 -> 62.121212 | AK8: =+D8/Z8*100 -> 61.827579 | AL8: =+E8/AA8*100 -> 63.731919 | AM8: =+F8/AB8*100 -> 65.855754 | AN8: =+G8/AC8*100 -> 62.886848 | AO8: =+H8/AD8*100 -> 54.127716 | AP8: =+I8/AE8*100 -> 42.770952 | ... AS8: =+L8/AH8*100 -> 51.558753
A9: 1994 | B9: =+SUM(C9:L9) -> 175183 | C9: 620 | D9: 28552 | E9: 55118 | F9: 43329 | G9: 28956 | H9: 13066 | I9: 3941 | J9: 504 | K9: 90 | L9: 1007 | M9: =+SUM(N9:W9) -> 102442 | N9: 325 | O9: 16432 | P9: 30278 | Q9: 22043 | R9: 15944 | S9: 10328 | T9: 4929 | U9: 873 | V9: 200 | W9: 1090 | X9: =SUM(Y9:AH9) -> 277625 | Y9: =+N9+C9 -> 945 | Z9: =+O9+D9 -> 44984 | AA9: =+P9+E9 -> 85396 | AB9: =+Q9+F9 -> 65372 | AC9: =+R9+G9 -> 44900 | AD9: =+S9+H9 -> 23394 | AE9: =+T9+I9 -> 8870 | AF9: =+U9+J9 -> 1377 | ... AH9: =+W9+L9 -> 2097 | AI9: =+B9/X9*100 -> 63.100585 | AJ9: =+C9/Y9*100 -> 65.608466 | AK9: =+D9/Z9*100 -> 63.471457 | AL9: =+E9/AA9*100 -> 64.544007 | AM9: =+F9/AB9*100 -> 66.280671 | AN9: =+G9/AC9*100 -> 64.489978 | AO9: =+H9/AD9*100 -> 55.851928 | AP9: =+I9/AE9*100 -> 44.430665 | ... AS9: =+L9/AH9*100 -> 48.020982
A10: 1995 | B10: =+SUM(C10:L10) -> 176187 | C10: 561 | D10: 29816 | E10: 54171 | F10: 43618 | G10: 28444 | H10: 13304 | I10: 4023 | J10: 518 | K10: 82 | L10: 1650 | M10: =+SUM(N10:W10) -> 95153 | N10: 326 | O10: 15680 | P10: 27393 | Q10: 20606 | R10: 14283 | S10: 9696 | T10: 4540 | U10: 930 | V10: 128 | W10: 1571 | X10: =SUM(Y10:AH10) -> 271340 | Y10: =+N10+C10 -> 887 | Z10: =+O10+D10 -> 45496 | AA10: =+P10+E10 -> 81564 | AB10: =+Q10+F10 -> 64224 | AC10: =+R10+G10 -> 42727 | AD10: =+S10+H10 -> 23000 | AE10: =+T10+I10 -> 8563 | AF10: =+U10+J10 -> 1448 | ... AH10: =+W10+L10 -> 3221 | AI10: =+B10/X10*100 -> 64.932188 | AJ10: =+C10/Y10*100 -> 63.2469 | AK10: =+D10/Z10*100 -> 65.535432 | AL10: =+E10/AA10*100 -> 66.41533 | AM10: =+F10/AB10*100 -> 67.915421 | AN10: =+G10/AC10*100 -> 66.571489 | AO10: =+H10/AD10*100 -> 57.843478 | AP10: =+I10/AE10*100 -> 46.981198 | ... AS10: =+L10/AH10*100 -> 51.226327
A11: 1996 | B11: =+SUM(C11:L11) -> 182882 | C11: 603 | D11: 31526 | E11: 55426 | F11: 44969 | G11: 29456 | H11: 14116 | I11: 4253 | J11: 538 | K11: 61 | L11: 1934 | M11: =+SUM(N11:W11) -> 87696 | N11: 308 | O11: 14857 | P11: 25179 | Q11: 18889 | R11: 13289 | S11: 8826 | T11: 4213 | U11: 861 | V11: 140 | W11: 1134 | X11: =SUM(Y11:AH11) -> 270578 | Y11: =+N11+C11 -> 911 | Z11: =+O11+D11 -> 46383 | AA11: =+P11+E11 -> 80605 | AB11: =+Q11+F11 -> 63858 | AC11: =+R11+G11 -> 42745 | AD11: =+S11+H11 -> 22942 | AE11: =+T11+I11 -> 8466 | AF11: =+U11+J11 -> 1399 | ... AH11: =+W11+L11 -> 3068 | AI11: =+B11/X11*100 -> 67.589383 | AJ11: =+C11/Y11*100 -> 66.190999 | AK11: =+D11/Z11*100 -> 67.968868 | AL11: =+E11/AA11*100 -> 68.762484 | AM11: =+F11/AB11*100 -> 70.420308 | AN11: =+G11/AC11*100 -> 68.910984 | AO11: =+H11/AD11*100 -> 61.529073 | AP11: =+I11/AE11*100 -> 50.236239 | ... AS11: =+L11/AH11*100 -> 63.03781
A12: 1997 | B12: =+SUM(C12:L12) -> 183988 | C12: 526 | D12: 31231 | E12: 55944 | F12: 45388 | G12: 29907 | H12: 14760 | I12: 4364 | J12: 541 | K12: 43 | L12: 1284 | M12: =+SUM(N12:W12) -> 87770 | N12: 268 | O12: 15108 | P12: 25476 | Q12: 18849 | R12: 13177 | S12: 8908 | T12: 4168 | U12: 833 | V12: 114 | W12: 869 | X12: =SUM(Y12:AH12) -> 271758 | Y12: =+N12+C12 -> 794 | Z12: =+O12+D12 -> 46339 | AA12: =+P12+E12 -> 81420 | AB12: =+Q12+F12 -> 64237 | AC12: =+R12+G12 -> 43084 | AD12: =+S12+H12 -> 23668 | AE12: =+T12+I12 -> 8532 | AF12: =+U12+J12 -> 1374 | ... AH12: =+W12+L12 -> 2153 | AI12: =+B12/X12*100 -> 67.702883 | AJ12: =+C12/Y12*100 -> 66.246851 | AK12: =+D12/Z12*100 -> 67.396793 | AL12: =+E12/AA12*100 -> 68.710391 | AM12: =+F12/AB12*100 -> 70.657098 | AN12: =+G12/AC12*100 -> 69.41556 | AO12: =+H12/AD12*100 -> 62.362684 | AP12: =+I12/AE12*100 -> 51.148617 | ... AS12: =+L12/AH12*100 -> 59.637715
A13: 1998 | B13: =+SUM(C13:L13) -> 189975 | C13: 603 | D13: 34179 | E13: 58147 | F13: 45699 | G13: 29879 | H13: 14765 | I13: 4090 | J13: 523 | K13: 50 | L13: 2040 | M13: =+SUM(N13:W13) -> 85980 | N13: 343 | O13: 15310 | P13: 25384 | Q13: 18353 | R13: 12257 | S13: 8637 | T13: 3851 | U13: 754 | V13: 117 | W13: 974 | X13: =SUM(Y13:AH13) -> 275955 | Y13: =+N13+C13 -> 946 | Z13: =+O13+D13 -> 49489 | AA13: =+P13+E13 -> 83531 | AB13: =+Q13+F13 -> 64052 | AC13: =+R13+G13 -> 42136 | AD13: =+S13+H13 -> 23402 | AE13: =+T13+I13 -> 7941 | AF13: =+U13+J13 -> 1277 | ... AH13: =+W13+L13 -> 3014 | AI13: =+B13/X13*100 -> 68.842746 | AJ13: =+C13/Y13*100 -> 63.742072 | AK13: =+D13/Z13*100 -> 69.063832 | AL13: =+E13/AA13*100 -> 69.611282 | AM13: =+F13/AB13*100 -> 71.346718 | AN13: =+G13/AC13*100 -> 70.91086 | AO13: =+H13/AD13*100 -> 63.092898 | AP13: =+I13/AE13*100 -> 51.504848 | ... AS13: =+L13/AH13*100 -> 67.684141
A14: 1999 | B14: =+SUM(C14:L14) -> 213977 | C14: 479 | D14: 37644 | E14: 65067 | F14: 51202 | G14: 33262 | H14: 17058 | I14: 4753 | J14: 584 | K14: 25 | L14: 3903 | M14: =+SUM(N14:W14) -> 91307 | N14: 315 | O14: 16906 | P14: 26529 | Q14: 19286 | R14: 13121 | S14: 8667 | T14: 4073 | U14: 904 | V14: 29 | W14: 1477 | X14: =SUM(Y14:AH14) -> 305284 | Y14: =+N14+C14 -> 794 | Z14: =+O14+D14 -> 54550 | AA14: =+P14+E14 -> 91596 | AB14: =+Q14+F14 -> 70488 | AC14: =+R14+G14 -> 46383 | AD14: =+S14+H14 -> 25725 | AE14: =+T14+I14 -> 8826 | AF14: =+U14+J14 -> 1488 | ... AH14: =+W14+L14 -> 5380 | AI14: =+B14/X14*100 -> 70.091128 | AJ14: =+C14/Y14*100 -> 60.327456 | AK14: =+D14/Z14*100 -> 69.008249 | AL14: =+E14/AA14*100 -> 71.036945 | AM14: =+F14/AB14*100 -> 72.639314 | AN14: =+G14/AC14*100 -> 71.711618 | AO14: =+H14/AD14*100 -> 66.309038 | AP14: =+I14/AE14*100 -> 53.852255 | ... AS14: =+L14/AH14*100 -> 72.546468
A15: 2000 | B15: =+SUM(C15:L15) -> 210062 | C15: 754 | D15: 35373 | E15: 63146 | F15: 49159 | G15: 32466 | H15: 16805 | I15: 4673 | J15: 609 | K15: 0 | L15: 7077 | M15: =+SUM(N15:W15) -> 86087 | N15: 358 | O15: 15729 | P15: 25428 | Q15: 18020 | R15: 12098 | S15: 8127 | T15: 3671 | U15: 897 | V15: 0 | W15: 1759 | X15: =SUM(Y15:AH15) -> 296149 | Y15: =+N15+C15 -> 1112 | Z15: =+O15+D15 -> 51102 | AA15: =+P15+E15 -> 88574 | AB15: =+Q15+F15 -> 67179 | AC15: =+R15+G15 -> 44564 | AD15: =+S15+H15 -> 24932 | AE15: =+T15+I15 -> 8344 | AF15: =+U15+J15 -> 1506 | ... AH15: =+W15+L15 -> 8836 | AI15: =+B15/X15*100 -> 70.931187 | AJ15: =+C15/Y15*100 -> 67.805755 | AK15: =+D15/Z15*100 -> 69.220383 | AL15: =+E15/AA15*100 -> 71.291801 | AM15: =+F15/AB15*100 -> 73.176141 | AN15: =+G15/AC15*100 -> 72.852527 | AO15: =+H15/AD15*100 -> 67.403337 | AP15: =+I15/AE15*100 -> 56.004314 | AQ15: =+J15/AF15*100 -> 40.438247 | AR15: =+AG15+V15 -> 0 | AS15: =+L15/AH15*100 -> 80.092802
A16: 2001 | B16: =+SUM(C16:L16) -> 198573 | C16: 699 | D16: 33927 | E16: 60594 | F16: 45835 | G16: 31109 | H16: 15929 | I16: 4620 | J16: 529 | K16: 0 | L16: 5331 | M16: =+SUM(N16:W16) -> 79597 | N16: 295 | O16: 14120 | P16: 23821 | Q16: 16301 | R16: 11370 | S16: 7308 | T16: 3545 | U16: 745 | V16: 0 | W16: 2092 | X16: =SUM(Y16:AH16) -> 278170 | Y16: =+N16+C16 -> 994 | Z16: =+O16+D16 -> 48047 | AA16: =+P16+E16 -> 84415 | AB16: =+Q16+F16 -> 62136 | AC16: =+R16+G16 -> 42479 | AD16: =+S16+H16 -> 23237 | AE16: =+T16+I16 -> 8165 | AF16: =+U16+J16 -> 1274 | ... AH16: =+W16+L16 -> 7423 | AI16: =+B16/X16*100 -> 71.385484 | AJ16: =+C16/Y16*100 -> 70.321932 | AK16: =+D16/Z16*100 -> 70.612109 | AL16: =+E16/AA16*100 -> 71.781082 | AM16: =+F16/AB16*100 -> 73.765611 | AN16: =+G16/AC16*100 -> 73.233833 | AO16: =+H16/AD16*100 -> 68.550157 | AP16: =+I16/AE16*100 -> 56.582976 | AQ16: =+J16/AF16*100 -> 41.522763 | AR16: =+AG16+V16 -> 0 | AS16: =+L16/AH16*100 -> 71.817325
A17: 2002 | B17: =+SUM(C17:L17) -> 202899 | C17: 842 | D17: 35820 | E17: 62192 | F17: 46237 | G17: 30880 | H17: 16005 | I17: 4766 | J17: 527 | K17: 0 | L17: 5630 | M17: =+SUM(N17:W17) -> 72401 | N17: 298 | O17: 13204 | P17: 22099 | Q17: 14787 | R17: 10035 | S17: 6707 | T17: 3200 | U17: 695 | V17: 0 | W17: 1376 | X17: =SUM(Y17:AH17) -> 275300 | Y17: =+N17+C17 -> 1140 | Z17: =+O17+D17 -> 49024 | AA17: =+P17+E17 -> 84291 | AB17: =+Q17+F17 -> 61024 | AC17: =+R17+G17 -> 40915 | AD17: =+S17+H17 -> 22712 | AE17: =+T17+I17 -> 7966 | AF17: =+U17+J17 -> 1222 | ... AH17: =+W17+L17 -> 7006 | AI17: =+B17/X17*100 -> 73.701053 | AJ17: =+C17/Y17*100 -> 73.859649 | AK17: =+D17/Z17*100 -> 73.066253 | AL17: =+E17/AA17*100 -> 73.782492 | AM17: =+F17/AB17*100 -> 75.76855 | AN17: =+G17/AC17*100 -> 75.473543 | AO17: =+H17/AD17*100 -> 70.469355 | AP17: =+I17/AE17*100 -> 59.829274 | AQ17: =+J17/AF17*100 -> 43.126023 | AR17: =+AG17+V17 -> 0 | AS17: =+L17/AH17*100 -> 80.359692
A18: 2003 | B18: =+SUM(C18:L18) -> 196769 | C18: 798 | D18: 35437 | E18: 59886 | F18: 44438 | G18: 29679 | H18: 15538 | I18: 4524 | J18: 518 | K18: 0 | L18: 5951 | M18: =+SUM(N18:W18) -> 65235 | N18: 331 | O18: 12191 | P18: 19623 | Q18: 12991 | R18: 8916 | S18: 5883 | T18: 2978 | U18: 675 | V18: 0 | W18: 1647 | X18: =SUM(Y18:AH18) -> 262004 | Y18: =+N18+C18 -> 1129 | Z18: =+O18+D18 -> 47628 | AA18: =+P18+E18 -> 79509 | AB18: =+Q18+F18 -> 57429 | AC18: =+R18+G18 -> 38595 | AD18: =+S18+H18 -> 21421 | AE18: =+T18+I18 -> 7502 | AF18: =+U18+J18 -> 1193 | ... AH18: =+W18+L18 -> 7598 | AI18: =+B18/X18*100 -> 75.101525 | AJ18: =+C18/Y18*100 -> 70.682019 | AK18: =+D18/Z18*100 -> 74.403712 | AL18: =+E18/AA18*100 -> 75.319775 | AM18: =+F18/AB18*100 -> 77.379025 | AN18: =+G18/AC18*100 -> 76.898562 | AO18: =+H18/AD18*100 -> 72.536296 | AP18: =+I18/AE18*100 -> 60.303919 | AQ18: =+J18/AF18*100 -> 43.41995 | AR18: =+AG18+V18 -> 0 | AS18: =+L18/AH18*100 -> 78.323243
A19: 2004 | B19: =+SUM(C19:L19) -> 194373 | C19: 831 | D19: 35443 | E19: 58464 | F19: 44378 | G19: 28909 | H19: 14965 | I19: 4639 | J19: 536 | K19: 0 | L19: 6208 | M19: =+SUM(N19:W19) -> 59989 | N19: 283 | O19: 10857 | P19: 18218 | Q19: 11812 | R19: 8161 | S19: 5273 | T19: 2770 | U19: 520 | V19: 0 | W19: 2095 | X19: =SUM(Y19:AH19) -> 254362 | Y19: =+N19+C19 -> 1114 | Z19: =+O19+D19 -> 46300 | AA19: =+P19+E19 -> 76682 | AB19: =+Q19+F19 -> 56190 | AC19: =+R19+G19 -> 37070 | AD19: =+S19+H19 -> 20238 | AE19: =+T19+I19 -> 7409 | AF19: =+U19+J19 -> 1056 | ... AH19: =+W19+L19 -> 8303 | AI19: =+B19/X19*100 -> 76.415895 | AJ19: =+C19/Y19*100 -> 74.59605 | AK19: =+D19/Z19*100 -> 76.550756 | AL19: =+E19/AA19*100 -> 76.242143 | AM19: =+F19/AB19*100 -> 78.978466 | AN19: =+G19/AC19*100 -> 77.984893 | AO19: =+H19/AD19*100 -> 73.945054 | AP19: =+I19/AE19*100 -> 62.613038 | AQ19: =+J19/AF19*100 -> 50.757576 | AR19: =+AG19+V19 -> 0 | AS19: =+L19/AH19*100 -> 74.768156
A20: 2005 | B20: =+SUM(C20:L20) -> 198513 | C20: 810 | D20: 36187 | E20: 59143 | F20: 46344 | G20: 29319 | H20: 15650 | I20: 4642 | J20: 580 | K20: 0 | L20: 5838 | M20: =+SUM(N20:W20) -> 54212 | N20: 233 | O20: 10203 | P20: 16159 | Q20: 11364 | R20: 7272 | S20: 4901 | T20: 2444 | U20: 573 | V20: 0 | W20: 1063 | X20: =SUM(Y20:AH20) -> 252725 | Y20: =+N20+C20 -> 1043 | Z20: =+O20+D20 -> 46390 | AA20: =+P20+E20 -> 75302 | AB20: =+Q20+F20 -> 57708 | AC20: =+R20+G20 -> 36591 | AD20: =+S20+H20 -> 20551 | AE20: =+T20+I20 -> 7086 | AF20: =+U20+J20 -> 1153 | ... AH20: =+W20+L20 -> 6901 | AI20: =+B20/X20*100 -> 78.549016 | AJ20: =+C20/Y20*100 -> 77.660594 | AK20: =+D20/Z20*100 -> 78.006036 | AL20: =+E20/AA20*100 -> 78.541075 | AM20: =+F20/AB20*100 -> 80.307756 | AN20: =+G20/AC20*100 -> 80.126261 | AO20: =+H20/AD20*100 -> 76.152012 | AP20: =+I20/AE20*100 -> 65.509455 | AQ20: =+J20/AF20*100 -> 50.303556 | AR20: =+AG20+V20 -> 0 | AS20: =+L20/AH20*100 -> 84.596435
