Workbook

Sheet Diccionario
A3: Nombre de la entidad | C3: INSTITUTO NACIONAL DE ESTADÍSTICA Y CENSOS
A4: Nombre de la operación estadística / registro administrativo | C4: MÓDULO DE INFORMACIÓN ECONÓMICA AMBIENTAL DE LA ENCUESTA ESTRUCTURAL EMPRESARIAL - MIEAE ENESEM
A5: Período de referencia recolección/ recopilados | C5: MIEAE - ENESEM 2024
A6: Número de variables | C6: 592
A7: Nombre de la base de datos o base de datos asociada | C7: BDD_MIEAE_SPSS_2024_03
A8: Número de registros | C8: 4.627 registros
A11: ⬇️ Manual | B11: ⬇️ Manual | C11: ⬇️ Manual | D11: ⬇️ Manual | F11: ⬇️ Seleccionar | G11: ⬇️ Seleccionar | H11: ⬇️ Automático | I11: ⬇️ Manual | J11: ⬇️ Manual | K11: ⬇️ Manual
A12: Posición de la variable | B12: Código de la variable | C12: Nombre de la variable | D12: Descripción de la variable | E12: Categorías / catálogos de la variable | F12: Origen de la variable | G12: Tipo de variable | H12: Formato del dato | I12: Longitud del dato | J12: Valor mínimo | K12: Valor máximo
A13: <<Ingresar la posición de la variable en la base de datos>> | B13: <<Ingresar el código de la variable>> | C13: <<Ingresar el nombre de la variable>> | D13: <<Ingresar la descripción de la variable> | E13: <<Ingresar los códigos y etiquetas de la variable, en caso de catálogos colocar el nombre del clasificador empleado>> | F13: <<Seleccionar el origen de la variable> | G13: <<Seleccionar el tipo de variable>> | H13: <<Indicar el formato de los datos que contiene la variable>> | I13: <<Ingresar la cantidad máxima de caracteres que contiene la variable> | J13: <<Según la base de datos indicar el rango mínimo si el formato de dato es numérico>> | K13: <<Según la base de datos indicar el rango máximo si el formato de dato es numérico>>
A14: 1 | B14: inec_identificador_empresa | C14: Identificador de empresa 2024 | D14: Identificador de empresa | F14: Principal | G14: Variable identificadora | H14: =IF(G14=Validaciones!$A$3,Validaciones!$C$2,IF(OR(G14=Validaciones!$A$4,G14=Validaciones!$A$5),Validaciones!$C$3,IF(OR(G14=Validaciones!$A$6,G14=Validaciones!$A$7),Validaciones!$C$2,"Seleccione el tipo de variable"))) -> Cadena | I14: Char(11) | J14: =IF(OR(G14=Validaciones!$A$4,G14=Validaciones!$A$5),"Ingrese el dato","No aplica") -> No aplica | K14: =IF(OR(G14=Validaciones!$A$4,G14=Validaciones!$A$5),"Ingrese el dato","No aplica") -> No aplica
A15: 2 | B15: provincia | C15: Provincia sede de la empresa 2024 | D15: Provincia | E15: Clasificador Geográfico Estadístico - DPA 2025 | F15: Principal | G15: Variable cualitativa nominal | H15: =IF(G15=Validaciones!$A$3,Validaciones!$C$2,IF(OR(G15=Validaciones!$A$4,G15=Validaciones!$A$5),Validaciones!$C$3,IF(OR(G15=Validaciones!$A$6,G15=Validaciones!$A$7),Validaciones!$C$2,"Seleccione el tipo de variable"))) -> Cadena | I15: Char(2) | J15: =IF(OR(G15=Validaciones!$A$4,G15=Validaciones!$A$5),"Ingrese el dato","No aplica") -> No aplica | K15: =IF(OR(G15=Validaciones!$A$4,G15=Validaciones!$A$5),"Ingrese el dato","No aplica") -> No aplica
A16: 3 | B16: cod_tamano | C16: Código tamaño de empresa 2024 | D16: Tamaño | E16: Sistema Andino de Estadística de la PYME - DECISIÓN 702 | F16: Principal | G16: Variable cualitativa nominal | H16: =IF(G16=Validaciones!$A$3,Validaciones!$C$2,IF(OR(G16=Validaciones!$A$4,G16=Validaciones!$A$5),Validaciones!$C$3,IF(OR(G16=Validaciones!$A$6,G16=Validaciones!$A$7),Validaciones!$C$2,"Seleccione el tipo de variable"))) -> Cadena | I16: Byte(1) | J16: =IF(OR(G16=Validaciones!$A$4,G16=Validaciones!$A$5),"Ingrese el dato","No aplica") -> No aplica | K16: =IF(OR(G16=Validaciones!$A$4,G16=Validaciones!$A$5),"Ingrese el dato","No aplica") -> No aplica
A17: 4 | B17: ciiu4_actividad_principal | C17: Código CIIU4 a 4 dígitos de la actividad económica principal de la empresa 2024 | D17: Actividad principal (Código CIIU) | E17: Clasificador CIIU Rev. 4.0 | F17: Principal | G17: Variable cualitativa nominal | H17: =IF(G17=Validaciones!$A$3,Validaciones!$C$2,IF(OR(G17=Validaciones!$A$4,G17=Validaciones!$A$5),Validaciones!$C$3,IF(OR(G17=Validaciones!$A$6,G17=Validaciones!$A$7),Validaciones!$C$2,"Seleccione el tipo de variable"))) -> Cadena | I17: Char(5) | J17: =IF(OR(G17=Validaciones!$A$4,G17=Validaciones!$A$5),"Ingrese el dato","No aplica") -> No aplica | K17: =IF(OR(G17=Validaciones!$A$4,G17=Validaciones!$A$5),"Ingrese el dato","No aplica") -> No aplica
A18: 5 | B18: cod_letra | C18: Código Sección (CIIU) de la actividad económica principal de la empresa 2024 | D18: Código Sección - Actividad principal | E18: Clasificador CIIU Rev. 4.0 | F18: Derivada | G18: Variable cualitativa nominal | H18: =IF(G18=Validaciones!$A$3,Validaciones!$C$2,IF(OR(G18=Validaciones!$A$4,G18=Validaciones!$A$5),Validaciones!$C$3,IF(OR(G18=Validaciones!$A$6,G18=Validaciones!$A$7),Validaciones!$C$2,"Seleccione el tipo de variable"))) -> Cadena | I18: Char(1) | J18: =IF(OR(G18=Validaciones!$A$4,G18=Validaciones!$A$5),"Ingrese el dato","No aplica") -> No aplica | K18: =IF(OR(G18=Validaciones!$A$4,G18=Validaciones!$A$5),"Ingrese el dato","No aplica") -> No aplica
A19: 6 | B19: desc_actividad_principal | C19: Descripción en detalle de la división de la actividad económica principal de la empresa 2024 | D19: Describa la Actividad Principal | E19: Clasificador CIIU Rev. 4.0 | F19: Principal | G19: Variable identificadora | H19: =IF(G19=Validaciones!$A$3,Validaciones!$C$2,IF(OR(G19=Validaciones!$A$4,G19=Validaciones!$A$5),Validaciones!$C$3,IF(OR(G19=Validaciones!$A$6,G19=Validaciones!$A$7),Validaciones!$C$2,"Seleccione el tipo de variable"))) -> Cadena | I19: VarChar(157) | J19: =IF(OR(G19=Validaciones!$A$4,G19=Validaciones!$A$5),"Ingrese el dato","No aplica") -> No aplica | K19: =IF(OR(G19=Validaciones!$A$4,G19=Validaciones!$A$5),"Ingrese el dato","No aplica") -> No aplica
A20: 7 | B20: cod_sector | C20: Código Sector Económico que abarca la actividad económica principal de la empresa 2024 | D20: Seleccionar Actividad principal | E20: 1='Manufactura' 2='Minería' 3='Comercio' 4='Construcción' 5='Servicios' | F20: Principal | G20: Variable cualitativa nominal | H20: =IF(G20=Validaciones!$A$3,Validaciones!$C$2,IF(OR(G20=Validaciones!$A$4,G20=Validaciones!$A$5),Validaciones!$C$3,IF(OR(G20=Validaciones!$A$6,G20=Validaciones!$A$7),Validaciones!$C$2,"Seleccione el tipo de variable"))) -> Cadena | I20: Byte(1) | J20: =IF(OR(G20=Validaciones!$A$4,G20=Validaciones!$A$5),"Ingrese el dato","No aplica") -> No aplica | K20: =IF(OR(G20=Validaciones!$A$4,G20=Validaciones!$A$5),"Ingrese el dato","No aplica") -> No aplica
A21: 8 | B21: ciiu4_actividad_secundaria | C21: Código CIIU4 a 4 dígitos de la actividad económica secundaria de la empresa 2024 | D21: Actividad secundaria (Código CIIU) | E21: Clasificador CIIU Rev. 4.0 | F21: Principal | G21: Variable cualitativa nominal | H21: =IF(G21=Validaciones!$A$3,Validaciones!$C$2,IF(OR(G21=Validaciones!$A$4,G21=Validaciones!$A$5),Validaciones!$C$3,IF(OR(G21=Validaciones!$A$6,G21=Validaciones!$A$7),Validaciones!$C$2,"Seleccione el tipo de variable"))) -> Cadena | I21: Char(5) | J21: =IF(OR(G21=Validaciones!$A$4,G21=Validaciones!$A$5),"Ingrese el dato","No aplica") -> No aplica | K21: =IF(OR(G21=Validaciones!$A$4,G21=Validaciones!$A$5),"Ingrese el dato","No aplica") -> No aplica
A22: 9 | B22: cod_letra_2da | C22: Código Sección (CIIU) de la actividad económica secundaria de la empresa 2024 | D22: Código Sección - Actividad secundaria | E22: Clasificador CIIU Rev. 4.0 | F22: Derivada | G22: Variable cualitativa nominal | H22: =IF(G22=Validaciones!$A$3,Validaciones!$C$2,IF(OR(G22=Validaciones!$A$4,G22=Validaciones!$A$5),Validaciones!$C$3,IF(OR(G22=Validaciones!$A$6,G22=Validaciones!$A$7),Validaciones!$C$2,"Seleccione el tipo de variable"))) -> Cadena | I22: Char(1) | J22: =IF(OR(G22=Validaciones!$A$4,G22=Validaciones!$A$5),"Ingrese el dato","No aplica") -> No aplica | K22: =IF(OR(G22=Validaciones!$A$4,G22=Validaciones!$A$5),"Ingrese el dato","No aplica") -> No aplica
A23: 10 | B23: desc_actividad_secundaria | C23: Descripción en detalle de la actividad económica secundaria de la empresa 2024 | D23: Describa la Actividad Secundaria | E23: Clasificador CIIU Rev. 4.0 | F23: Principal | G23: Variable identificadora | H23: =IF(G23=Validaciones!$A$3,Validaciones!$C$2,IF(OR(G23=Validaciones!$A$4,G23=Validaciones!$A$5),Validaciones!$C$3,IF(OR(G23=Validaciones!$A$6,G23=Validaciones!$A$7),Validaciones!$C$2,"Seleccione el tipo de variable"))) -> Cadena | I23: VarChar(157) | J23: =IF(OR(G23=Validaciones!$A$4,G23=Validaciones!$A$5),"Ingrese el dato","No aplica") -> No aplica | K23: =IF(OR(G23=Validaciones!$A$4,G23=Validaciones!$A$5),"Ingrese el dato","No aplica") -> No aplica
A24: 11 | B24: cod_sector2 | C24: Código Sector Económico que abarca la actividad económica secundaria de la empresa 2024 | D24: Seleccionar Actividad secundaria | E24: 1='Manufactura' 2='Minería' 3='Comercio' 4='Construcción' 5='Servicios' | F24: Principal | G24: Variable cualitativa nominal | H24: =IF(G24=Validaciones!$A$3,Validaciones!$C$2,IF(OR(G24=Validaciones!$A$4,G24=Validaciones!$A$5),Validaciones!$C$3,IF(OR(G24=Validaciones!$A$6,G24=Validaciones!$A$7),Validaciones!$C$2,"Seleccione el tipo de variable"))) -> Cadena | I24: Byte(1) | J24: =IF(OR(G24=Validaciones!$A$4,G24=Validaciones!$A$5),"Ingrese el dato","No aplica") -> No aplica | K24: =IF(OR(G24=Validaciones!$A$4,G24=Validaciones!$A$5),"Ingrese el dato","No aplica") -> No aplica
A25: 12 | B25: v7001 | C25: Número de personal ocupado 2024 | D25: 7. De acuerdo a la información recopilada en el Capítulo 5 su empresa contó con el numero de personal ocupado siguiente: | F25: Principal | G25: Variable cuantitativa discreta | H25: =IF(G25=Validaciones!$A$3,Validaciones!$C$2,IF(OR(G25=Validaciones!$A$4,G25=Validaciones!$A$5),Validaciones!$C$3,IF(OR(G25=Validaciones!$A$6,G25=Validaciones!$A$7),Validaciones!$C$2,"Seleccione el tipo de variable"))) -> Numérico | I25: Int(5) | J25: 0 | K25: 99999
A26: 13 | B26: v71 | C26: Personal dedicado a actividades de protección y/o gestión ambiental 2024 | D26: 7.1. ¿Su empresa, para gestión ambiental en el año 2024, contó con personal dedicado a actividades de protección y gestión ambiental? - SI /NO | E26: 1='Sí' 2='No' | F26: Principal | G26: Variable cualitativa nominal | H26: =IF(G26=Validaciones!$A$3,Validaciones!$C$2,IF(OR(G26=Validaciones!$A$4,G26=Validaciones!$A$5),Validaciones!$C$3,IF(OR(G26=Validaciones!$A$6,G26=Validaciones!$A$7),Validaciones!$C$2,"Seleccione el tipo de variable"))) -> Cadena | I26: Byte(1) | J26: =IF(OR(G26=Validaciones!$A$4,G26=Validaciones!$A$5),"Ingrese el dato","No aplica") -> No aplica | K26: =IF(OR(G26=Validaciones!$A$4,G26=Validaciones!$A$5),"Ingrese el dato","No aplica") -> No aplica
A27: 14 | B27: v7002 | C27: Número de personas dedicadas a actividades ambientales | D27: 7.2. Indique el número de personas dedicadas a actividades ambientales | F27: Principal | G27: Variable cuantitativa discreta | H27: =IF(G27=Validaciones!$A$3,Validaciones!$C$2,IF(OR(G27=Validaciones!$A$4,G27=Validaciones!$A$5),Validaciones!$C$3,IF(OR(G27=Validaciones!$A$6,G27=Validaciones!$A$7),Validaciones!$C$2,"Seleccione el tipo de variable"))) -> Numérico | I27: Int(3) | J27: 1 | K27: 999
A28: 15 | B28: v7003 | C28: Número de personas que trabajaron a tiempo completo | D28: 7.2.a. Número de personas que trabajaron a tiempo completo | F28: Principal | G28: Variable cuantitativa discreta | H28: =IF(G28=Validaciones!$A$3,Validaciones!$C$2,IF(OR(G28=Validaciones!$A$4,G28=Validaciones!$A$5),Validaciones!$C$3,IF(OR(G28=Validaciones!$A$6,G28=Validaciones!$A$7),Validaciones!$C$2,"Seleccione el tipo de variable"))) -> Numérico | I28: Int(3) | J28: 0 | K28: 999
A29: 16 | B29: v7004 | C29: Número de personas que trabajaron a tiempo parcial | D29: 7.2.b. Número de personas que trabajaron a tiempo parcial | F29: Principal | G29: Variable cuantitativa discreta | H29: =IF(G29=Validaciones!$A$3,Validaciones!$C$2,IF(OR(G29=Validaciones!$A$4,G29=Validaciones!$A$5),Validaciones!$C$3,IF(OR(G29=Validaciones!$A$6,G29=Validaciones!$A$7),Validaciones!$C$2,"Seleccione el tipo de variable"))) -> Numérico | I29: Int(3) | J29: 0 | K29: 999
A30: 17 | B30: v7005 | C30: Total sueldos anuales pagados al personal de tiempo completo | D30: 7.2.1. Indicar el total de sueldos y salarios anuales pagados de las personas que se dedicaron a actividades ambientales en la empresa: A. Tiempo Completo | F30: Principal | G30: Variable cuantitativa discreta | H30: =IF(G30=Validaciones!$A$3,Validaciones!$C$2,IF(OR(G30=Validaciones!$A$4,G30=Validaciones!$A$5),Validaciones!$C$3,IF(OR(G30=Validaciones!$A$6,G30=Validaciones!$A$7),Validaciones!$C$2,"Seleccione el tipo de variable"))) -> Numérico | I30: Long(7) | J30: 0 | K30: 9999999
A31: 18 | B31: v7006 | C31: Total sueldos anuales pagados al personal de tiempo parcial | D31: 7.2.1. Indicar el total de sueldos y salarios anuales pagados de las personas que se dedicaron a actividades ambientales en la empresa: B. Tiempo Parcial | F31: Principal | G31: Variable cuantitativa discreta | H31: =IF(G31=Validaciones!$A$3,Validaciones!$C$2,IF(OR(G31=Validaciones!$A$4,G31=Validaciones!$A$5),Validaciones!$C$3,IF(OR(G31=Validaciones!$A$6,G31=Validaciones!$A$7),Validaciones!$C$2,"Seleccione el tipo de variable"))) -> Numérico | I31: Long(7) | J31: 0 | K31: 9999999
A32: 19 | B32: v8001 | C32: Inversión de la empresa | D32: 8. De acuerdo a la información recopilada en el Capítulo 4, su empresa invirtió: | F32: Principal | G32: Variable cuantitativa discreta | H32: =IF(G32=Validaciones!$A$3,Validaciones!$C$2,IF(OR(G32=Validaciones!$A$4,G32=Validaciones!$A$5),Validaciones!$C$3,IF(OR(G32=Validaciones!$A$6,G32=Validaciones!$A$7),Validaciones!$C$2,"Seleccione el tipo de variable"))) -> Numérico | I32: Long(10) | J32: 0 | K32: 9999999999
A33: 20 | B33: v8086 | C33: Producción para protección del ambiente | D33: Línea 326: Protección del Ambiente (Su objetivo es la prevención, la reducción y eliminación de la contaminación) en temas como reducir las concentraciones contaminantes en el aire, recolección y tratamiento... - PRODUCCIÓN: SI / NO | E33: 1='Sí' 2='No' | F33: Principal | G33: Variable cualitativa nominal | H33: =IF(G33=Validaciones!$A$3,Validaciones!$C$2,IF(OR(G33=Validaciones!$A$4,G33=Validaciones!$A$5),Validaciones!$C$3,IF(OR(G33=Validaciones!$A$6,G33=Validaciones!$A$7),Validaciones!$C$2,"Seleccione el tipo de variable"))) -> Cadena | I33: Byte(1) | J33: =IF(OR(G33=Validaciones!$A$4,G33=Validaciones!$A$5),"Ingrese el dato","No aplica") -> No aplica | K33: =IF(OR(G33=Validaciones!$A$4,G33=Validaciones!$A$5),"Ingrese el dato","No aplica") -> No aplica
A34: 21 | B34: v8087 | C34: Valor de producción para protección del ambiente | D34: Línea 326: Protección del Ambiente (Su objetivo es la prevención, la reducción y eliminación de la contaminación) en temas como reducir las concentraciones contaminantes en el aire, recolección y tratamiento... - PRODUCCIÓN: Valor ($)/año | F34: Principal | G34: Variable cuantitativa discreta | H34: =IF(G34=Validaciones!$A$3,Validaciones!$C$2,IF(OR(G34=Validaciones!$A$4,G34=Validaciones!$A$5),Validaciones!$C$3,IF(OR(G34=Validaciones!$A$6,G34=Validaciones!$A$7),Validaciones!$C$2,"Seleccione el tipo de variable"))) -> Numérico | I34: Long(8) | J34: 0 | K34: 99999999
A35: 22 | B35: v8088 | C35: Inversión para protección del ambiente | D35: Línea 326: Protección del Ambiente (Su objetivo es la prevención, la reducción y eliminación de la contaminación) en temas como reducir las concentraciones contaminantes en el aire, recolección y tratamiento... - INVERSIÓN: SI / NO | E35: 1='Sí' 2='No' | F35: Principal | G35: Variable cualitativa nominal | H35: =IF(G35=Validaciones!$A$3,Validaciones!$C$2,IF(OR(G35=Validaciones!$A$4,G35=Validaciones!$A$5),Validaciones!$C$3,IF(OR(G35=Validaciones!$A$6,G35=Validaciones!$A$7),Validaciones!$C$2,"Seleccione el tipo de variable"))) -> Cadena | I35: Byte(1) | J35: =IF(OR(G35=Validaciones!$A$4,G35=Validaciones!$A$5),"Ingrese el dato","No aplica") -> No aplica | K35: =IF(OR(G35=Validaciones!$A$4,G35=Validaciones!$A$5),"Ingrese el dato","No aplica") -> No aplica
A36: 23 | B36: v8089 | C36: Valor de inversión para protección del ambiente | D36: Línea 326: Protección del Ambiente (Su objetivo es la prevención, la reducción y eliminación de la contaminación) en temas como reducir las concentraciones contaminantes en el aire, recolección y tratamiento... - INVERSIÓN: Valor ($)/año | F36: Principal | G36: Variable cuantitativa discreta | H36: =IF(G36=Validaciones!$A$3,Validaciones!$C$2,IF(OR(G36=Validaciones!$A$4,G36=Validaciones!$A$5),Validaciones!$C$3,IF(OR(G36=Validaciones!$A$6,G36=Validaciones!$A$7),Validaciones!$C$2,"Seleccione el tipo de variable"))) -> Numérico | I36: Long(8) | J36: 0 | K36: 99999999
A37: 24 | B37: v8090 | C37: Gastos corrientes para protección del ambiente | D37: Línea 326: Protección del Ambiente (Su objetivo es la prevención, la reducción y eliminación de la contaminación) en temas como reducir las concentraciones contaminantes en el aire, recolección y tratamiento... - GASTOS CORRIENTES: SI / NO | E37: 1='Sí' 2='No' | F37: Principal | G37: Variable cualitativa nominal | H37: =IF(G37=Validaciones!$A$3,Validaciones!$C$2,IF(OR(G37=Validaciones!$A$4,G37=Validaciones!$A$5),Validaciones!$C$3,IF(OR(G37=Validaciones!$A$6,G37=Validaciones!$A$7),Validaciones!$C$2,"Seleccione el tipo de variable"))) -> Cadena | I37: Byte(1) | J37: =IF(OR(G37=Validaciones!$A$4,G37=Validaciones!$A$5),"Ingrese el dato","No aplica") -> No aplica | K37: =IF(OR(G37=Validaciones!$A$4,G37=Validaciones!$A$5),"Ingrese el dato","No aplica") -> No aplica
A38: 25 | B38: v8091 | C38: Valor de gastos corrientes para protección del ambiente | D38: Línea 326: Protección del Ambiente (Su objetivo es la prevención, la reducción y eliminación de la contaminación) en temas como reducir las concentraciones contaminantes en el aire, recolección y tratamiento... - GASTOS CORRIENTES: Valor ($)/año | F38: Principal | G38: Variable cuantitativa discreta | H38: =IF(G38=Validaciones!$A$3,Validaciones!$C$2,IF(OR(G38=Validaciones!$A$4,G38=Validaciones!$A$5),Validaciones!$C$3,IF(OR(G38=Validaciones!$A$6,G38=Validaciones!$A$7),Validaciones!$C$2,"Seleccione el tipo de variable"))) -> Numérico | I38: Long(8) | J38: 0 | K38: 99999999
A39: 26 | B39: v8092 | C39: Producción para manejo de recursos naturales | D39: Línea 327: Manejo de Recursos Naturales (Incluye todos los actos y actividades destinados a preservar y conservar las existencias de recursos naturales) en temas como minimización de la utilización de recursos... - PRODUCCIÓN: SI / NO | E39: 1='Sí' 2='No' | F39: Principal | G39: Variable cualitativa nominal | H39: =IF(G39=Validaciones!$A$3,Validaciones!$C$2,IF(OR(G39=Validaciones!$A$4,G39=Validaciones!$A$5),Validaciones!$C$3,IF(OR(G39=Validaciones!$A$6,G39=Validaciones!$A$7),Validaciones!$C$2,"Seleccione el tipo de variable"))) -> Cadena | I39: Byte(1) | J39: =IF(OR(G39=Validaciones!$A$4,G39=Validaciones!$A$5),"Ingrese el dato","No aplica") -> No aplica | K39: =IF(OR(G39=Validaciones!$A$4,G39=Validaciones!$A$5),"Ingrese el dato","No aplica") -> No aplica
A40: 27 | B40: v8093 | C40: Valor de producción para manejo de recursos naturales | D40: Línea 327: Manejo de Recursos Naturales (Incluye todos los actos y actividades destinados a preservar y conservar las existencias de recursos naturales) en temas como minimización de la utilización de recursos... - PRODUCCIÓN: Valor ($)/año | F40: Principal | G40: Variable cuantitativa discreta | H40: =IF(G40=Validaciones!$A$3,Validaciones!$C$2,IF(OR(G40=Validaciones!$A$4,G40=Validaciones!$A$5),Validaciones!$C$3,IF(OR(G40=Validaciones!$A$6,G40=Validaciones!$A$7),Validaciones!$C$2,"Seleccione el tipo de variable"))) -> Numérico | I40: Long(8) | J40: 0 | K40: 99999999
A41: 28 | B41: v8094 | C41: Inversión para manejo de recursos naturales | D41: Línea 327: Manejo de Recursos Naturales (Incluye todos los actos y actividades destinados a preservar y conservar las existencias de recursos naturales) en temas como minimización de la utilización de recursos... - INVERSIÓN: SI / NO | E41: 1='Sí' 2='No' | F41: Principal | G41: Variable cualitativa nominal | H41: =IF(G41=Validaciones!$A$3,Validaciones!$C$2,IF(OR(G41=Validaciones!$A$4,G41=Validaciones!$A$5),Validaciones!$C$3,IF(OR(G41=Validaciones!$A$6,G41=Validaciones!$A$7),Validaciones!$C$2,"Seleccione el tipo de variable"))) -> Cadena | I41: Byte(1) | J41: =IF(OR(G41=Validaciones!$A$4,G41=Validaciones!$A$5),"Ingrese el dato","No aplica") -> No aplica | K41: =IF(OR(G41=Validaciones!$A$4,G41=Validaciones!$A$5),"Ingrese el dato","No aplica") -> No aplica
A42: 29 | B42: v8095 | C42: Valor de inversión para manejo de recursos naturales | D42: Línea 327: Manejo de Recursos Naturales (Incluye todos los actos y actividades destinados a preservar y conservar las existencias de recursos naturales) en temas como minimización de la utilización de recursos... - INVERSIÓN: Valor ($)/año | F42: Principal | G42: Variable cuantitativa discreta | H42: =IF(G42=Validaciones!$A$3,Validaciones!$C$2,IF(OR(G42=Validaciones!$A$4,G42=Validaciones!$A$5),Validaciones!$C$3,IF(OR(G42=Validaciones!$A$6,G42=Validaciones!$A$7),Validaciones!$C$2,"Seleccione el tipo de variable"))) -> Numérico | I42: Long(8) | J42: 0 | K42: 99999999
A43: 30 | B43: v8096 | C43: Gastos corrientes para manejo de recursos naturales | D43: Línea 327: Manejo de Recursos Naturales (Incluye todos los actos y actividades destinados a preservar y conservar las existencias de recursos naturales) en temas como minimización de la utilización de recursos... - GASTOS CORRIENTES: SI / NO | E43: 1='Sí' 2='No' | F43: Principal | G43: Variable cualitativa nominal | H43: =IF(G43=Validaciones!$A$3,Validaciones!$C$2,IF(OR(G43=Validaciones!$A$4,G43=Validaciones!$A$5),Validaciones!$C$3,IF(OR(G43=Validaciones!$A$6,G43=Validaciones!$A$7),Validaciones!$C$2,"Seleccione el tipo de variable"))) -> Cadena | I43: Byte(1) | J43: =IF(OR(G43=Validaciones!$A$4,G43=Validaciones!$A$5),"Ingrese el dato","No aplica") -> No aplica | K43: =IF(OR(G43=Validaciones!$A$4,G43=Validaciones!$A$5),"Ingrese el dato","No aplica") -> No aplica
A44: 31 | B44: v8097 | C44: Valor de gastos corrientes para manejo de recursos naturales | D44: Línea 327: Manejo de Recursos Naturales (Incluye todos los actos y actividades destinados a preservar y conservar las existencias de recursos naturales) en temas como minimización de la utilización de recursos... - GASTOS CORRIENTES: Valor ($)/año | F44: Principal | G44: Variable cuantitativa discreta | H44: =IF(G44=Validaciones!$A$3,Validaciones!$C$2,IF(OR(G44=Validaciones!$A$4,G44=Validaciones!$A$5),Validaciones!$C$3,IF(OR(G44=Validaciones!$A$6,G44=Validaciones!$A$7),Validaciones!$C$2,"Seleccione el tipo de variable"))) -> Numérico | I44: Long(8) | J44: 0 | K44: 99999999
...

Sheet Instructivo de llenado
B2: El diccionario de variables es una herramienta que permite estandarizar y documentar las variables utilizadas en encuestas, censos, estadísticas basadas en registros administrativos o registros administrativos para mejorar la interpretación de las variables y los datos para los usuarios. El presente instructivo es una guía sobre cómo el productor de estadísticas puede diligenciar el diccionario de variables. Los ejemplos son referenciados de los productos publicados de la Encuesta Nacional de Empleo, Desempleo y Subempleo (ENEMDU).
B4: Campos | C4: Descripciones | D4: Ejemplos
B5: Posición de la variable | C5: Es la ubicación de la variable dentro de la base de datos, es decir el número de la columna contando de izquierda a derecha. | D5: 1, 2, 3 , 4 … etc.
B6: Código de la variable | C6: Es un identificador único que define a una variable, cuyo significado se describe en un lenguaje natural o común dentro de la base de datos. | D6: P2, P3, P4
B7: Nombre de la variable | C7: Es el nombre con el cual se identifica a la variable de acuerdo al marco conceptual y metodológico de la operación estadística o registro administrativo. | D7: P2: Sexo P3: Edad P4: Parentesco
B8: Descripción de la variable | C8: Es el enunciado interrogativo (pregunta en el formulario de la OE) asociado a una variable que permite obtener información relevante sobre la unidad de observación. Nota: para el caso de registros administrativos puede omitirse este campo. | D8: P2: Sexo P3: ¿Cuántos años cumplidos tiene (…)? P4: ¿Qué relación de parentesco tiene (…) con el jefe del hogar?
B9: Categorías / catálogos de la variable | C9: Categorías de la variable: Define los valores que pueden tomar las variables categóricas, mostrando su clasificación e interpretación: → Código: Es un valor numérico o alfanumérico asignado a cada categoría. → Etiqueta: Es la descripción textual asociada a un código, facilitando la interpretación y análisis de los datos. | D9: 1 : Jefe 2 : Cónyuge 3: Hijo ó hija 4: Yerno ó nuera 5: Nieto ó nieta 6: Padres ó suegros 7: Otros parientes 8: Empleado(a) Domestico(a) 9: Otros no parientes
C10: Catálogos de la variable: Es aquel que hace referencia cuando la variable esta asociada al uso de un clasificador oficial, nacional, internacional estandarizado. Nota: En este campo NO se enlistaran los códigos específicos del clasificador, ÚNICAMENTE se deberá registrar el nombre oficial del catálogo o clasificador utilizado. El clasificador deberá ser desarrollo en las pestañas denominadas clasificador_1, clasificador_2, clasificador_3, clasificador. | D10: Clasificador CIIU Rev. 4.0 Clasificador CIUO 08 Clasificador CIE-10 Clasificador DPA 2019
B11: Origen de la variable | C11: Describe los tipos de variables de acuerdo a su origen en la base de datos: → Principal: Son todas las variables que se obtienen directamente de la recolección o recopilación mediante la aplicación de los instrumentos definidos. → Derivada: Son todas las variables construidas o calculadas a partir de las variables originales o de otras variables derivadas mediante operaciones aritméticas o lógicas. | D11: P2: Sexo - Principal P3: Edad - Principal Dominio: Dominios - Derivada
B12: Tipo de variable | C12: Describe la clasificación de variables según la función que cumplen en los instrumentos de recolección/ recopilación: → Variable identificadora: Es aquella que contiene datos para identificar la unidad de observación dentro de la operación estadística, y realizar asociaciones entre distintas bases o fuentes de datos. | D12: Variable identificadora ID_hogar ID_vivienda ID_persona
C13: Variable cuantitativa: Es un tipo de variable que representa una cantidad o medida numérica asociada a una unidad de análisis. Estas variables permiten realizar operaciones aritméticas y estadísticas. → Variable cuantitativa discreta: Es aquella variable que toma valores enteros, por ejemplo número de hijos, número de cuartos, número de empleados, entre otros. → Variable cuantitativa continua: Es aquella variable que toma cualquier valor dentro de un intervalo, incluyendo decimales, por ejemplo: ingresos, peso, fechas, entre otras. | D13: Variable Cuantitativa discreta P50 - Número de trabajos P3 - Edad Variable Cuantitativa continua INGPC - Ingreso per cápita Periodo Mes
C14: Variable cualitativa: Es un tipo de variable que expresa atributos, categorías o cualidades no numéricas de una unidad de análisis, su valor no se mide numéricamente, sino que representan una clasificación. → Variable cualitativa nominal: Es aquella variable donde las categorías no siguen un orden lógico, por ejemplo: estado civil, sexo, material de la vivienda, entre otros. → Variable cualitativa ordinal: Es aquella variable donde las categorías siguen un orden lógico por ejemplo: nivel educativo, percepción de la satisfacción, entre otros. | D14: Variable cualitativa nominal P7 - Asiste a clases Clasificadores: CIIU, CIUO, CIE10, DPA. Variable cualitativa ordinal Nivel de instrucción Estratos Nivel de satisfacción
B15: Formato del dato* | C15: Describe la clasificación de variables según la función que cumplen en la base de datos: → Cadena: Es aquel que almacena secuencias de caracteres alfabéticos, numéricos o mixtos, sin valor numérico en sí mismo. Este tipo de datos incluye texto libre (string), códigos alfanuméricos, y otros elementos simbólicos como identificadores y clasificaciones. Permite realizar operaciones de conteo, agrupación, ordenamiento alfabético, búsqueda de patrones o comparaciones categóricas. → Numérico: Es aquel que representa cantidades o valores medibles, y permite realizar operaciones aritméticas o estadísticas como suma, resta, promedio, entre otros. Incluye números enteros, decimales o valores temporales (fechas) que pueden ser tratados cuantitativamente en términos de duración. | D15: Cadena UPM: 10150000304 Prov: 1, 2, 3, 4, 5 , … ram1: Rama de Actividad CIIU Numérico Ingreso laboral: 100, 200, 300, etc. Ingreso por cápita: 110,12, 335, 24, etc. Horas de trabajo principal: 6, 8, 12, etc.
B16: Longitud del dato | C16: Especifica la cantidad máxima de caracteres que contiene o almacena una variable. La longitud puede estar determinada por la respuesta a la pregunta o especificación que da origen al contenido de la variable.
B17: Valor mínimo** | C17: Es el valor mínimo que registra la variable dentro de la base de datos. Aplica únicamente cuando las variables tienen formato de datos numérico. | D17: Edad (P3): 0 Números de trabajos (P50): 1
B18: Valor máximo** | C18: Es el valor máximo que registra la variable dentro de la base de datos. Aplica únicamente cuando las variables tienen formato de datos numérico. | D18: Edad (P3): 98 Números de trabajos (P50): 2
B19: * Este campo contiene los tipos de datos de una variable agrupados en dos grandes grupos: cadena y numérico, los cuales también integran los tipos de datos referenciados en el diccionario de datos disponible en: https://www.ecuadorencifras.gob.ec/documentos/web-inec/Sistema_Estadistico_Nacional/Normativas_y_Estandares/Formato_Diccionario_de_Datos_Tecnico.xlsx. Los datos de tipo cadena incluyen los formatos char, string y bolean (SI/NO), los cuales permiten agrupar variables que contienen texto, códigos alfanuméricos o categorías representadas por caracteres (clasificadores), y no permiten realizar operaciones aritméticas, este tipo de datos son utilizados para clasificación, identificación o etiquetado. Las operaciones típicas son conteo de frecuencias, clasificación, agrupación, concatenación, búsqueda de patrones, orden alfabético, entre otros. Los datos de tipo numérico incluyen los formatos integer, float y double, los cuales incluyen valores enteros, decimales y fechas, y permiten realizar operaciones matemáticas y análisis estadísticos. Las operaciones frecuentemente empleadas son promedio, desviación estándar, comparaciones (mayor/menor), diferencias de fechas (duración), percentiles y rangos.
B20: ** Ejemplos basados en la Encuesta Nacional de Empleo, Desempleo y Subempleo (ENEMDU)mensual del periodo de marzo de 2025.
B21: Consideraciones del versionamiento El versionamiento del diccionario de variables es un proceso esencial para garantizar la trazabilidad, control de cambios y consistencia documental en el desarrollo de la operación estadística o registro administrativo. Cada vez que se produce una modificación estructural, semántica o técnica en alguna de las variables, clasificadores o metadatos, debe generarse una nueva versión del diccionario, la cual debe seguir una nomenclatura estructurada (por ejemplo, v1.0, v1.1, v2.0) y registrar la siguiente información: fecha de modificación, responsable técnico del cambio, descripción del ajuste realizado y justificación del cambio. Se recomienda aplicar versionamiento en los siguientes casos: → Inclusión o eliminación de variables del instrumento estadístico. → Cambio en el nombre, definición, formato, tipo o dominio de una variable. → Sustitución o actualización del clasificador utilizado (por versión oficial o adaptación). → Cambios en la estructura de los tipos de datos, formatos o unidades de análisis. → Revisión del documento por parte de autoridades metodológicas o equipos técnicos
B22: Referencias bibliográficas ISO/IEC 11179-3:2013. Metadata registros — Parte 3: Registry metamodel and basic attributes. Geneva: ISO. UNECE. (2013). Generic Statistical Information Model (GSIM): Specification. https://statswiki.unece.org/display/GSIM OECD. (2017). OECD Quality Framework and Metadata Guidelines. https://www.oecd.org/sdd/metadata.htm OPS. (2022). PAHO Core Data Portal: Data Dictionary. Washington, DC. DANE. (2018). Lineamientos para la documentación de variables. Bogotá, Colombia. Peña, D. (2002). Fundamentos de estadística. Madrid: Alianza Editorial. Referencia clave sobre los tipos de variables y escalas de medición (nominal, ordinal, intervalo, razón). United Nations Statistical Division (UNSD). (2007). Handbook on Statistical Metadata (Metadata Common Vocabulary). https://unstats.un.org/unsd/publication/seriesf/seriesf_86e.pdf Peña, D. (2002). Fundamentos de Estadística – Diferencia entre tipos de variables y operaciones posibles según su escala. ISO/IEC 11179-3:2013. Metadata registres — Registry metamodel and basic attributes. Geneva: ISO. Define el uso de meta información para identificar versiones y cambios en estructuras de datos y dominios de valores. UNECE. (2013). Generic Statistical Information Model (GSIM): Specification. Establece que toda modificación en variables, representaciones o clasificadores debe gestionarse mediante mecanismos de versionamiento controlado. https://statswiki.unece.org/display/GSIM INEGI. (2020). Normas técnicas para metadatos estadísticos. México. Incluye lineamientos sobre control de versiones en fichas técnicas de variables y clasificadores. DANE. (2018). Lineamientos para la documentación de variables. Bogotá: Departamento Administrativo Nacional de Estadística. Establece cuándo deben actualizarse los documentos técnicos y cómo registrar cada cambio en una hoja de control de versiones.

Sheet DPA_2025
B2: La presente pestaña tiene por objeto documentar de forma estandarizada los clasificadores oficiales empleados en la operación estadística, sean nacionales o adaptaciones de clasificadores internacionales. Es responsabilidad del equipo técnico registrar con precisión cada clasificador referenciado en el diccionario de variables.
B3: DATOS GENERALES
B5: Nombre del clasificador: | C5: Clasificador Geográfico Estadístico 2025
B6: Siglas del clasificador: | C6: DPA 2025
B7: Tipo de clasificador: | C7: Oficial Nacional
B8: Variable(s) que lo utiliza(n): | C8: provincia
B9: Nivel de desagregación usado: | C9: 2 dígitos
B11: Código | C11: Etiqueta
B12: 01 | C12: AZUAY
B13: 02 | C13: BOLIVAR
B14: 03 | C14: CAÑAR
B15: 04 | C15: CARCHI
B16: 05 | C16: COTOPAXI
B17: 06 | C17: CHIMBORAZO
... B35: 24 | C35: SANTA ELENA
B36: 90 | C36: ZONAS NO DELIMITADAS

Sheet Decisión 702_CAN
B2: La presente pestaña tiene por objeto documentar de forma estandarizada los clasificadores oficiales empleados en la operación estadística, sean nacionales o adaptaciones de clasificadores internacionales. Es responsabilidad del equipo técnico registrar con precisión cada clasificador referenciado en el diccionario de variables.
B3: DATOS GENERALES
B5: Nombre del clasificador: | C5: Sistema Andino de Estadística de la PYME - DECISIÓN 702
B6: Siglas del clasificador: | C6: DECISIÓN 702 (CAN)
B7: Tipo de clasificador: | C7: Adaptado
B8: Variable(s) que lo utiliza(n): | C8: cod_tamano
B9: Nivel de desagregación usado: | C9: 1 dígito
B11: Observación: Como parte de la cobertura temática de la encuesta, se investigan los tamaños de empresa: Mediana Tipo “A”, Mediana Tipo “B” y Grande empresa. La muestra investigada no incluye las pequeñas empresas (código 2).
B13: Código | C13: Etiqueta
B14: 2 | C14: Pequeña empresa: personal ocupado 10-49 y ventas anuales (US$) 100.001 - 1.000.000
B15: 3 | C15: Mediana empresa Tipo A: personal ocupado 50-99 y ventas anuales (US$) 1.000.001 - 2.000.000
B16: 4 | C16: Mediana empresa Tipo B: personal ocupado 100-199 y ventas anuales (US$) 2.000.001 - 5.000.000
B17: 5 | C17: Grande empresa: personal ocupado ≥ 200 y ventas anuales (US$) ≥ 5.000.001

Sheet Clasificador CIIU Rev. 4.0
B2: La presente pestaña tiene por objeto documentar de forma estandarizada los clasificadores oficiales empleados en la operación estadística, sean nacionales o adaptaciones de clasificadores internacionales. Es responsabilidad del equipo técnico registrar con precisión cada clasificador referenciado en el diccionario de variables.
B3: DATOS GENERALES
B5: Nombre del clasificador: | C5: Clasificación Industrial Internacional Uniforme de todas las actividades económicas (CIIU) - Revisión 4
B6: Siglas del clasificador: | C6: Clasificador CIIU Rev. 4.0
B7: Tipo de clasificador: | C7: Oficial Internacional
B8: Variable(s) que lo utiliza(n): | C8: ciiu4_actividad_principal/cod_letra/desc_actividad_principal/ciiu4_actividad_secundaria/cod_letra_2da/desc_actividad_secundaria
B9: Nivel de desagregación usado: | C9: Sección (Alfanumérico) / Clase (4 dígitos)
B11: Observación: A nivel de secciones económicas de la CIIU-4, las empresas a investigar pertenecen a las siguientes ramas: B, C, D, E, F, G, H, I, J, K (no incluye K64 y K66), L, M, N, P, Q (no incluye Q88), R, S (no incluye la división S94). Se excluyen las secciones: A, O, T, U. En el caso de la sección A, se debe a que esta sección se investiga en una encuesta específica de estadísticas agropecuarias. Por otro lado, las secciones O, T y U no hacen referencia a la población objetivo que son las empresas.
B15: Código | C15: Etiqueta
B16: A | C16: AGRICULTURA, GANADERÍA, SILVICULTURA Y PESCA.
B17: A0111 | C17: CULTIVO DE CEREALES (EXCEPTO ARROZ), LEGUMBRES Y SEMILLAS OLEAGINOSAS.
B18: A0112 | C18: CULTIVO DE ARROZ.
B19: A0113 | C19: CULTIVO DE HORTALIZAS Y MELONES, RAÍCES Y TUBÉRCULOS.
B20: A0114 | C20: CULTIVO DE CAÑA DE AZÚCAR.
B21: A0115 | C21: CULTIVO DE TABACO.
B22: A0116 | C22: CULTIVO DE PLANTAS DE FIBRAS.
B23: A0119 | C23: CULTIVO DE OTRAS PLANTAS NO PERENNES.
B24: A0121 | C24: CULTIVO DE UVAS.
B25: A0122 | C25: CULTIVO DE FRUTAS TROPICALES Y SUBTROPICALES.
B26: A0123 | C26: CULTIVO DE CÍTRICOS.
... B455: U9900 | C455: ACTIVIDADES DE ORGANIZACIONES Y ÓRGANOS EXTRATERRITORIALES.

Sheet Acuerdo 142
B2: La presente pestaña tiene por objeto documentar de forma estandarizada los clasificadores oficiales empleados en la operación estadística, sean nacionales o adaptaciones de clasificadores internacionales. Es responsabilidad del equipo técnico registrar con precisión cada clasificador referenciado en el diccionario de variables.
B3: DATOS GENERALES
B5: Nombre del clasificador: | C5: LISTADO NACIONAL DE DESECHOS PELIGROSOS - ACUERDO 142
B6: Siglas del clasificador: | C6: ACUERDO 142
B7: Tipo de clasificador: | C7: Oficial Nacional
B8: Variable(s) que lo utiliza(n): | C8: tipo_desecho_i, donde i= 1,2,3,…,22.
B9: Nivel de desagregación usado: | C9: Fuente no específica (2 dígitos) / Fuente específica (4 dígitos)
B11: 1. DESECHOS PELIGROSOS POR FUENTE ESPECÍFICA
B12: Código | C12: Etiqueta
B13: A.01.01 | C13: Lodos de lavado y limpieza que contengan plaguicidas
B14: A.01.02 | C14: Aguas residuales que contengan plaguicidas
B15: A.01.03 | C15: Lodos contaminados con plaguicidas provenientes del tratamiento de efluentes.
B16: A.01.04 | C16: Agroquímicos caducados, obsoletos o fuera de especificaciones
B17: A.01.05 | C17: Lodos de tanques de almacenamiento de aceites agrícolas
B18: A.01.06 | C18: Envases vacíos de plaguicidas sin triple lavado
B19: A.01.07 | C19: Mangueras y accesorios de los sistemas de fumigación utilizados en florícolas.
B20: A.01.08 | C20: Desechos de preservantes tóxicos utilizados en postcosecha
B21: A.01.09 | C21: Cadáveres de animales enfermos retirados de camales, veterinarias, granjas, etc.
B22: B.06.01 | C22: Recorte de perforación de pozos petroleros en los cuales se usen lodos base aceite
B23: B.06.02 | C23: Lodos, ripios y desechos de perforación en superficie que contienen, hidrocarburos, HAP’s, Cadmio, Cromo (VI), Vanadio, Bario, Mercurio, Níquel
... B251: S.96.02 | C251: Lodos del lavado de gases de los crematorios
B252: 2. DESECHOS PELIGROSOS POR FUENTE NO ESPECÍFICA
B253: Código | C253: Etiqueta
B254: NE-01 | C254: Aceites dieléctricos usados que no contengan bifenilopoliclorados (PBC), terfenilopoliclorados (PCT) o bifenilopolibromados (PBB)
B255: NE-02 | C255: Aceites dieléctricos usados u otros aceites minerales que contengan bifenilopoliclorados (PBC) mayor o igual a 50 ppm o mg/l
B256: NE-03 | C256: Aceites minerales usados o gastados
B257: NE-04 | C257: Agroquímicos caducados o fuera de especificaciones generados en actividades comunes
B258: NE-05 | C258: Aguas de sentina
B259: NE-06 | C259: Aguas residuales industriales que cuyas concentraciones de Cr (VI), As, Cd, Se, Sb, Te, Hg, Tl, Pb, cianuros, fenoles u otras sustancias peligrosas excedan los límites máximos permitidos (Anexo 1 del Libro VI del TULSMA)
B260: NE-07 | C260: Baterías usadas plomo-ácido
B261: NE-08 | C261: Baterías usadas que contengan Hg, Ni, Cd u otros materiales peligrosos y que exhiban características de peligrosidad.
B262: NE-09 | C262: Chatarra contaminada con materiales peligrosos
B263: NE-10 | C263: Desechos biopeligrosos activos resultantes de la atención médica prestados en centros médicos de empresas
B264: NE-11 | C264: Desechos contaminados con peróxidos
... B309: NE-56 | C309: Desechos peligrosos con contenidos de material radioactivo sea de origen natural o artificial (3)

Sheet Validaciones
A1: TIPO VARIABLES | B1: ORIGEN DE VARIABLES
A2: >>Seleccione ☑<< | B2: >>Seleccione ☑<< | C2: Cadena
A3: Variable identificadora | B3: Principal | C3: Numérico
A4: Variable cuantitativa discreta | B4: Derivada
A5: Variable cuantitativa continua
A6: Variable cualitativa nominal
A7: Variable cualitativa ordinal
