Workbook

Sheet Diccionario
A3: Nombre de la entidad | C3: INSTITUTO NACIONAL DE ESTADÍSTICA Y CENSOS
A4: Nombre de la operación estadística / registro administrativo | C4: REGISTRO ESTADÍSTICO DE ENTRADAS Y SALIDAS INTERNACIONALES
A5: Período de referencia recolección/ recopilados | C5: 2025
A6: Número de variables | C6: 25
A7: Nombre de la base de datos o base de datos asociada | C7: REESI_2025
A8: Número de registros | C8: 6265521
A11: Posición de la variable | B11: Código de la variable | C11: Nombre de la variable | D11: Categorías / catálogos de la variable | E11: Origen de la variable | F11: Tipo de variable | G11: Formato del dato | H11: Longitud del dato | I11: Valor mínimo | J11: Valor máximo
A12: 1 | B12: id_secuencial | C12: Id secuencial | E12: Principal | F12: Variable identificadora | G12: =IF(F12=Validaciones!$A$3,Validaciones!$C$2,IF(OR(F12=Validaciones!$A$4,F12=Validaciones!$A$5),Validaciones!$C$3,IF(OR(F12=Validaciones!$A$6,F12=Validaciones!$A$7),Validaciones!$C$2,"Seleccione el tipo de variable"))) -> Cadena | H12: 10 | I12: =IF(OR(F4=Validaciones!$A$4,F4=Validaciones!$A$5),"Ingrese el dato","No aplica") -> No aplica | J12: =IF(OR(F12=Validaciones!$A$4,F12=Validaciones!$A$5),"Ingrese el dato","No aplica") -> No aplica
A13: 2 | B13: tip_movi | C13: Tipo de movimiento | D13: 1 Entrada 2 Salida | E13: Principal | F13: Variable cualitativa nominal | G13: =IF(F13=Validaciones!$A$3,Validaciones!$C$2,IF(OR(F13=Validaciones!$A$4,F13=Validaciones!$A$5),Validaciones!$C$3,IF(OR(F13=Validaciones!$A$6,F13=Validaciones!$A$7),Validaciones!$C$2,"Seleccione el tipo de variable"))) -> Cadena | H13: 1 | I13: 1 | J13: 2
A14: 3 | B14: tip_naci | C14: Tipo de nacionalidad | D14: 1 Ecuatoriano 2 Extranjero | E14: Derivada | F14: Variable cualitativa nominal | G14: =IF(F14=Validaciones!$A$3,Validaciones!$C$2,IF(OR(F14=Validaciones!$A$4,F14=Validaciones!$A$5),Validaciones!$C$3,IF(OR(F14=Validaciones!$A$6,F14=Validaciones!$A$7),Validaciones!$C$2,"Seleccione el tipo de variable"))) -> Cadena | H14: 1 | I14: 1 | J14: 2
A15: 4 | B15: anio_movi | C15: Año de movimiento | D15: 2025 | E15: Derivada | F15: Variable cualitativa nominal | G15: =IF(F15=Validaciones!$A$3,Validaciones!$C$2,IF(OR(F15=Validaciones!$A$4,F15=Validaciones!$A$5),Validaciones!$C$3,IF(OR(F15=Validaciones!$A$6,F15=Validaciones!$A$7),Validaciones!$C$2,"Seleccione el tipo de variable"))) -> Cadena | H15: 4 | I15: =IF(OR(F7=Validaciones!$A$4,F7=Validaciones!$A$5),"Ingrese el dato","No aplica") -> No aplica | J15: =IF(OR(F15=Validaciones!$A$4,F15=Validaciones!$A$5),"Ingrese el dato","No aplica") -> No aplica
A16: 5 | B16: mes_movi | C16: Mes de movimiento | D16: 1 Enero 2 Febrero 3 Marzo 4 Abril 5 Mayo 6 Junio 7 Julio 8 Agosto 9 Septiembre 10 Octubre 11Noviembre 12 Diciembre | E16: Derivada | F16: Variable cualitativa nominal | G16: =IF(F16=Validaciones!$A$3,Validaciones!$C$2,IF(OR(F16=Validaciones!$A$4,F16=Validaciones!$A$5),Validaciones!$C$3,IF(OR(F16=Validaciones!$A$6,F16=Validaciones!$A$7),Validaciones!$C$2,"Seleccione el tipo de variable"))) -> Cadena | H16: 2 | I16: 1 | J16: 12
A17: 6 | B17: dia_movi | C17: Día de movimiento | D17: Rango: 1 al 31 | E17: Derivada | F17: Variable cualitativa nominal | G17: =IF(F17=Validaciones!$A$3,Validaciones!$C$2,IF(OR(F17=Validaciones!$A$4,F17=Validaciones!$A$5),Validaciones!$C$3,IF(OR(F17=Validaciones!$A$6,F17=Validaciones!$A$7),Validaciones!$C$2,"Seleccione el tipo de variable"))) -> Cadena | H17: 2 | I17: 1 | J17: 31
A18: 7 | B18: sex_migr | C18: Sexo | D18: 1 Hombre 2 Mujer 3 Indefinido | E18: Principal | F18: Variable cualitativa nominal | G18: =IF(F18=Validaciones!$A$3,Validaciones!$C$2,IF(OR(F18=Validaciones!$A$4,F18=Validaciones!$A$5),Validaciones!$C$3,IF(OR(F18=Validaciones!$A$6,F18=Validaciones!$A$7),Validaciones!$C$2,"Seleccione el tipo de variable"))) -> Cadena | H18: 1 | I18: 1 | J18: 3
A19: 8 | B19: nac_migr | C19: Nacionalidad | D19: Catálogo de países y ciudades | E19: Principal | F19: Variable cualitativa nominal | G19: =IF(F19=Validaciones!$A$3,Validaciones!$C$2,IF(OR(F19=Validaciones!$A$4,F19=Validaciones!$A$5),Validaciones!$C$3,IF(OR(F19=Validaciones!$A$6,F19=Validaciones!$A$7),Validaciones!$C$2,"Seleccione el tipo de variable"))) -> Cadena | H19: 4 | I19: 1 | J19: 999
A20: 9 | B20: subcont_nac | C20: Subcontinente de nacionalidad | D20: 11 América del Septentrional 12 América Central 13 América del Sur 14 América, El Caribe 21 Europa Oriental 22 Europa Septentrional 23 Europa Meridional 24 Europa Occidental 31 Asia Central 32 Asia Oriental 33 Asia Meridional 34 Asia Asia Sudoriental 35 Asia Occidental 41 África Oriental 42 África Central 43 África Septentrional 44 África Meridional 45 África Occidental 51 Australia y Nueva Zelandia 52 Melanesia 53 Micronesia 54 Polinesia 61 Apátridas 71 Antártida 99 Sin especificar label values subcont_res subcont | E20: Derivada | F20: Variable cualitativa nominal | G20: =IF(F20=Validaciones!$A$3,Validaciones!$C$2,IF(OR(F20=Validaciones!$A$4,F20=Validaciones!$A$5),Validaciones!$C$3,IF(OR(F20=Validaciones!$A$6,F20=Validaciones!$A$7),Validaciones!$C$2,"Seleccione el tipo de variable"))) -> Cadena | H20: 2 | I20: =IF(OR(F20=Validaciones!$A$4,F20=Validaciones!$A$5),"Ingrese el dato","No aplica") -> No aplica | J20: =IF(OR(F20=Validaciones!$A$4,F20=Validaciones!$A$5),"Ingrese el dato","No aplica") -> No aplica
A21: 10 | B21: cont_nac | C21: Continente de nacionalidad | D21: 1 América 2 Europa 3 Asia 4 África 5 Oceanía 6 Apátridas 7 Antártida 9 Sin especificar | E21: Derivada | F21: Variable cualitativa nominal | G21: =IF(F21=Validaciones!$A$3,Validaciones!$C$2,IF(OR(F21=Validaciones!$A$4,F21=Validaciones!$A$5),Validaciones!$C$3,IF(OR(F21=Validaciones!$A$6,F21=Validaciones!$A$7),Validaciones!$C$2,"Seleccione el tipo de variable"))) -> Cadena | H21: 1 | I21: 1 | J21: 9
A22: 11 | B22: via_tran | C22: Medio de transporte | D22: 1 Vía Aérea 2 Vía terrestre 3 Vía Marítimo 4 Vía fluvial | E22: Principal | F22: Variable cualitativa nominal | G22: =IF(F22=Validaciones!$A$3,Validaciones!$C$2,IF(OR(F22=Validaciones!$A$4,F22=Validaciones!$A$5),Validaciones!$C$3,IF(OR(F22=Validaciones!$A$6,F22=Validaciones!$A$7),Validaciones!$C$2,"Seleccione el tipo de variable"))) -> Cadena | H22: 1 | I22: 1 | J22: 4
A23: 12 | B23: mot_viam | C23: Motivo de viaje | D23: 1 Turismo 2 Negocios 3 Eventos 4 Estudios 5 Residencia 6 Transeúnte 7 Tripulación 9 Otros | E23: Principal | F23: Variable cualitativa nominal | G23: =IF(F23=Validaciones!$A$3,Validaciones!$C$2,IF(OR(F23=Validaciones!$A$4,F23=Validaciones!$A$5),Validaciones!$C$3,IF(OR(F23=Validaciones!$A$6,F23=Validaciones!$A$7),Validaciones!$C$2,"Seleccione el tipo de variable"))) -> Cadena | H23: 1 | I23: 1 | J23: 9
A24: 13 | B24: pais_prod | C24: País de procedencia destino | D24: Catálogo de países y ciudades | E24: Principal | F24: Variable cualitativa nominal | G24: =IF(F24=Validaciones!$A$3,Validaciones!$C$2,IF(OR(F24=Validaciones!$A$4,F24=Validaciones!$A$5),Validaciones!$C$3,IF(OR(F24=Validaciones!$A$6,F24=Validaciones!$A$7),Validaciones!$C$2,"Seleccione el tipo de variable"))) -> Cadena | H24: 3 | I24: 1 | J24: 999
A25: 14 | B25: subcont_prod | C25: Subcontinente de procedencia destino | D25: 11 América del Septentrional 12 América Central 13 América del Sur 14 América, El Caribe 21 Europa Oriental 22 Europa Septentrional 23 Europa Meridional 24 Europa Occidental 31 Asia Central 32 Asia Oriental 33 Asia Meridional 34 Asia Asia Sudoriental 35 Asia Occidental 41 África Oriental 42 África Central 43 África Septentrional 44 África Meridional 45 África Occidental 51 Australia y Nueva Zelandia 52 Melanesia 53 Micronesia 54 Polinesia 61 Apátridas 71 Antártida 99 Sin especificar label values subcont_res subcont | E25: Derivada | F25: Variable cualitativa nominal | G25: =IF(F25=Validaciones!$A$3,Validaciones!$C$2,IF(OR(F25=Validaciones!$A$4,F25=Validaciones!$A$5),Validaciones!$C$3,IF(OR(F25=Validaciones!$A$6,F25=Validaciones!$A$7),Validaciones!$C$2,"Seleccione el tipo de variable"))) -> Cadena | H25: 4 | I25: No aplica | J25: No aplica
A26: 15 | B26: cont_prod | C26: Continente de procedencia destino | D26: 1 América 2 Europa 3 Asia 4 África 5 Oceanía 6 Apátridas 7 Antártida 9 Sin especificar | E26: Derivada | F26: Variable cualitativa nominal | G26: =IF(F26=Validaciones!$A$3,Validaciones!$C$2,IF(OR(F26=Validaciones!$A$4,F26=Validaciones!$A$5),Validaciones!$C$3,IF(OR(F26=Validaciones!$A$6,F26=Validaciones!$A$7),Validaciones!$C$2,"Seleccione el tipo de variable"))) -> Cadena | H26: 1 | I26: 1 | J26: 9
A27: 16 | B27: lug_prod | C27: Lugar de procedencia destino | D27: Catálogo de países y ciudades | E27: Principal | F27: Variable cualitativa nominal | G27: =IF(F27=Validaciones!$A$3,Validaciones!$C$2,IF(OR(F27=Validaciones!$A$4,F27=Validaciones!$A$5),Validaciones!$C$3,IF(OR(F27=Validaciones!$A$6,F27=Validaciones!$A$7),Validaciones!$C$2,"Seleccione el tipo de variable"))) -> Cadena | H27: 7 | I27: No aplica | J27: No aplica
A28: 17 | B28: pais_res | C28: País de residencia | D28: Catálogo de países y ciudades | E28: Principal | F28: Variable cualitativa nominal | G28: =IF(F28=Validaciones!$A$3,Validaciones!$C$2,IF(OR(F28=Validaciones!$A$4,F28=Validaciones!$A$5),Validaciones!$C$3,IF(OR(F28=Validaciones!$A$6,F28=Validaciones!$A$7),Validaciones!$C$2,"Seleccione el tipo de variable"))) -> Cadena | H28: 3 | I28: 1 | J28: 999
A29: 18 | B29: subcont_res | C29: Subcontinente de residencia | D29: 11 América del Septentrional 12 América Central 13 América del Sur 14 América, El Caribe 21 Europa Oriental 22 Europa Septentrional 23 Europa Meridional 24 Europa Occidental 31 Asia Central 32 Asia Oriental 33 Asia Meridional 34 Asia Asia Sudoriental 35 Asia Occidental 41 África Oriental 42 África Central 43 África Septentrional 44 África Meridional 45 África Occidental 51 Australia y Nueva Zelandia 52 Melanesia 53 Micronesia 54 Polinesia 61 Apátridas 71 Antártida 99 Sin especificar label values subcont_res subcont | E29: Derivada | F29: Variable cualitativa nominal | G29: =IF(F29=Validaciones!$A$3,Validaciones!$C$2,IF(OR(F29=Validaciones!$A$4,F29=Validaciones!$A$5),Validaciones!$C$3,IF(OR(F29=Validaciones!$A$6,F29=Validaciones!$A$7),Validaciones!$C$2,"Seleccione el tipo de variable"))) -> Cadena | H29: 4 | I29: No aplica | J29: No aplica
A30: 19 | B30: cont_res | C30: Continente de residencia | D30: 1 América 2 Europa 3 Asia 4 África 5 Oceanía 6 Apátridas 7 Antártida 9 Sin especificar | E30: Derivada | F30: Variable cualitativa nominal | G30: =IF(F30=Validaciones!$A$3,Validaciones!$C$2,IF(OR(F30=Validaciones!$A$4,F30=Validaciones!$A$5),Validaciones!$C$3,IF(OR(F30=Validaciones!$A$6,F30=Validaciones!$A$7),Validaciones!$C$2,"Seleccione el tipo de variable"))) -> Cadena | H30: 1 | I30: 1 | J30: 9
A31: 20 | B31: jef_migr | C31: Jefatura de migración | D31: 1 Aeropuerto Internacional Mariscal Sucre 2 Unidad de Control Migratorio Puerto Marítimo Bolívar 3 Unidad de Control Migratorio Puerto Marítimo Esmeraldas 4 Unidad de Control Migratorio Puerto Marítimo Guayaquil 5 Unidad de Control Migratorio Puerto Marítimo Manta 6 Unidad de Control Migratorio Puerto Marítimo La Libertad 7 Unidad de Control Migratorio Puerto Marítimo Ayora 8 Unidad de Control Migratorio Puerto Marítimo Baquerizo Moreno 9 Centro Binacional de Atención Fronteriza Huaquillas 10 Centro Binacional de Atención Fronteriza San Miguel 11 Centro Nacional de Atención Fronteriza Rumichaca 12 Aeropuerto Internacional José Joaquín de Olmedo 13 Aeropuerto Mariscal Lamar 14 Aeropuerto Transfronterizo Coronel Carlos Concha Torres 15 Aeropuerto Internacional Eloy Alfaro 16 Aeropuerto Internacional Cotopaxi 17 Unidad de Control Migratorio Puerto Fluvial San Lorenzo 18 Unidad de Control Migratorio Frontera Terrestre Macara 19 Unidad de Control Migratorio Frontera Terrestre Lalamor 20 Unidad de Control Migratorio Frontera Terrestre Jimbura 21 Unidad de Control Migratorio Frontera Terrestre Tufiño 22 Unidad de Control Migratorio Puerto Fluvial Puerto El Carmen 23 Unidad de Control Migratorio Frontera Terrestre El Carmelo 24 Unidad de Control Migratorio Puerto Fluvial Nuevo Rocafuerte 25 Unidad de Control Migratorio Frontera Terrestre La Balsa 26 Aeropuerto Coronel Edmundo Carvajal 27 Aeropuerto Seymour de Baltra 28 Unidad de Control Migratorio Puerto Marítimo Seymour 29 Aeropuerto Jumandy 30 Unidad de Control Migratorio Puerto Marítimo Isabela 31 Aeropuerto Internacional de Santa Rosa 32 Aeropuerto Lago Agrio 33 Unidad de Control Migratorio Puerto Marítimo Posorja 34 Aeropuerto General Ulpiano Paez 35 Aeropuerto Ciudad de Catamayo 36 Aeropuerto de Nueva Loja 37 Aeropuerto Teniente Coronel Luis A. Mantilla | E31: Principal | F31: Variable cualitativa nominal | G31: =IF(F31=Validaciones!$A$3,Validaciones!$C$2,IF(OR(F31=Validaciones!$A$4,F31=Validaciones!$A$5),Validaciones!$C$3,IF(OR(F31=Validaciones!$A$6,F31=Validaciones!$A$7),Validaciones!$C$2,"Seleccione el tipo de variable"))) -> Cadena | H31: 2 | I31: 1 | J31: 37
A32: 21 | B32: pro_jefm | C32: Provincia jefatura de migración | D32: Clasificador Geográfico Estadístico | E32: Derivada | F32: Variable cualitativa nominal | G32: =IF(F32=Validaciones!$A$3,Validaciones!$C$2,IF(OR(F32=Validaciones!$A$4,F32=Validaciones!$A$5),Validaciones!$C$3,IF(OR(F32=Validaciones!$A$6,F32=Validaciones!$A$7),Validaciones!$C$2,"Seleccione el tipo de variable"))) -> Cadena | H32: 2 | I32: No aplica | J32: No aplica
A33: 22 | B33: can_jefm | C33: Cantón jefatura de migración | D33: Clasificador Geográfico Estadístico | E33: Derivada | F33: Variable cualitativa nominal | G33: =IF(F33=Validaciones!$A$3,Validaciones!$C$2,IF(OR(F33=Validaciones!$A$4,F33=Validaciones!$A$5),Validaciones!$C$3,IF(OR(F33=Validaciones!$A$6,F33=Validaciones!$A$7),Validaciones!$C$2,"Seleccione el tipo de variable"))) -> Cadena | H33: 4 | I33: No aplica | J33: No aplica
A34: 23 | B34: cla_migr | C34: Clase de migración | D34: 111 Inmigrantes 10-I 112 Inmigrantes 10-II 113 Inmigrantes 10-III 114 Inmigrantes 10-IV 115 Inmigrantes 10-V 116 Inmigrantes 10-VI 117 Inmigrantes 10-AI 118 Inmigrantes RES 119 Inmigrantes 9-VII 1110 Inmigrantes RP-CAF 1111 Inmigrantes RP-CEE 1112 Inmigrante RP-REL 1113 Inmigrante RP-ECV 1114 Inmigrantes RP-MAT 1115 Inmigrantes RP-MDI 1116 Inmigrantes RP-MER 1117 Inmigrante RP-TEM 1118 Inmigrante RP-UNA 1119 InmigranteRP-FAMDIS 1120 No inmigrante RP-EMA 1121 No inmigrante RP-NNA dependiente de Ecu o Extr 211 Convenio Colombo Ecuatoriano 212 Convenio Chileno Ecuatoriano 213 Convenio Boliviano Ecuatoriano 214 No inmigrante rt-tiempo perman 221 No inmigrante 12-VIII 222 No inmigrante 12-IX 223 No inmigrante 12-XI 231 No inmigrante 12-I 232 No inmigrante 12-II 233 No inmigrante 12-III 234 No inmigrante 12-IV 235 No inmigrante 12-V 236 No inmigrante 12-VI 237 No inmigrante 12-VII 238 No inmigrante RT-AMP 239 No inmigrante RT-CEE 2310 No inmigrante RT-CIE 2311 No inmigrante RT-DEP 2312 No inmigrante RT-ECV 2313 No inmigrante RT-EST 2314 No inmigrante RT-EXC 2315 No inmigrante RT-INV 2316 No inmigrante RT-JUB 2317 No inmigrante RT-MER 2318 No inmigrante RT-PPR 2319 No inmigrante RT-PRO 2320 No inmigrante RT-REL 2321 No inmigrante RT-REN 2322 No inmigrante RT-TRA 2323 No inmigrante RT-UNA 2324 No inmigrante RT-VOL 2325 No inmigrante VT-TES 2326 No inmigrante-Diplomático 2327 No inmigrante RT-HUM 2328 No inmigrante RT-DE753 2329 No inmigrante RT-EMA 2330 No inmigrantert-amp-conv-MERCOSUR 2331 No inmigrantert-exc-virte-rnv 2332 No inmigrantert MERCOSUR 2333 No inmigrantert promet 2334 No inmigrantevt-prorroga-turista 2335 No inmigrantevt-turista-venezolanos 2336 RT convenio Ecuador-Francia 241 No inmigrante T-3 242 No inmigrante Tripulante 243 No inmigrante VT-TUR 244 No inmigrante VT-ESP 245 No inmigrante - Transeúnte 246 No inmigrante VT- Comercio 88 Clase migratoria para ecuatorianos 9999 Sin Especificar | E34: Principal | F34: Variable cualitativa nominal | G34: =IF(F34=Validaciones!$A$3,Validaciones!$C$2,IF(OR(F34=Validaciones!$A$4,F34=Validaciones!$A$5),Validaciones!$C$3,IF(OR(F34=Validaciones!$A$6,F34=Validaciones!$A$7),Validaciones!$C$2,"Seleccione el tipo de variable"))) -> Cadena | H34: 4 | I34: No aplica | J34: No aplica
A35: 24 | B35: ocu_migr | C35: Ocupación | D35: Ocupación según la CIUO – 08 | E35: Principal | F35: Variable cualitativa nominal | G35: =IF(F35=Validaciones!$A$3,Validaciones!$C$2,IF(OR(F35=Validaciones!$A$4,F35=Validaciones!$A$5),Validaciones!$C$3,IF(OR(F35=Validaciones!$A$6,F35=Validaciones!$A$7),Validaciones!$C$2,"Seleccione el tipo de variable"))) -> Cadena | H35: 5 | I35: No aplica | J35: No aplica
A36: 25 | B36: edad | C36: Edad | D36: Edad en años cumplidos | E36: Principal | F36: Variable cualitativa ordinal | G36: =IF(F36=Validaciones!$A$3,Validaciones!$C$2,IF(OR(F36=Validaciones!$A$4,F36=Validaciones!$A$5),Validaciones!$C$3,IF(OR(F36=Validaciones!$A$6,F36=Validaciones!$A$7),Validaciones!$C$2,"Seleccione el tipo de variable"))) -> Cadena | H36: =IF(OR(F36=Validaciones!$A$6,F36=Validaciones!$A$7),"Ingrese el dato",IF(F36=Validaciones!$A$3,"Ingrese el dato","No aplica")) -> Ingrese el dato | I36: 0 | J36: 120

Sheet Clasificador Geográfico
B2: DATOS GENERALES
B4: Nombre del clasificador: | C4: Clasificador Geográfico Estadístico (DPA) 2025
B5: Siglas del clasificador: | C5: DPA 2025
B6: Tipo de clasificador: | C6: Oficial Nacional
B7: Variable(s) que lo utiliza(n): | C7: Provincia / cantón de ubicación de la unidad de control migratorio
B8: Nivel de desagregación usado: | C8: 2 dígitos / 4 dígitos
B10: Código DPA_PROVIN | C10: Etiqueta DPA_pro_jefm | D10: Código DPA_CANTON | E10: Etiqueta DPA_can_jefm
B11: 01 | C11: Azuay | D11: 0101 | E11: Cuenca
B12: 01 | C12: Azuay | D12: 0101 | E12: Cuenca
B13: 01 | C13: Azuay | D13: 0101 | E13: Cuenca
B14: 01 | C14: Azuay | D14: 0101 | E14: Cuenca
B15: 01 | C15: Azuay | D15: 0101 | E15: Cuenca
B16: 01 | C16: Azuay | D16: 0101 | E16: Cuenca
B17: 01 | C17: Azuay | D17: 0101 | E17: Cuenca
B18: 01 | C18: Azuay | D18: 0101 | E18: Cuenca
B19: 01 | C19: Azuay | D19: 0101 | E19: Cuenca
B20: 01 | C20: Azuay | D20: 0101 | E20: Cuenca
B21: 01 | C21: Azuay | D21: 0101 | E21: Cuenca
... B1267: 90 | C1267: Zona En Estudio | D1267: 9009 | E1267: Sinaí-Cuchaentza

Sheet Catálogo de países 
B2: DATOS GENERALES
B4: Nombre del clasificador: | C4: Clasificación Internacional de Países ISO 3166-1 numérico (2020)
B5: Siglas del clasificador: | C5: ISO 3166-1 numérico (2020)
B6: Tipo de clasificador: | C6: Oficial Internacional
B7: Variable(s) que lo utiliza(n): | C7: Nacionalidad (nac_migr)/ País de procedencia destino (pais_prod)/ País de residencia (pais_res)
B8: Nivel de desagregación usado: | C8: 3 dígitos
B10: Código Numérico | C10: Etiqueta Nombre del país
B11: 024 | C11: Angola
B12: 120 | C12: Camerún
B13: 148 | C13: Chad
B14: 178 | C14: Congo
B15: 266 | C15: Gabón
B16: 226 | C16: Guinea Ecuatorial
B17: 140 | C17: República Centroafricana
B18: 180 | C18: República Democrática del Congo
B19: 678 | C19: Santo Tomé y Príncipe
B20: 072 | C20: Botsuana
B21: 426 | C21: Lesoto
B22: 516 | C22: Namibia
B23: 710 | C23: Sudáfrica
B24: 748 | C24: Suazilandia
B25: 086 | C25: Territorio Británico del Océano Indico
B26: 204 | C26: Benín
B27: 854 | C27: Burkina Faso
B28: 132 | C28: Cabo Verde
B29: 384 | C29: Costa de Marfil
B30: 270 | C30: Gambia
B31: 288 | C31: Ghana
B32: 324 | C32: Guinea
B33: 624 | C33: Guinea-Bissau
B34: 430 | C34: Liberia
B35: 466 | C35: Malí
B36: 478 | C36: Mauritania
B37: 562 | C37: Níger
... B63: 716 | C63: Zimbabwe
B64: 012 | C64: Argelia
B65: 818 | C65: Egipto
B66: 725 | C66: Islas Canarias
B67: 434 | C67: Libia
B68: 504 | C68: Marruecos
...

Sheet Catálogo de ciudades
B2: DATOS GENERALES
B4: Nombre del clasificador: | C4: Clasificación Internacional de Países ISO 3166-1 numérico (2020)
B5: Siglas del clasificador: | C5: ISO 3166-1 numérico (2020)
B6: Tipo de clasificador: | C6: Oficial Internacional
B7: Variable(s) que lo utiliza(n): | C7: Lugar de procedencia destino (lug_prod)
B8: Nivel de desagregación usado: | C8: 6 dígitos
B10: Código Numérico | C10: Etiqueta Nombre de la ciudad
B11: 004001 | C11: Khost
B12: 004002 | C12: Sheberghan
B13: 004003 | C13: Farah
B14: 004004 | C14: Sarepol
B15: 004005 | C15: Pulikhumri
B16: 004006 | C16: Mazarisharif
... B4850: 716006 | C4850: Chitungwiza

Sheet CIUO
B2: DATOS GENERALES
B4: Nombre del clasificador: | C4: Clasificación Internacional Uniforme de Ocupaciones (Para el caso especial de esta operación estadística se emplea una adaptación del CIUO)
B5: Siglas del clasificador: | C5: CIUO-2008
B6: Tipo de clasificador: | C6: Oficial Internacional
B7: Variable(s) que lo utiliza(n): | C7: ocu_migr (ocupación)
B8: Nivel de desagregación usado: | C8: 5 dígitos
B10: Código | C10: Etiqueta
B11: 0110 | C11: Oficiales de las fuerzas armadas
B12: 0210 | C12: Suboficial de las fuerzas armadas
B13: 0310 | C13: Otros miembros de las fuerzas armadas
B14: 0393 | C14: Sin información
B15: 1111 | C15: Miembros del poder legislativo
B16: 1112 | C16: Personal directivo de la administración pública
... B461: 99999 | C461: Sin especificar

Sheet Validaciones
A1: TIPO VARIABLES | B1: ORIGEN DE VARIABLES
A2: >>Seleccione ☑<< | B2: >>Seleccione ☑<< | C2: Cadena
A3: Variable identificadora | B3: Principal | C3: Numérico
A4: Variable cuantitativa discreta | B4: Derivada
A5: Variable cuantitativa continua
A6: Variable cualitativa nominal
A7: Variable cualitativa ordinal
