Workbook

Sheet Diccionario
A3: Nombre de la entidad | C3: INSTITUTO NACIONAL DE ESTADÍSTICA Y CENSOS
A4: Nombre de la operación estadística / registro administrativo | C4: REGISTRO ESTADÍSTICO BASE DE POBLACIÓN DEL ECUADOR - REBPE
A5: Período de referencia recolección/ recopilados | C5: REBPE - Anual 2023
A6: Número de variables | C6: 18
A7: Nombre de la base de datos o base de datos asociada | C7: rebpe_2023
A8: Número de registros | C8: 17.867.244 de registros
A11: Posición de la variable | B11: Código de la variable | C11: Nombre de la variable | D11: Descripción de la variable | E11: Categorías / catálogos de la variable | F11: Origen de la variable | G11: Tipo de variable | H11: Formato del dato | I11: Longitud del dato | J11: Valor mínimo | K11: Valor máximo
A12: 1 | B12: secuencial | C12: secuencial | D12: Número estadístico de la persona | E12: N/A | F12: Principal | G12: Variable identificadora | H12: =IF(G12=Validaciones!$A$3,Validaciones!$C$2,IF(OR(G12=Validaciones!$A$4,G12=Validaciones!$A$5),Validaciones!$C$3,IF(OR(G12=Validaciones!$A$6,G12=Validaciones!$A$7),Validaciones!$C$2,"Seleccione el tipo de variable"))) -> Cadena | I12: 8 | J12: =IF(OR(G12=Validaciones!$A$4,G12=Validaciones!$A$5),"Ingrese el dato","No aplica") -> No aplica | K12: =IF(OR(G12=Validaciones!$A$4,G12=Validaciones!$A$5),"Ingrese el dato","No aplica") -> No aplica
A13: 2 | B13: sexo | C13: sexo | D13: Corresponde a la condición biológica registrada de la persona. Incluye la categoría indefinido, proveniente del registro de Entradas y Salidas Internacionales. | E13: 1. Hombre 2. Mujer 3. Indefinido | F13: Principal | G13: Variable cualitativa nominal | H13: =IF(G13=Validaciones!$A$3,Validaciones!$C$2,IF(OR(G13=Validaciones!$A$4,G13=Validaciones!$A$5),Validaciones!$C$3,IF(OR(G13=Validaciones!$A$6,G13=Validaciones!$A$7),Validaciones!$C$2,"Seleccione el tipo de variable"))) -> Cadena | I13: 1 | J13: =IF(OR(G13=Validaciones!$A$4,G13=Validaciones!$A$5),"Ingrese el dato","No aplica") -> No aplica | K13: =IF(OR(G13=Validaciones!$A$4,G13=Validaciones!$A$5),"Ingrese el dato","No aplica") -> No aplica
A14: 3 | B14: edad | C14: edad | D14: Corresponde al número de años cumplidos por la persona al 31/12/2023. Se calcula a partir de la fecha de nacimiento registrada. | E14: N/A | F14: Derivada | G14: Variable cuantitativa discreta | H14: =IF(G14=Validaciones!$A$3,Validaciones!$C$2,IF(OR(G14=Validaciones!$A$4,G14=Validaciones!$A$5),Validaciones!$C$3,IF(OR(G14=Validaciones!$A$6,G14=Validaciones!$A$7),Validaciones!$C$2,"Seleccione el tipo de variable"))) -> Numérico | I14: =IF(OR(G14=Validaciones!$A$6,G14=Validaciones!$A$7),"Ingrese el dato",IF(G14=Validaciones!$A$3,"Ingrese el dato","No aplica")) -> No aplica | J14: 0 | K14: 120
A15: 4 | B15: grupo_edad | C15: grupo_edad | D15: Clasifica a la población en intervalos quinquenales (de cinco años) de acuerdo con la edad cumplida al 31/12/2023. | E15: 1. 0-4 años 2. 5-9 años 3. 10-14 años 4. 15-19 años 5. 20-24 años 6. 25-29 años 7. 30-34 años 8. 35-39 años 9. 40-44 años 10. 45-49 años 11. 50-54 años 12. 55-59 años 13. 60-64 años 14. 65-69 años 15. 70-74 años 16. 75-79 años 17. 80-84 años 18. 85-89 años 19. 90-94 años 20. 95-99 años 21. 100 y más años | F15: Derivada | G15: Variable cualitativa nominal | H15: =IF(G15=Validaciones!$A$3,Validaciones!$C$2,IF(OR(G15=Validaciones!$A$4,G15=Validaciones!$A$5),Validaciones!$C$3,IF(OR(G15=Validaciones!$A$6,G15=Validaciones!$A$7),Validaciones!$C$2,"Seleccione el tipo de variable"))) -> Cadena | I15: 2 | J15: =IF(OR(G15=Validaciones!$A$4,G15=Validaciones!$A$5),"Ingrese el dato","No aplica") -> No aplica | K15: =IF(OR(G15=Validaciones!$A$4,G15=Validaciones!$A$5),"Ingrese el dato","No aplica") -> No aplica
A16: 5 | B16: etaedad | C16: etaedad | D16: Corresponde a la clasificación de la población según rangos de edad que representan las principales etapas de vida. | E16: 1. Niños/as (0 a 11 años) 2. Adolescentes (12 a 17 años) 3. Jóvenes (18 a 29 años) 4. Adultas/os (30 a 64 años) 5. Adultas/os mayores (65 y más años) | F16: Derivada | G16: Variable cualitativa nominal | H16: =IF(G16=Validaciones!$A$3,Validaciones!$C$2,IF(OR(G16=Validaciones!$A$4,G16=Validaciones!$A$5),Validaciones!$C$3,IF(OR(G16=Validaciones!$A$6,G16=Validaciones!$A$7),Validaciones!$C$2,"Seleccione el tipo de variable"))) -> Cadena | I16: 1 | J16: =IF(OR(G16=Validaciones!$A$4,G16=Validaciones!$A$5),"Ingrese el dato","No aplica") -> No aplica | K16: =IF(OR(G16=Validaciones!$A$4,G16=Validaciones!$A$5),"Ingrese el dato","No aplica") -> No aplica
A17: 6 | B17: prov_res | C17: prov_res | D17: Identifica la provincia en la que una persona registra su residencia dentro del territorio nacional, según la división político-administrativa vigente del país al 2023. Los registros que no disponen de información sobre la provincia de residencia se agrupan en la categoría “no registra”. | E17: Clasificador Geográfico Estadístico 2023 | F17: Principal | G17: Variable cualitativa nominal | H17: =IF(G17=Validaciones!$A$3,Validaciones!$C$2,IF(OR(G17=Validaciones!$A$4,G17=Validaciones!$A$5),Validaciones!$C$3,IF(OR(G17=Validaciones!$A$6,G17=Validaciones!$A$7),Validaciones!$C$2,"Seleccione el tipo de variable"))) -> Cadena | I17: 2 | J17: =IF(OR(G17=Validaciones!$A$4,G17=Validaciones!$A$5),"Ingrese el dato","No aplica") -> No aplica | K17: =IF(OR(G17=Validaciones!$A$4,G17=Validaciones!$A$5),"Ingrese el dato","No aplica") -> No aplica
A18: 7 | B18: e_civil | C18: e_civil | D18: Describe la condición legal de la persona. El registro del estado civil se considera a partir de los 18 años de edad, la mínima a partir de la cual pueden presentarse cambios en esta condición. Los registros sin información disponible se agrupan en la categoría “no registra”. | E18: 1. Soltero/a 2. Casado/a 3. Divorciado/a 4. Viudo/a 5. Unión de hecho 9. No registra | F18: Principal | G18: Variable cualitativa nominal | H18: =IF(G18=Validaciones!$A$3,Validaciones!$C$2,IF(OR(G18=Validaciones!$A$4,G18=Validaciones!$A$5),Validaciones!$C$3,IF(OR(G18=Validaciones!$A$6,G18=Validaciones!$A$7),Validaciones!$C$2,"Seleccione el tipo de variable"))) -> Cadena | I18: 1 | J18: =IF(OR(G18=Validaciones!$A$4,G18=Validaciones!$A$5),"Ingrese el dato","No aplica") -> No aplica | K18: =IF(OR(G18=Validaciones!$A$4,G18=Validaciones!$A$5),"Ingrese el dato","No aplica") -> No aplica
A19: 8 | B19: es_madre | C19: es_madre | D19: Identifica si la persona tiene una relación filial materna, es decir, si ha tenido al menos un hijo o hija registrado. Aplica a mujeres de 10 años y más. Las mujeres menores de 10 años y los hombres se categorizan como “no aplica”, ya que no forman parte de la población objetivo. | E19: 1. Sí 2. No 3. No aplica | F19: Derivada | G19: Variable cualitativa nominal | H19: =IF(G19=Validaciones!$A$3,Validaciones!$C$2,IF(OR(G19=Validaciones!$A$4,G19=Validaciones!$A$5),Validaciones!$C$3,IF(OR(G19=Validaciones!$A$6,G19=Validaciones!$A$7),Validaciones!$C$2,"Seleccione el tipo de variable"))) -> Cadena | I19: 1 | J19: =IF(OR(G19=Validaciones!$A$4,G19=Validaciones!$A$5),"Ingrese el dato","No aplica") -> No aplica | K19: =IF(OR(G19=Validaciones!$A$4,G19=Validaciones!$A$5),"Ingrese el dato","No aplica") -> No aplica
A20: 9 | B20: es_padre | C20: es_padre | D20: Identifica si la persona tiene una relación filial paterna, es decir, si ha tenido al menos un hijo o hija registrado. Aplica a hombres de 10 años y más. Los hombres menores de 10 años y las mujeres se categorizan como “no aplica”, ya que no forman parte de la población objetivo. | E20: 1. Sí 2. No 3. No aplica | F20: Derivada | G20: Variable cualitativa nominal | H20: =IF(G20=Validaciones!$A$3,Validaciones!$C$2,IF(OR(G20=Validaciones!$A$4,G20=Validaciones!$A$5),Validaciones!$C$3,IF(OR(G20=Validaciones!$A$6,G20=Validaciones!$A$7),Validaciones!$C$2,"Seleccione el tipo de variable"))) -> Cadena | I20: 1 | J20: =IF(OR(G20=Validaciones!$A$4,G20=Validaciones!$A$5),"Ingrese el dato","No aplica") -> No aplica | K20: =IF(OR(G20=Validaciones!$A$4,G20=Validaciones!$A$5),"Ingrese el dato","No aplica") -> No aplica
A21: 10 | B21: orfandad | C21: orfandad | D21: Identifica si la persona de hasta 17 años ha perdido a uno o ambos padres, según la información registrada. Los registros sin información disponible se agrupan en "no registra". | E21: 1. Sí 2. No 3. No aplica 9. No registra | F21: Derivada | G21: Variable cualitativa nominal | H21: =IF(G21=Validaciones!$A$3,Validaciones!$C$2,IF(OR(G21=Validaciones!$A$4,G21=Validaciones!$A$5),Validaciones!$C$3,IF(OR(G21=Validaciones!$A$6,G21=Validaciones!$A$7),Validaciones!$C$2,"Seleccione el tipo de variable"))) -> Cadena | I21: 1 | J21: =IF(OR(G21=Validaciones!$A$4,G21=Validaciones!$A$5),"Ingrese el dato","No aplica") -> No aplica | K21: =IF(OR(G21=Validaciones!$A$4,G21=Validaciones!$A$5),"Ingrese el dato","No aplica") -> No aplica
A22: 11 | B22: tiene_disc | C22: tiene_disc | D22: Indica si la persona presenta alguna discapacidad registrada. | E22: 1. Sí 2. No | F22: Principal | G22: Variable cualitativa nominal | H22: =IF(G22=Validaciones!$A$3,Validaciones!$C$2,IF(OR(G22=Validaciones!$A$4,G22=Validaciones!$A$5),Validaciones!$C$3,IF(OR(G22=Validaciones!$A$6,G22=Validaciones!$A$7),Validaciones!$C$2,"Seleccione el tipo de variable"))) -> Cadena | I22: 1 | J22: =IF(OR(G22=Validaciones!$A$4,G22=Validaciones!$A$5),"Ingrese el dato","No aplica") -> No aplica | K22: =IF(OR(G22=Validaciones!$A$4,G22=Validaciones!$A$5),"Ingrese el dato","No aplica") -> No aplica
A23: 12 | B23: tipo_disc | C23: tipo_disc | D23: Identifica la naturaleza de la discapacidad registrada que presenta la persona. | E23: 1. Intelectual 2. Física 3. Visual 4. Auditiva 5. Psicosocial 6. Lenguaje 7. No aplica 9. No registra | F23: Principal | G23: Variable cualitativa nominal | H23: =IF(G23=Validaciones!$A$3,Validaciones!$C$2,IF(OR(G23=Validaciones!$A$4,G23=Validaciones!$A$5),Validaciones!$C$3,IF(OR(G23=Validaciones!$A$6,G23=Validaciones!$A$7),Validaciones!$C$2,"Seleccione el tipo de variable"))) -> Cadena | I23: 1 | J23: =IF(OR(G23=Validaciones!$A$4,G23=Validaciones!$A$5),"Ingrese el dato","No aplica") -> No aplica | K23: =IF(OR(G23=Validaciones!$A$4,G23=Validaciones!$A$5),"Ingrese el dato","No aplica") -> No aplica
A24: 13 | B24: anios_viud | C24: anios_viud | D24: Cuantifica el número de años transcurridos desde que una persona quedó viudo/a, según la fecha de fallecimiento de la pareja registrada, hasta la fecha de referencia (31/12/2023). La población objetivo comprende personas cuyo estado civil actual es viudo/a. | E24: N/A | F24: Derivada | G24: Variable cuantitativa discreta | H24: =IF(G24=Validaciones!$A$3,Validaciones!$C$2,IF(OR(G24=Validaciones!$A$4,G24=Validaciones!$A$5),Validaciones!$C$3,IF(OR(G24=Validaciones!$A$6,G24=Validaciones!$A$7),Validaciones!$C$2,"Seleccione el tipo de variable"))) -> Numérico | I24: =IF(OR(G24=Validaciones!$A$6,G24=Validaciones!$A$7),"Ingrese el dato",IF(G24=Validaciones!$A$3,"Ingrese el dato","No aplica")) -> No aplica | J24: 0 | K24: 68
A25: 14 | B25: edad_viud | C25: edad_viud | D25: Registra la edad cumplida por la persona al momento del fallecimiento de su cónyuge registrado. La población objetivo comprende personas cuyo estado civil actual es viudo/a. | E25: N/A | F25: Derivada | G25: Variable cuantitativa discreta | H25: =IF(G25=Validaciones!$A$3,Validaciones!$C$2,IF(OR(G25=Validaciones!$A$4,G25=Validaciones!$A$5),Validaciones!$C$3,IF(OR(G25=Validaciones!$A$6,G25=Validaciones!$A$7),Validaciones!$C$2,"Seleccione el tipo de variable"))) -> Numérico | I25: =IF(OR(G25=Validaciones!$A$6,G25=Validaciones!$A$7),"Ingrese el dato",IF(G25=Validaciones!$A$3,"Ingrese el dato","No aplica")) -> No aplica | J25: 18 | K25: 112
A26: 15 | B26: prov_nac | C26: prov_nac | D26: Identifica la provincia en la que una persona registra su nacimiento dentro y fuera del territorio nacional (agrupado en la categoría "exterior"). Los registros que no disponen de información sobre la provincia de nacimiento se agrupan en la categoría “no registra”. | E26: Clasificador Geográfico Estadístico 2023 | F26: Principal | G26: Variable cualitativa nominal | H26: =IF(G26=Validaciones!$A$3,Validaciones!$C$2,IF(OR(G26=Validaciones!$A$4,G26=Validaciones!$A$5),Validaciones!$C$3,IF(OR(G26=Validaciones!$A$6,G26=Validaciones!$A$7),Validaciones!$C$2,"Seleccione el tipo de variable"))) -> Cadena | I26: 2 | J26: =IF(OR(G26=Validaciones!$A$4,G26=Validaciones!$A$5),"Ingrese el dato","No aplica") -> No aplica | K26: =IF(OR(G26=Validaciones!$A$4,G26=Validaciones!$A$5),"Ingrese el dato","No aplica") -> No aplica
A27: 16 | B27: nacionalidad | C27: nacionalidad | D27: Determina la pertenencia legal de la persona a un país, según los registros administrativos. Los registros que no disponen de información sobre la nacionalidad se agrupan en la categoría “no registra”. | E27: 1. Ecuatoriana 0. Extranjera 99. No registra | F27: Principal | G27: Variable cualitativa nominal | H27: =IF(G27=Validaciones!$A$3,Validaciones!$C$2,IF(OR(G27=Validaciones!$A$4,G27=Validaciones!$A$5),Validaciones!$C$3,IF(OR(G27=Validaciones!$A$6,G27=Validaciones!$A$7),Validaciones!$C$2,"Seleccione el tipo de variable"))) -> Cadena | I27: 2 | J27: =IF(OR(G27=Validaciones!$A$4,G27=Validaciones!$A$5),"Ingrese el dato","No aplica") -> No aplica | K27: =IF(OR(G27=Validaciones!$A$4,G27=Validaciones!$A$5),"Ingrese el dato","No aplica") -> No aplica
A28: 17 | B28: mes_nac | C28: mes_nac | D28: Registra el mes del año en que nació la persona. | E28: 01. Enero 02. Febrero 03. Marzo 04. Abril 05. Mayo 06. Junio 07. Julio 08. Agosto 09. Septiembre 10. Octubre 11. Noviembre 12. Diciembre | F28: Principal | G28: Variable cualitativa nominal | H28: =IF(G28=Validaciones!$A$3,Validaciones!$C$2,IF(OR(G28=Validaciones!$A$4,G28=Validaciones!$A$5),Validaciones!$C$3,IF(OR(G28=Validaciones!$A$6,G28=Validaciones!$A$7),Validaciones!$C$2,"Seleccione el tipo de variable"))) -> Cadena | I28: 2 | J28: =IF(OR(G28=Validaciones!$A$4,G28=Validaciones!$A$5),"Ingrese el dato","No aplica") -> No aplica | K28: =IF(OR(G28=Validaciones!$A$4,G28=Validaciones!$A$5),"Ingrese el dato","No aplica") -> No aplica
A29: 18 | B29: anio_inv | C29: anio_inv | D29: Año de investigación | E29: 2023 | F29: Principal | G29: Variable cualitativa nominal | H29: =IF(G29=Validaciones!$A$3,Validaciones!$C$2,IF(OR(G29=Validaciones!$A$4,G29=Validaciones!$A$5),Validaciones!$C$3,IF(OR(G29=Validaciones!$A$6,G29=Validaciones!$A$7),Validaciones!$C$2,"Seleccione el tipo de variable"))) -> Cadena | I29: 4 | J29: =IF(OR(G29=Validaciones!$A$4,G29=Validaciones!$A$5),"Ingrese el dato","No aplica") -> No aplica | K29: =IF(OR(G29=Validaciones!$A$4,G29=Validaciones!$A$5),"Ingrese el dato","No aplica") -> No aplica
A33: FIRMAS DE RESPONSABILIDAD
A35: Elaborado por: | B35: Viviana Natalia Garzón Ortiz | C35: Responsable de la Operación Estadística Registro Estadístico Base de Población del Ecuador (REBPE) | D35: 45960
A36: Elaborado por: | B36: Carolina Elizabeth Guerrero Terán | C36: Analista del Sistema de Registros Administrativos 2 | D36: 45960
A37: Revisado por: | B37: Marco Fabricio Viteri Ramos | C37: Responsable de Gestión y Responsable Nacional del Componente 6: Aprovechamiento de Registros Administrativos para la Producción Estadística | D37: 45960
A38: Revisado por: | B38: Angel Geovanny Chiluisa Velasco | C38: Responsable Gestión de Transformación e Integración de Registros Administrativos | D38: 45960
A39: Aprobado por: | B39: Diego Paul Benavides Mosquera | C39: Dirección de Registros Administrativos | D39: 45960
A41: CONTROL E HISTORIAL DE VERSIONES
A43: Versión | B43: Descripción | C43: Fecha
A44: Versión 1.0 | B44: Creación del documento | C44: 45922

Sheet Clasificador_prov_res
B2: La presente pestaña tiene por objeto documentar de forma estandarizada los clasificadores oficiales empleados en la operación estadística, sean nacionales o adaptaciones de clasificadores internacionales.
B3: DATOS GENERALES
B5: Nombre del clasificador: | C5: Clasificador Geográfico Estadístico 2023
B6: Siglas del clasificador: | C6: DPA 2023
B7: Tipo de clasificador: | C7: Oficial Nacional
B8: Variable(s) que lo utiliza(n): | C8: prov_res
B9: Nivel de desagregación usado: | C9: 2 dígitos
B11: Código | C11: Etiqueta
B12: 01 | C12: AZUAY
B13: 02 | C13: BOLIVAR
B14: 03 | C14: CAÑAR
B15: 04 | C15: CARCHI
B16: 05 | C16: COTOPAXI
B17: 06 | C17: CHIMBORAZO
... B37: 99 | C37: NO REGISTRA

Sheet Clasificador_prov_nac
B2: La presente pestaña tiene por objeto documentar de forma estandarizada los clasificadores oficiales empleados en la operación estadística, sean nacionales o adaptaciones de clasificadores internacionales.
B3: DATOS GENERALES
B5: Nombre del clasificador: | C5: Clasificador Geográfico Estadístico 2023
B6: Siglas del clasificador: | C6: DPA 2023
B7: Tipo de clasificador: | C7: Oficial Nacional
B8: Variable(s) que lo utiliza(n): | C8: prov_nac
B9: Nivel de desagregación usado: | C9: 2 dígitos
B11: Código | C11: Etiqueta
B12: 01 | C12: AZUAY
B13: 02 | C13: BOLIVAR
B14: 03 | C14: CAÑAR
B15: 04 | C15: CARCHI
B16: 05 | C16: COTOPAXI
B17: 06 | C17: CHIMBORAZO
... B38: 99 | C38: NO REGISTRA

Sheet Clasificador_3
B2: La presente pestaña tiene por objeto documentar de forma estandarizada los clasificadores oficiales empleados en la operación estadística, sean nacionales o adaptaciones de clasificadores internacionales. Es responsabilidad del equipo técnico registrar con precisión cada clasificador referenciado en el diccionario de variables.
B3: DATOS GENERALES
B5: Nombre del clasificador: | C5: <<Ejemplo: Clasificador Geográfico Estadístico 2019<<
B6: Siglas del clasificador: | C6: <<Ejemplo: DPA 2019<<
B7: Tipo de clasificador: | C7: <<Ejemplo: Oficial Nacional / Oficial Internacional / Adaptado<<
B8: Variable(s) que lo utiliza(n): | C8: <<provincia / cantón / parroquia<<
B9: Nivel de desagregación usado: | C9: <<Ejemplo: 2 dígitos / 4 dígitos <<
B11: Código | C11: Etiqueta
B12: 01 | C12: AZUAY
B13: 02 | C13: BOLIVAR
B14: 03 | C14: CAÑAR
B15: 04 | C15: CARCHI
B16: 05 | C16: COTOPAXI
B17: 06 | C17: CHIMBORAZO
... B35: 24 | C35: SANTA ELENA
B36: 90 | C36: ZONAS NO DELIMITADAS

Sheet Validaciones
A1: TIPO VARIABLES | B1: ORIGEN DE VARIABLES
A2: >>Seleccione ☑<< | B2: >>Seleccione ☑<< | C2: Cadena
A3: Variable identificadora | B3: Principal | C3: Numérico
A4: Variable cuantitativa discreta | B4: Derivada
A5: Variable cuantitativa continua
A6: Variable cualitativa nominal
A7: Variable cualitativa ordinal
