Workbook

Sheet Instructivo de llenado
B2: El diccionario de variables es una herramienta que permite estandarizar y documentar las variables utilizadas en encuestas, censos, estadísticas basadas en registros administrativos o registros administrativos para mejorar la interpretación de las variables y los datos para los usuarios. El presente instructivo es una guía sobre cómo el productor de estadísticas puede diligenciar el diccionario de variables. Los ejemplos son referenciados de los productos publicados de la Encuesta Nacional de Empleo, Desempleo y Subempleo (ENEMDU).
B4: Campos | C4: Descripciones | D4: Ejemplos
B5: Posición de la variable | C5: Es la ubicación de la variable dentro de la base de datos, es decir el número de la columna contando de izquierda a derecha. | D5: 1, 2, 3 , 4 … etc.
B6: Código de la variable | C6: Es un identificador único que define a una variable, cuyo significado se describe en un lenguaje natural o común dentro de la base de datos. | D6: P2, P3, P4
B7: Nombre de la variable | C7: Es el nombre con el cual se identifica a la variable de acuerdo al marco conceptual y metodológico de la operación estadística o registro administrativo. | D7: P2: Sexo P3: Edad P4: Parentesco
B8: Descripción de la variable | C8: Es el enunciado interrogativo (pregunta en el formulario de la OE) asociado a una variable que permite obtener información relevante sobre la unidad de observación. Nota: para el caso de registros administrativos puede omitirse este campo. | D8: P2: Sexo P3: ¿Cuántos años cumplidos tiene (…)? P4: ¿Qué relación de parentesco tiene (…) con el jefe del hogar?
B9: Categorías / catálogos de la variable | C9: Categorías de la variable: Define los valores que pueden tomar las variables categóricas, mostrando su clasificación e interpretación: → Código: Es un valor numérico o alfanumérico asignado a cada categoría. → Etiqueta: Es la descripción textual asociada a un código, facilitando la interpretación y análisis de los datos. | D9: 1 : Jefe 2 : Cónyuge 3: Hijo ó hija 4: Yerno ó nuera 5: Nieto ó nieta 6: Padres ó suegros 7: Otros parientes 8: Empleado(a) Domestico(a) 9: Otros no parientes
C10: Catálogos de la variable: Es aquel que hace referencia cuando la variable esta asociada al uso de un clasificador oficial, nacional, internacional estandarizado. Nota: En este campo NO se enlistaran los códigos específicos del clasificador, ÚNICAMENTE se deberá registrar el nombre oficial del catálogo o clasificador utilizado. El clasificador deberá ser desarrollo en las pestañas denominadas clasificador_1, clasificador_2, clasificador_3, clasificador. | D10: Clasificador CIIU Rev. 4.0 Clasificador CIUO 08 Clasificador CIE-10 Clasificador DPA 2019
B11: Origen de la variable | C11: Describe los tipos de variables de acuerdo a su origen en la base de datos: → Principal: Son todas las variables que se obtienen directamente de la recolección o recopilación mediante la aplicación de los instrumentos definidos. → Derivada: Son todas las variables construidas o calculadas a partir de las variables originales o de otras variables derivadas mediante operaciones aritméticas o lógicas. | D11: P2: Sexo - Principal P3: Edad - Principal Dominio: Dominios - Derivada
B12: Tipo de variable | C12: Describe la clasificación de variables según la función que cumplen en los instrumentos de recolección/ recopilación: → Variable identificadora: Es aquella que contiene datos para identificar la unidad de observación dentro de la operación estadística, y realizar asociaciones entre distintas bases o fuentes de datos. | D12: Variable identificadora ID_hogar ID_vivienda ID_persona
C13: Variable cuantitativa: Es un tipo de variable que representa una cantidad o medida numérica asociada a una unidad de análisis. Estas variables permiten realizar operaciones aritméticas y estadísticas. → Variable cuantitativa discreta: Es aquella variable que toma valores enteros, por ejemplo número de hijos, número de cuartos, número de empleados, entre otros. → Variable cuantitativa continua: Es aquella variable que toma cualquier valor dentro de un intervalo, incluyendo decimales, por ejemplo: ingresos, peso, fechas, entre otras. | D13: Variable Cuantitativa discreta P50 - Número de trabajos P3 - Edad Variable Cuantitativa continua INGPC - Ingreso per cápita Periodo Mes
C14: Variable cualitativa: Es un tipo de variable que expresa atributos, categorías o cualidades no numéricas de una unidad de análisis, su valor no se mide numéricamente, sino que representan una clasificación. → Variable cualitativa nominal: Es aquella variable donde las categorías no siguen un orden lógico, por ejemplo: estado civil, sexo, material de la vivienda, entre otros. → Variable cualitativa ordinal: Es aquella variable donde las categorías siguen un orden lógico por ejemplo: nivel educativo, percepción de la satisfacción, entre otros. | D14: Variable cualitativa nominal P7 - Asiste a clases Clasificadores: CIIU, CIUO, CIE10, DPA. Variable cualitativa ordinal Nivel de instrucción Estratos Nivel de satisfacción
B15: Formato del dato* | C15: Describe la clasificación de variables según la función que cumplen en la base de datos: → Cadena: Es aquel que almacena secuencias de caracteres alfabéticos, numéricos o mixtos, sin valor numérico en sí mismo. Este tipo de datos incluye texto libre (string), códigos alfanuméricos, y otros elementos simbólicos como identificadores y clasificaciones. Permite realizar operaciones de conteo, agrupación, ordenamiento alfabético, búsqueda de patrones o comparaciones categóricas. → Numérico: Es aquel que representa cantidades o valores medibles, y permite realizar operaciones aritméticas o estadísticas como suma, resta, promedio, entre otros. Incluye números enteros, decimales o valores temporales (fechas) que pueden ser tratados cuantitativamente en términos de duración. | D15: Cadena UPM: 10150000304 Prov: 1, 2, 3, 4, 5 , … ram1: Rama de Actividad CIIU Numérico Ingreso laboral: 100, 200, 300, etc. Ingreso por cápita: 110,12, 335, 24, etc. Horas de trabajo principal: 6, 8, 12, etc.
B16: Longitud del dato | C16: Especifica la cantidad máxima de caracteres que contiene o almacena una variable. La longitud puede estar determinada por la respuesta a la pregunta o especificación que da origen al contenido de la variable.
B17: Valor mínimo** | C17: Es el valor mínimo que registra la variable dentro de la base de datos. Aplica únicamente cuando las variables tienen formato de datos numérico. | D17: Edad (P3): 0 Números de trabajos (P50): 1
B18: Valor máximo** | C18: Es el valor máximo que registra la variable dentro de la base de datos. Aplica únicamente cuando las variables tienen formato de datos numérico. | D18: Edad (P3): 98 Números de trabajos (P50): 2
B19: * Este campo contiene los tipos de datos de una variable agrupados en dos grandes grupos: cadena y numérico, los cuales también integran los tipos de datos referenciados en el diccionario de datos disponible en: https://www.ecuadorencifras.gob.ec/documentos/web-inec/Sistema_Estadistico_Nacional/Normativas_y_Estandares/Formato_Diccionario_de_Datos_Tecnico.xlsx. Los datos de tipo cadena incluyen los formatos char, string y bolean (SI/NO), los cuales permiten agrupar variables que contienen texto, códigos alfanuméricos o categorías representadas por caracteres (clasificadores), y no permiten realizar operaciones aritméticas, este tipo de datos son utilizados para clasificación, identificación o etiquetado. Las operaciones típicas son conteo de frecuencias, clasificación, agrupación, concatenación, búsqueda de patrones, orden alfabético, entre otros. Los datos de tipo numérico incluyen los formatos integer, float y double, los cuales incluyen valores enteros, decimales y fechas, y permiten realizar operaciones matemáticas y análisis estadísticos. Las operaciones frecuentemente empleadas son promedio, desviación estándar, comparaciones (mayor/menor), diferencias de fechas (duración), percentiles y rangos.
B20: ** Ejemplos basados en la Encuesta Nacional de Empleo, Desempleo y Subempleo (ENEMDU)mensual del periodo de marzo de 2025.
B21: Consideraciones del versionamiento El versionamiento del diccionario de variables es un proceso esencial para garantizar la trazabilidad, control de cambios y consistencia documental en el desarrollo de la operación estadística o registro administrativo. Cada vez que se produce una modificación estructural, semántica o técnica en alguna de las variables, clasificadores o metadatos, debe generarse una nueva versión del diccionario, la cual debe seguir una nomenclatura estructurada (por ejemplo, v1.0, v1.1, v2.0) y registrar la siguiente información: fecha de modificación, responsable técnico del cambio, descripción del ajuste realizado y justificación del cambio. Se recomienda aplicar versionamiento en los siguientes casos: → Inclusión o eliminación de variables del instrumento estadístico. → Cambio en el nombre, definición, formato, tipo o dominio de una variable. → Sustitución o actualización del clasificador utilizado (por versión oficial o adaptación). → Cambios en la estructura de los tipos de datos, formatos o unidades de análisis. → Revisión del documento por parte de autoridades metodológicas o equipos técnicos
B22: Referencias bibliográficas ISO/IEC 11179-3:2013. Metadata registros — Parte 3: Registry metamodel and basic attributes. Geneva: ISO. UNECE. (2013). Generic Statistical Information Model (GSIM): Specification. https://statswiki.unece.org/display/GSIM OECD. (2017). OECD Quality Framework and Metadata Guidelines. https://www.oecd.org/sdd/metadata.htm OPS. (2022). PAHO Core Data Portal: Data Dictionary. Washington, DC. DANE. (2018). Lineamientos para la documentación de variables. Bogotá, Colombia. Peña, D. (2002). Fundamentos de estadística. Madrid: Alianza Editorial. Referencia clave sobre los tipos de variables y escalas de medición (nominal, ordinal, intervalo, razón). United Nations Statistical Division (UNSD). (2007). Handbook on Statistical Metadata (Metadata Common Vocabulary). https://unstats.un.org/unsd/publication/seriesf/seriesf_86e.pdf Peña, D. (2002). Fundamentos de Estadística – Diferencia entre tipos de variables y operaciones posibles según su escala. ISO/IEC 11179-3:2013. Metadata registres — Registry metamodel and basic attributes. Geneva: ISO. Define el uso de meta información para identificar versiones y cambios en estructuras de datos y dominios de valores. UNECE. (2013). Generic Statistical Information Model (GSIM): Specification. Establece que toda modificación en variables, representaciones o clasificadores debe gestionarse mediante mecanismos de versionamiento controlado. https://statswiki.unece.org/display/GSIM INEGI. (2020). Normas técnicas para metadatos estadísticos. México. Incluye lineamientos sobre control de versiones en fichas técnicas de variables y clasificadores. DANE. (2018). Lineamientos para la documentación de variables. Bogotá: Departamento Administrativo Nacional de Estadística. Establece cuándo deben actualizarse los documentos técnicos y cómo registrar cada cambio en una hoja de control de versiones.

Sheet Diccionario
A3: Nombre de la entidad | C3: Instituto Nacional De Estadísticas y Censos INEC
A4: Nombre de la operación estadística / registro administrativo | C4: Encuesta Nacional de Condiciones de Vida de la Población LGBTI+
A5: Período de referencia recolección/ recopilados | C5: Octure - Noviembre 2025
A6: Número de variables | C6: 525
A7: Nombre de la base de datos o base de datos asociada | C7: Reporte "Base General"
A8: Número de registros | C8: 6657
A11: ⬇️ Manual | B11: ⬇️ Manual | C11: ⬇️ Manual | D11: ⬇️ Manual | E11: ⬇️ Manual | F11: ⬇️ Seleccionar | G11: ⬇️ Seleccionar | H11: ⬇️ Automático | I11: ⬇️ Manual | J11: ⬇️ Manual | K11: ⬇️ Manual
A12: Posición de la variable | B12: Código de la variable | C12: Nombre de la variable | D12: Descripción de la variable | E12: Categorías / catálogos de la variable | F12: Origen de la variable | G12: Tipo de variable | H12: Formato del dato | I12: Longitud del dato | J12: Valor mínimo | K12: Valor máximo
A13: <<Ingresar la posición de la variable en la base de datos>> | B13: <<Ingresar el código de la variable>> | C13: <<Ingresar el nombre de la variable>> | D13: <<Ingresar la descripción de la variable> | E13: <<Ingresar los códigos y etiquetas de la variable, en caso de catálogos colocar el nombre del clasificador empleado>> | F13: <<Seleccionar el origen de la variable> | G13: <<Seleccionar el tipo de variable>> | H13: <<Indicar el formato de los datos que contiene la variable>> | I13: <<Ingresar la cantidad máxima de caracteres que contiene la variable> | J13: <<Según la base de datos indicar el rango mínimo si el formato de dato es numérico>> | K13: <<Según la base de datos indicar el rango máximo si el formato de dato es numérico>>
A14: 1 | B14: prov | C14: Ubicación Geográfica Provincia | D14: 1. Povincia | E14: Anexo listado de Provincias del Ecuador y Países | F14: Principal | G14: Variable cualitativa nominal | H14: Cadena | I14: 2 | J14: =IF(OR(G14=[1]Validaciones!$A$4,G14=[1]Validaciones!$A$5),"Ingrese el dato","No aplica") -> No aplica | K14: =IF(OR(G14=[1]Validaciones!$A$4,G14=[1]Validaciones!$A$5),"Ingrese el dato","No aplica") -> No aplica
A15: 2 | B15: descripcion_provincia | C15: Descripción Provincia | E15: Anexo listado de Provincias del Ecuador y Países | F15: Principal | G15: Variable cualitativa nominal | H15: Cadena | I15: 50 | J15: =IF(OR(G15=[1]Validaciones!$A$4,G15=[1]Validaciones!$A$5),"Ingrese el dato","No aplica") -> No aplica | K15: =IF(OR(G15=[1]Validaciones!$A$4,G15=[1]Validaciones!$A$5),"Ingrese el dato","No aplica") -> No aplica
A16: 3 | B16: cant | C16: Ubicación Geográfica Cantón | D16: 2. Cantón | E16: Anexo listado de Provincias del Ecuador y Países | F16: Principal | G16: Variable cualitativa nominal | H16: Cadena | I16: 2 | J16: =IF(OR(G16=[1]Validaciones!$A$4,G16=[1]Validaciones!$A$5),"Ingrese el dato","No aplica") -> No aplica | K16: =IF(OR(G16=[1]Validaciones!$A$4,G16=[1]Validaciones!$A$5),"Ingrese el dato","No aplica") -> No aplica
A17: 4 | B17: descant | C17: Descripción Cantón | E17: Anexo listado de Provincias del Ecuador y Países | F17: Principal | G17: Variable cualitativa nominal | H17: Cadena | I17: 50 | J17: =IF(OR(G17=[1]Validaciones!$A$4,G17=[1]Validaciones!$A$5),"Ingrese el dato","No aplica") -> No aplica | K17: =IF(OR(G17=[1]Validaciones!$A$4,G17=[1]Validaciones!$A$5),"Ingrese el dato","No aplica") -> No aplica
A18: 5 | B18: parr | C18: Ubicación Geográfica Parroquia | D18: 3. Parroquia | E18: Anexo listado de Provincias del Ecuador y Países | F18: Principal | G18: Variable cualitativa nominal | H18: Cadena | I18: 2 | J18: =IF(OR(G18=[1]Validaciones!$A$4,G18=[1]Validaciones!$A$5),"Ingrese el dato","No aplica") -> No aplica | K18: =IF(OR(G18=[1]Validaciones!$A$4,G18=[1]Validaciones!$A$5),"Ingrese el dato","No aplica") -> No aplica
A19: 6 | B19: desparr | C19: Descripción Parroquia | E19: Anexo listado de Provincias del Ecuador y Países | F19: Principal | G19: Variable cualitativa nominal | H19: Cadena | I19: 50 | J19: =IF(OR(G19=[1]Validaciones!$A$4,G19=[1]Validaciones!$A$5),"Ingrese el dato","No aplica") -> No aplica | K19: =IF(OR(G19=[1]Validaciones!$A$4,G19=[1]Validaciones!$A$5),"Ingrese el dato","No aplica") -> No aplica
A20: 7 | B20: parurb | C20: Ubicación Geográfica Parroquia Urbana | E20: Anexo listado de Provincias del Ecuador y Países | F20: Principal | G20: Variable cualitativa nominal | H20: Cadena | I20: 2 | J20: =IF(OR(G20=[1]Validaciones!$A$4,G20=[1]Validaciones!$A$5),"Ingrese el dato","No aplica") -> No aplica | K20: =IF(OR(G20=[1]Validaciones!$A$4,G20=[1]Validaciones!$A$5),"Ingrese el dato","No aplica") -> No aplica
A21: 8 | B21: desparurb | C21: Descripción Parroquia Urbana | E21: Anexo listado de Provincias del Ecuador y Países | F21: Principal | G21: Variable cualitativa nominal | H21: Cadena | I21: 50 | J21: =IF(OR(G21=[1]Validaciones!$A$4,G21=[1]Validaciones!$A$5),"Ingrese el dato","No aplica") -> No aplica | K21: =IF(OR(G21=[1]Validaciones!$A$4,G21=[1]Validaciones!$A$5),"Ingrese el dato","No aplica") -> No aplica
A22: 9 | B22: semilla | C22: Còdigo semilla | D22: Cod. Semilla | F22: Principal | G22: Variable identificadora | H22: Cadena | I22: 7 | J22: =IF(OR(G22=[1]Validaciones!$A$4,G22=[1]Validaciones!$A$5),"Ingrese el dato","No aplica") -> No aplica | K22: =IF(OR(G22=[1]Validaciones!$A$4,G22=[1]Validaciones!$A$5),"Ingrese el dato","No aplica") -> No aplica
A23: 10 | B23: id_formulario_unico | C23: Código Identificación formulario único | F23: Principal | G23: Variable identificadora | H23: Cadena | I23: 22 | J23: =IF(OR(G23=[1]Validaciones!$A$4,G23=[1]Validaciones!$A$5),"Ingrese el dato","No aplica") -> No aplica | K23: =IF(OR(G23=[1]Validaciones!$A$4,G23=[1]Validaciones!$A$5),"Ingrese el dato","No aplica") -> No aplica
A24: 11 | B24: quien_refiere_unico | C24: Código Identificación formulario de quien refiere unico | D24: Código de quien le refiere | F24: Principal | G24: Variable identificadora | H24: Cadena | I24: 22 | J24: =IF(OR(G24=[1]Validaciones!$A$4,G24=[1]Validaciones!$A$5),"Ingrese el dato","No aplica") -> No aplica | K24: =IF(OR(G24=[1]Validaciones!$A$4,G24=[1]Validaciones!$A$5),"Ingrese el dato","No aplica") -> No aplica
A25: 12 | B25: ola | C25: Nùmero de ola del formulario | F25: Principal | G25: Variable cuantitativa discreta | H25: Cadena | I25: =IF(OR(G25=[1]Validaciones!$A$6,G25=[1]Validaciones!$A$7),"Ingrese el dato",IF(G25=[1]Validaciones!$A$3,"Ingrese el dato","No aplica")) -> No aplica | J25: 0 | K25: 20
A26: 13 | B26: resultado_entrevista | C26: Resultado de la entrevista | D26: B. Resultado de la entrevista | E26: 1-Completa 2-Incompleta 3-Rechazo (fin de la entrevista) 4-Persona no ubicada (fin de la entrevista) | F26: Principal | G26: Variable cualitativa nominal | H26: Cadena | I26: 1 | J26: =IF(OR(G26=[1]Validaciones!$A$4,G26=[1]Validaciones!$A$5),"Ingrese el dato","No aplica") -> No aplica | K26: =IF(OR(G26=[1]Validaciones!$A$4,G26=[1]Validaciones!$A$5),"Ingrese el dato","No aplica") -> No aplica
A27: 14 | B27: s01_p01a | C27: Vive con - Pareja | D27: ¿Actualmente usted vive con: Pareja? | E27: 1. SI 2. NO | F27: Principal | G27: Variable cualitativa nominal | H27: =IF(G27=Validaciones!$A$3,Validaciones!$C$2,IF(OR(G27=Validaciones!$A$4,G27=Validaciones!$A$5),Validaciones!$C$3,IF(OR(G27=Validaciones!$A$6,G27=Validaciones!$A$7),Validaciones!$C$2,"Seleccione el tipo de variable"))) -> Cadena | I27: 1 | J27: =IF(OR(G27=[1]Validaciones!$A$4,G27=[1]Validaciones!$A$5),"Ingrese el dato","No aplica") -> No aplica | K27: =IF(OR(G27=[1]Validaciones!$A$4,G27=[1]Validaciones!$A$5),"Ingrese el dato","No aplica") -> No aplica
A28: 15 | B28: s01_p01b | C28: Vive con - Amigas/os | D28: ¿Actualmente usted vive con: Amigas/os? | E28: 1. SI 2. NO | F28: Principal | G28: Variable cualitativa nominal | H28: =IF(G28=Validaciones!$A$3,Validaciones!$C$2,IF(OR(G28=Validaciones!$A$4,G28=Validaciones!$A$5),Validaciones!$C$3,IF(OR(G28=Validaciones!$A$6,G28=Validaciones!$A$7),Validaciones!$C$2,"Seleccione el tipo de variable"))) -> Cadena | I28: 1 | J28: =IF(OR(G28=[1]Validaciones!$A$4,G28=[1]Validaciones!$A$5),"Ingrese el dato","No aplica") -> No aplica | K28: =IF(OR(G28=[1]Validaciones!$A$4,G28=[1]Validaciones!$A$5),"Ingrese el dato","No aplica") -> No aplica
A29: 16 | B29: s01_p01c | C29: Vive con - Esposa/o | D29: ¿Actualmente usted vive con: Esposa/o? | E29: 1. SI 2. NO | F29: Principal | G29: Variable cualitativa nominal | H29: =IF(G29=Validaciones!$A$3,Validaciones!$C$2,IF(OR(G29=Validaciones!$A$4,G29=Validaciones!$A$5),Validaciones!$C$3,IF(OR(G29=Validaciones!$A$6,G29=Validaciones!$A$7),Validaciones!$C$2,"Seleccione el tipo de variable"))) -> Cadena | I29: 1 | J29: =IF(OR(G29=[1]Validaciones!$A$4,G29=[1]Validaciones!$A$5),"Ingrese el dato","No aplica") -> No aplica | K29: =IF(OR(G29=[1]Validaciones!$A$4,G29=[1]Validaciones!$A$5),"Ingrese el dato","No aplica") -> No aplica
A30: 17 | B30: s01_p01d | C30: Vive con - Hijas/os | D30: ¿Actualmente usted vive con: Hijas/os? | E30: 1. SI 2. NO | F30: Principal | G30: Variable cualitativa nominal | H30: =IF(G30=Validaciones!$A$3,Validaciones!$C$2,IF(OR(G30=Validaciones!$A$4,G30=Validaciones!$A$5),Validaciones!$C$3,IF(OR(G30=Validaciones!$A$6,G30=Validaciones!$A$7),Validaciones!$C$2,"Seleccione el tipo de variable"))) -> Cadena | I30: 1 | J30: =IF(OR(G30=[1]Validaciones!$A$4,G30=[1]Validaciones!$A$5),"Ingrese el dato","No aplica") -> No aplica | K30: =IF(OR(G30=[1]Validaciones!$A$4,G30=[1]Validaciones!$A$5),"Ingrese el dato","No aplica") -> No aplica
A31: 18 | B31: s01_p01e | C31: Vive con - Padre y/o madre | D31: ¿Actualmente usted vive con: Padre y/o madre? | E31: 1. SI 2. NO | F31: Principal | G31: Variable cualitativa nominal | H31: =IF(G31=Validaciones!$A$3,Validaciones!$C$2,IF(OR(G31=Validaciones!$A$4,G31=Validaciones!$A$5),Validaciones!$C$3,IF(OR(G31=Validaciones!$A$6,G31=Validaciones!$A$7),Validaciones!$C$2,"Seleccione el tipo de variable"))) -> Cadena | I31: 1 | J31: =IF(OR(G31=[1]Validaciones!$A$4,G31=[1]Validaciones!$A$5),"Ingrese el dato","No aplica") -> No aplica | K31: =IF(OR(G31=[1]Validaciones!$A$4,G31=[1]Validaciones!$A$5),"Ingrese el dato","No aplica") -> No aplica
A32: 19 | B32: s01_p01f | C32: Vive con - Otros familiares | D32: ¿Actualmente usted vive con: Otros familiares? | E32: 1. SI 2. NO | F32: Principal | G32: Variable cualitativa nominal | H32: =IF(G32=Validaciones!$A$3,Validaciones!$C$2,IF(OR(G32=Validaciones!$A$4,G32=Validaciones!$A$5),Validaciones!$C$3,IF(OR(G32=Validaciones!$A$6,G32=Validaciones!$A$7),Validaciones!$C$2,"Seleccione el tipo de variable"))) -> Cadena | I32: 1 | J32: =IF(OR(G32=[1]Validaciones!$A$4,G32=[1]Validaciones!$A$5),"Ingrese el dato","No aplica") -> No aplica | K32: =IF(OR(G32=[1]Validaciones!$A$4,G32=[1]Validaciones!$A$5),"Ingrese el dato","No aplica") -> No aplica
A33: 20 | B33: s01_p01g | C33: Vive con - Otros no familiares | D33: ¿Actualmente usted vive con: Otros no familiares? | E33: 1. SI 2. NO | F33: Principal | G33: Variable cualitativa nominal | H33: =IF(G33=Validaciones!$A$3,Validaciones!$C$2,IF(OR(G33=Validaciones!$A$4,G33=Validaciones!$A$5),Validaciones!$C$3,IF(OR(G33=Validaciones!$A$6,G33=Validaciones!$A$7),Validaciones!$C$2,"Seleccione el tipo de variable"))) -> Cadena | I33: 1 | J33: =IF(OR(G33=[1]Validaciones!$A$4,G33=[1]Validaciones!$A$5),"Ingrese el dato","No aplica") -> No aplica | K33: =IF(OR(G33=[1]Validaciones!$A$4,G33=[1]Validaciones!$A$5),"Ingrese el dato","No aplica") -> No aplica
A34: 21 | B34: s01_p01h | C34: Vive con - Sola/o | D34: ¿Actualmente usted vive con: Sola/o? | E34: 1. SI 2. NO | F34: Principal | G34: Variable cualitativa nominal | H34: =IF(G34=Validaciones!$A$3,Validaciones!$C$2,IF(OR(G34=Validaciones!$A$4,G34=Validaciones!$A$5),Validaciones!$C$3,IF(OR(G34=Validaciones!$A$6,G34=Validaciones!$A$7),Validaciones!$C$2,"Seleccione el tipo de variable"))) -> Cadena | I34: 1 | J34: =IF(OR(G34=[1]Validaciones!$A$4,G34=[1]Validaciones!$A$5),"Ingrese el dato","No aplica") -> No aplica | K34: =IF(OR(G34=[1]Validaciones!$A$4,G34=[1]Validaciones!$A$5),"Ingrese el dato","No aplica") -> No aplica
A35: 22 | B35: s01_p02 | C35: Habitualmente. | D35: Habitualmente. ¿Usted vive en una: | E35: 1- Vivienda particular (casa, departamento, cuarto de inquilinato, etc.)? 2- Vivienda colectiva (Hotel, pensión, residencial u hostal, etc.)? 3-Otro, ¿Cuál? (Especifique) | F35: Principal | G35: Variable cualitativa nominal | H35: =IF(G35=Validaciones!$A$3,Validaciones!$C$2,IF(OR(G35=Validaciones!$A$4,G35=Validaciones!$A$5),Validaciones!$C$3,IF(OR(G35=Validaciones!$A$6,G35=Validaciones!$A$7),Validaciones!$C$2,"Seleccione el tipo de variable"))) -> Cadena | I35: 1 | J35: =IF(OR(G35=[1]Validaciones!$A$4,G35=[1]Validaciones!$A$5),"Ingrese el dato","No aplica") -> No aplica | K35: =IF(OR(G35=[1]Validaciones!$A$4,G35=[1]Validaciones!$A$5),"Ingrese el dato","No aplica") -> No aplica
A36: 23 | B36: s01_p02c | C36: Usted vive en una - Otro | D36: ¿Usted vive en una: Otro, ¿Cuál? (Especifique) | F36: Principal | G36: Variable cualitativa nominal | H36: =IF(G36=Validaciones!$A$3,Validaciones!$C$2,IF(OR(G36=Validaciones!$A$4,G36=Validaciones!$A$5),Validaciones!$C$3,IF(OR(G36=Validaciones!$A$6,G36=Validaciones!$A$7),Validaciones!$C$2,"Seleccione el tipo de variable"))) -> Cadena | I36: 200 | J36: =IF(OR(G36=[1]Validaciones!$A$4,G36=[1]Validaciones!$A$5),"Ingrese el dato","No aplica") -> No aplica | K36: =IF(OR(G36=[1]Validaciones!$A$4,G36=[1]Validaciones!$A$5),"Ingrese el dato","No aplica") -> No aplica
A37: 24 | B37: s01_p03 | C37: La vivienda que usted ocupa es | D37: ¿La vivienda que usted ocupa es: | E37: 1-Propia? 2-Arrendada? 3. Prestada 4. Por servicios | F37: Principal | G37: Variable cualitativa nominal | H37: =IF(G37=Validaciones!$A$3,Validaciones!$C$2,IF(OR(G37=Validaciones!$A$4,G37=Validaciones!$A$5),Validaciones!$C$3,IF(OR(G37=Validaciones!$A$6,G37=Validaciones!$A$7),Validaciones!$C$2,"Seleccione el tipo de variable"))) -> Cadena | I37: 1 | J37: =IF(OR(G37=[1]Validaciones!$A$4,G37=[1]Validaciones!$A$5),"Ingrese el dato","No aplica") -> No aplica | K37: =IF(OR(G37=[1]Validaciones!$A$4,G37=[1]Validaciones!$A$5),"Ingrese el dato","No aplica") -> No aplica
A38: 25 | B38: s01_p04 | C38: Tipo de vivienda | D38: ¿Su tipo de vivienda es: | E38: 1-Casa / villa? 2-Departamento en casa o edificio? 3-Cuarto/s en casa de inquilinato? 4-Mediagua? 5-Rancho? 6-Covacha? 7-Choza? 8-Otra vivienda particular? | F38: Principal | G38: Variable cualitativa nominal | H38: =IF(G38=Validaciones!$A$3,Validaciones!$C$2,IF(OR(G38=Validaciones!$A$4,G38=Validaciones!$A$5),Validaciones!$C$3,IF(OR(G38=Validaciones!$A$6,G38=Validaciones!$A$7),Validaciones!$C$2,"Seleccione el tipo de variable"))) -> Cadena | I38: 1 | J38: =IF(OR(G38=[1]Validaciones!$A$4,G38=[1]Validaciones!$A$5),"Ingrese el dato","No aplica") -> No aplica | K38: =IF(OR(G38=[1]Validaciones!$A$4,G38=[1]Validaciones!$A$5),"Ingrese el dato","No aplica") -> No aplica
A39: 26 | B39: s01_p05 | C39: El material predominante del piso de la vivienda es de | D39: ¿El material predominante del piso de la vivienda es de: | E39: 1-Duela, parquet, tablón o piso flotante? 2-Cerámica, baldosa, vinil o porcelanato? 3-Mármol o marmetón? 4-Ladrillo o cemento? 5-Tabla/ tablón no tratado? 6-Caña sin tratar? 7-Tierra? 8-Otro, ¿Cuál? (Especifique) | F39: Principal | G39: Variable cualitativa nominal | H39: =IF(G39=Validaciones!$A$3,Validaciones!$C$2,IF(OR(G39=Validaciones!$A$4,G39=Validaciones!$A$5),Validaciones!$C$3,IF(OR(G39=Validaciones!$A$6,G39=Validaciones!$A$7),Validaciones!$C$2,"Seleccione el tipo de variable"))) -> Cadena | I39: 1 | J39: =IF(OR(G39=[1]Validaciones!$A$4,G39=[1]Validaciones!$A$5),"Ingrese el dato","No aplica") -> No aplica | K39: =IF(OR(G39=[1]Validaciones!$A$4,G39=[1]Validaciones!$A$5),"Ingrese el dato","No aplica") -> No aplica
A40: 27 | B40: s01_p05c | C40: Cuál es el otro material predominante del piso de la vivienda - Otro | D40: ¿El material predominante del piso de la vivienda es de: Otro, ¿Cuál? (Especifique) | F40: Principal | G40: Variable cualitativa nominal | H40: =IF(G40=Validaciones!$A$3,Validaciones!$C$2,IF(OR(G40=Validaciones!$A$4,G40=Validaciones!$A$5),Validaciones!$C$3,IF(OR(G40=Validaciones!$A$6,G40=Validaciones!$A$7),Validaciones!$C$2,"Seleccione el tipo de variable"))) -> Cadena | I40: 200 | J40: =IF(OR(G40=[1]Validaciones!$A$4,G40=[1]Validaciones!$A$5),"Ingrese el dato","No aplica") -> No aplica | K40: =IF(OR(G40=[1]Validaciones!$A$4,G40=[1]Validaciones!$A$5),"Ingrese el dato","No aplica") -> No aplica
A41: 28 | B41: s01_p06 | C41: El agua que recibe la vivienda es | D41: ¿El agua que recibe la vivienda es: | E41: 1-Por tubería, dentro de la vivienda? 2-Por tubería, fuera de la vivienda, pero dentro del edificio, lote o terreno? 3-Por tubería fuera del edificio, lote o terreno? 4-No recibe agua por tubería, sino por otros medios? | F41: Principal | G41: Variable cualitativa nominal | H41: =IF(G41=Validaciones!$A$3,Validaciones!$C$2,IF(OR(G41=Validaciones!$A$4,G41=Validaciones!$A$5),Validaciones!$C$3,IF(OR(G41=Validaciones!$A$6,G41=Validaciones!$A$7),Validaciones!$C$2,"Seleccione el tipo de variable"))) -> Cadena | I41: 1 | J41: =IF(OR(G41=[1]Validaciones!$A$4,G41=[1]Validaciones!$A$5),"Ingrese el dato","No aplica") -> No aplica | K41: =IF(OR(G41=[1]Validaciones!$A$4,G41=[1]Validaciones!$A$5),"Ingrese el dato","No aplica") -> No aplica
A42: 29 | B42: s01_p07 | C42: Principalmente, ¿el agua que recibe la vivienda proviene o es | D42: Principalmente, ¿el agua que recibe la vivienda proviene o es suministrada por: | E42: 1-Empresa Pública/Municipio? 2-Juntas de Agua/Organizaciones Comunitarias/GAD parroquial 3-Pozo? 4-Carro o tanquero repartidor? 5-Otras fuentes (río, vertiente, acequia, canal, grieta, lluvia, etc.)? | F42: Principal | G42: Variable cualitativa nominal | H42: =IF(G42=Validaciones!$A$3,Validaciones!$C$2,IF(OR(G42=Validaciones!$A$4,G42=Validaciones!$A$5),Validaciones!$C$3,IF(OR(G42=Validaciones!$A$6,G42=Validaciones!$A$7),Validaciones!$C$2,"Seleccione el tipo de variable"))) -> Cadena | I42: 1 | J42: =IF(OR(G42=[1]Validaciones!$A$4,G42=[1]Validaciones!$A$5),"Ingrese el dato","No aplica") -> No aplica | K42: =IF(OR(G42=[1]Validaciones!$A$4,G42=[1]Validaciones!$A$5),"Ingrese el dato","No aplica") -> No aplica
A43: 30 | B43: s01_p08 | C43: El servicio higiénico de la vivienda es | D43: ¿El servicio higiénico de la vivienda es: | E43: 1-Inodoro o escusado conectado a red pública de alcantarillado? 2-Inodoro o escusado conectado a pozo séptico? 3-Inodoro o escusado conectado a biodigestor? 4-Inodoro o escusado conectado a pozo ciego? 5-Inodoro o escusado con descarga directa al mar, río, lago o quebrada? 6-Letrina? 7-No tiene | F43: Principal | G43: Variable cualitativa nominal | H43: =IF(G43=Validaciones!$A$3,Validaciones!$C$2,IF(OR(G43=Validaciones!$A$4,G43=Validaciones!$A$5),Validaciones!$C$3,IF(OR(G43=Validaciones!$A$6,G43=Validaciones!$A$7),Validaciones!$C$2,"Seleccione el tipo de variable"))) -> Cadena | I43: 1 | J43: =IF(OR(G43=[1]Validaciones!$A$4,G43=[1]Validaciones!$A$5),"Ingrese el dato","No aplica") -> No aplica | K43: =IF(OR(G43=[1]Validaciones!$A$4,G43=[1]Validaciones!$A$5),"Ingrese el dato","No aplica") -> No aplica
A44: 31 | B44: s02_p01 | C44: Actualmente con cuántas personas vive, incluido/a usted | D44: ¿Actualmente con cuántas personas vive, incluido/a usted? Número de personas | F44: Principal | G44: Variable cuantitativa discreta | H44: =IF(G44=Validaciones!$A$3,Validaciones!$C$2,IF(OR(G44=Validaciones!$A$4,G44=Validaciones!$A$5),Validaciones!$C$3,IF(OR(G44=Validaciones!$A$6,G44=Validaciones!$A$7),Validaciones!$C$2,"Seleccione el tipo de variable"))) -> Numérico | I44: =IF(OR(G44=[1]Validaciones!$A$6,G44=[1]Validaciones!$A$7),"Ingrese el dato",IF(G44=[1]Validaciones!$A$3,"Ingrese el dato","No aplica")) -> No aplica | J44: 1 | K44: 20
...

Sheet Clasificador_1_Provincias
B2: La presente pestaña tiene por objeto documentar de forma estandarizada los clasificadores oficiales empleados en la operación estadística, sean nacionales o adaptaciones de clasificadores internacionales. Es responsabilidad del equipo técnico registrar con precisión cada clasificador referenciado en el diccionario de variables.
B3: DATOS GENERALES
B5: Nombre del clasificador: | C5: Clasificador Geográfico Estadístico 2025
B6: Siglas del clasificador: | C6: DPA 2025
B7: Tipo de clasificador: | C7: Oficial Nacional
B8: Variable(s) que lo utiliza(n): | C8: Provincia
B9: Nivel de desagregación usado: | C9: 2 dígitos
B11: Código | C11: Etiqueta
B12: 01 | C12: AZUAY
B13: 02 | C13: BOLIVAR
B14: 03 | C14: CAÑAR
B15: 04 | C15: CARCHI
B16: 05 | C16: COTOPAXI
B17: 06 | C17: CHIMBORAZO
... B35: 24 | C35: SANTA ELENA
B36: 90 | C36: ZONAS NO DELIMITADAS

Sheet Clasificador_2_Cantones
B2: La presente pestaña tiene por objeto documentar de forma estandarizada los clasificadores oficiales empleados en la operación estadística, sean nacionales o adaptaciones de clasificadores internacionales. Es responsabilidad del equipo técnico registrar con precisión cada clasificador referenciado en el diccionario de variables.
B3: DATOS GENERALES
B5: Nombre del clasificador: | C5: Clasificador Geográfico Estadístico 2025
B6: Siglas del clasificador: | C6: DPA 2025
B7: Tipo de clasificador: | C7: Oficial Nacional
B8: Variable(s) que lo utiliza(n): | C8: Cantón
B9: Nivel de desagregación usado: | C9: 4 dígitos
B11: Código | C11: Etiqueta
B12: 0101 | C12: CUENCA
B13: 0102 | C13: GIRÓN
B14: 0103 | C14: GUALACEO
B15: 0104 | C15: NABÓN
B16: 0105 | C16: PAUTE
B17: 0106 | C17: PUCARÁ
... B234: 9006 | C234: JUVAL

Sheet Clasificador_3_Parroquias
B2: La presente pestaña tiene por objeto documentar de forma estandarizada los clasificadores oficiales empleados en la operación estadística, sean nacionales o adaptaciones de clasificadores internacionales. Es responsabilidad del equipo técnico registrar con precisión cada clasificador referenciado en el diccionario de variables.
B3: DATOS GENERALES
B5: Nombre del clasificador: | C5: Clasificador Geográfico Estadístico 2025
B6: Siglas del clasificador: | C6: DPA 2025
B7: Tipo de clasificador: | C7: Oficial Nacional
B8: Variable(s) que lo utiliza(n): | C8: Parroquia
B9: Nivel de desagregación usado: | C9: 6 dígitos
B11: Código | C11: Etiqueta
B12: 010150 | C12: CUENCA
B13: 010150 | C13: CUENCA
B14: 010150 | C14: CUENCA
B15: 010150 | C15: CUENCA
B16: 010150 | C16: CUENCA
B17: 010150 | C17: CUENCA
... B1268: 900951 | C1268: SINAÍ-CUCHAENTZA

Sheet Clasificador_4_Paises
B2: La presente pestaña tiene por objeto documentar de forma estandarizada los clasificadores oficiales empleados en la operación estadística, sean nacionales o adaptaciones de clasificadores internacionales. Es responsabilidad del equipo técnico registrar con precisión cada clasificador referenciado en el diccionario de variables.
B3: DATOS GENERALES
B5: Nombre del clasificador: | C5: Códigos Uniformes de Países para Uso Estadístico
B6: Siglas del clasificador: | C6: CÓDIGO DE PAISES
B7: Tipo de clasificador: | C7: Oficial Internacional
B8: Variable(s) que lo utiliza(n): | C8: Países
B9: Nivel de desagregación usado: | C9: 3 dígitos
B11: Código | C11: Etiqueta
B12: 004 | C12: AFGANISTAN
B13: 008 | C13: ALBANIA
B14: 276 | C14: ALEMANIA (UNIDAD ALEMANA)
B15: 020 | C15: ANDORRA
B16: 024 | C16: ANGOLA
B17: 660 | C17: ANGUILA
... B249: 905 | C249: OTRAS NACIONES DE OCEANIA

Sheet Clasificador_CIIU
B2: La presente pestaña tiene por objeto documentar de forma estandarizada los clasificadores oficiales empleados en la operación estadística, sean nacionales o adaptaciones de clasificadores internacionales. Es responsabilidad del equipo técnico registrar con precisión cada clasificador referenciado en el diccionario de variables.
B3: DATOS GENERALES
B5: Nombre del clasificador: | C5: Clasificador CIIU 4.0
B6: Siglas del clasificador: | C6: CIIU 4.0
B7: Tipo de clasificador: | C7: Oficial Nacional
B8: Variable(s) que lo utiliza(n): | C8: Rama de actividad
B9: Nivel de desagregación usado: | C9: 4 dígitos
B11: Código | C11: Etiqueta
B12: 0111 | C12: CULTIVO DE CEREALES (EXCEPTO ARROZ), LEGUMBRES Y SEMILLAS OLEAGINOSAS.
B13: 0112 | C13: CULTIVO DE ARROZ.
B14: 0113 | C14: CULTIVO DE HORTALIZAS Y MELONES, RAÍCES Y TUBÉRCULOS.
B15: 0114 | C15: CULTIVO DE CAÑA DE AZÚCAR.
B16: 0115 | C16: CULTIVO DE TABACO.
B17: 0116 | C17: CULTIVO DE PLANTAS DE FIBRAS.
... B434: 9999 | C434: NO INFORMA

Sheet Clasificador_CIUO
B2: La presente pestaña tiene por objeto documentar de forma estandarizada los clasificadores oficiales empleados en la operación estadística, sean nacionales o adaptaciones de clasificadores internacionales. Es responsabilidad del equipo técnico registrar con precisión cada clasificador referenciado en el diccionario de variables.
B3: DATOS GENERALES
B5: Nombre del clasificador: | C5: Clasificador CIUO 08
B6: Siglas del clasificador: | C6: CIUO 08
B7: Tipo de clasificador: | C7: Adaptado
B8: Variable(s) que lo utiliza(n): | C8: Grupo de ocupación
B9: Nivel de desagregación usado: | C9: 4 dígitos
B11: Código | C11: Etiqueta
B12: 0110 | C12: OFICIALES DE LAS FUERZAS ARMADAS
B13: 0210 | C13: SUBOFICIAL DE LAS FUERZAS ARMADAS
B14: 0310 | C14: OTROS MIEMBROS DE LAS FUERZAS ARMADAS
B15: 1111 | C15: MIEMBROS DEL PODER LEGISLATIVO
B16: 1112 | C16: PERSONAL DIRECTIVO DE LA ADMINISTRACIÓN PÚBLICA
B17: 1113 | C17: JEFES DE PEQUEÑAS POBLACIONES
... B450: 9999 | C450: NO INFORMA

Sheet Validaciones
A1: TIPO VARIABLES | B1: ORIGEN DE VARIABLES
A2: >>Seleccione ☑<< | B2: >>Seleccione ☑<< | C2: Cadena
A3: Variable identificadora | B3: Principal | C3: Numérico
A4: Variable cuantitativa discreta | B4: Derivada
A5: Variable cuantitativa continua
A6: Variable cualitativa nominal
A7: Variable cualitativa ordinal
